{"text_format":"1","workbook":"xlsx","n_sheets":6,"sheets":["Для печати","Фурнитура","Наряд на работу","Деталировка","Расходник","Вводные"],"not_rendered":{"charts":0,"images":2,"macros":1,"external_links":1,"defined_names":6,"comments":0,"pivot_tables":0},"unopened":[],"bounds":{"document_bytes":16777216,"sheet_cells":100000,"rows_first":2000,"rows_last":500,"rows_between":2000,"halvings":0,"cell_chars":16384,"cell_head_chars":4096},"cells_cut":0,"cells_raw":0,"read":"whole","date_system":"1900"}

{"sheet":"Для печати","index":0,"n_rows":59,"n_cols":12,"rows_kept":59,"cut":false,"hidden":false,"merged":[[25,5,25,8],[25,9,25,10],[26,5,26,8],[26,9,26,10],[47,1,47,5],[47,8,47,12],[25,0,25,4],[26,0,26,4],[27,0,27,4],[34,0,34,4],[35,0,35,4],[36,0,36,4],[37,0,37,4],[38,0,38,4],[32,5,32,10],[38,5,38,10],[39,0,42,4],[39,5,39,10],[32,0,32,4],[35,9,35,10],[36,5,36,8],[36,9,36,10],[37,5,37,8],[37,9,37,10],[1,5,1,10],[2,5,2,8],[2,9,2,10],[3,5,3,8],[3,9,3,10],[13,9,13,10],[14,5,14,8],[14,9,14,10],[10,5,10,10],[12,5,12,10],[4,5,4,8],[4,9,4,10],[5,5,5,10],[6,5,6,10],[7,5,7,10],[8,5,8,10],[9,5,9,10],[24,5,24,8],[24,9,24,10],[21,0,21,4],[21,5,21,10],[23,5,23,10],[15,5,15,8],[23,0,23,4],[24,0,24,4],[10,0,10,4],[15,9,15,10],[16,5,16,10],[17,0,20,4],[17,5,17,10],[18,5,18,10],[19,5,19,10],[20,5,20,10],[13,5,13,8],[15,0,15,4],[16,0,16,4],[6,0,9,4],[1,0,1,4],[2,0,2,4],[3,0,3,4],[4,0,4,4],[5,0,5,4],[12,0,12,4],[13,0,13,4],[14,0,14,4],[27,5,27,10],[28,0,31,4],[28,5,28,10],[29,5,29,10],[30,5,30,10],[31,5,31,10],[34,5,34,10],[35,5,35,8],[49,8,49,12],[47,7,58,7],[58,8,58,12],[56,1,56,5],[52,1,52,5],[52,8,52,12],[40,5,40,10],[49,1,49,5],[47,0,58,0],[41,5,41,10],[42,5,42,10],[43,0,43,4],[43,5,43,10],[56,8,56,12],[57,1,57,5],[48,1,48,5],[48,8,48,12],[57,8,57,12],[58,1,58,5],[50,1,51,5],[54,8,54,10],[50,8,51,12],[55,1,55,5],[55,8,55,12],[53,1,53,5],[53,8,53,12],[54,1,54,3],[54,11,54,12],[54,4,54,5]]}
[]
["Россия",null,null,null,null,"по ТО 5600-228200034786-005-2006   ГОСТ 16371-93"]
["Изготовитель: ИП Лукьянчикова В.В.",null,null,null,null,"Дата изготовления",null,null,null,{"$f":"TODAY()","v":"2019-02-13"}]
[" Адрес: Алтайский край, г.Барнаул, ",null,null,null,null,"Цвет",null,null,null,{"$f":"Расходник!B4","v":"БЕЛЫЙ"}]
["ул.Попова 256 г tel (3852) 55-34-67, 55-66-10",null,null,null,null,"Упаковщик",null,null,null,"Гребнев"]
["http://furra.ru",null,null,null,null,"Упаковка __________    Упаковок ____________"]
[{"$f":"Расходник!F1","v":0},null,null,null,null,"Гарантийный срок 24 месяца со дня продажи                 "]
[null,null,null,null,null,"Срок службы 5 лет."]
[null,null,null,null,null,"Условия хранения, транспортировки, эксплуатации:"]
[null,null,null,null,null,"в крытых помещениях при t+2С и относительной"]
["Корпусная мебель",null,null,null,null,"влажности 45-70%"]
[]
["Россия",null,null,null,null,"по ТО 5600-228200034786-005-2006   ГОСТ 16371-93"]
["Изготовитель: ИП Лукьянчикова В.В.",null,null,null,null,"Дата изготовления",null,null,null,{"$f":"J3","v":"2019-02-13"}]
[" Адрес: Алтайский край, г.Барнаул, ",null,null,null,null,"Цвет",null,null,null,{"$f":"J4","v":"БЕЛЫЙ"}]
["ул.Попова 256 г tel (3852) 55-34-67, 55-66-10",null,null,null,null,"Упаковщик",null,null,null,{"$f":"J5","v":"Гребнев"}]
["http://furra.ru",null,null,null,null,"Упаковка __________    Упаковок ____________"]
[{"$f":"A7","v":0},null,null,null,null,"Гарантийный срок 24 месяца со дня продажи                 "]
[null,null,null,null,null,"Срок службы 5 лет."]
[null,null,null,null,null,"Условия хранения, транспортировки, эксплуатации:"]
[null,null,null,null,null,"в крытых помещениях при t+2С и относительной"]
["Корпусная мебель",null,null,null,null,"влажности 45-70%"]
[]
["Россия",null,null,null,null,"по ТО 5600-228200034786-005-2006   ГОСТ 16371-93"]
["Изготовитель: ИП Лукьянчикова В.В.",null,null,null,null,"Дата изготовления",null,null,null,{"$f":"J14","v":"2019-02-13"}]
[" Адрес: Алтайский край, г.Барнаул, ",null,null,null,null,"Цвет",null,null,null,{"$f":"J4","v":"БЕЛЫЙ"}]
["ул.Попова 256 г tel (3852) 55-34-67, 55-66-10",null,null,null,null,"Упаковщик",null,null,null,{"$f":"J16","v":"Гребнев"}]
["http://furra.ru",null,null,null,null,"Упаковка __________    Упаковок ____________"]
[{"$f":"A18","v":0},null,null,null,null,"Гарантийный срок 24 месяца со дня продажи                 "]
[null,null,null,null,null,"Срок службы 5 лет."]
[null,null,null,null,null,"Условия хранения, транспортировки, эксплуатации:"]
[null,null,null,null,null,"в крытых помещениях при t+2С и относительной"]
["Корпусная мебель",null,null,null,null,"влажности 45-70%"]
[]
["Россия",null,null,null,null,"по ТО 5600-228200034786-005-2006   ГОСТ 16371-93"]
["Изготовитель: ИП Лукьянчикова В.В.",null,null,null,null,"Дата изготовления",null,null,null,{"$f":"J25","v":"2019-02-13"}]
[" Адрес: Алтайский край, г.Барнаул, ",null,null,null,null,"Цвет",null,null,null,{"$f":"J15","v":"БЕЛЫЙ"}]
["ул.Попова 256 г tel (3852) 55-34-67, 55-66-10",null,null,null,null,"Упаковщик",null,null,null,{"$f":"J27","v":"Гребнев"}]
["http://furra.ru",null,null,null,null,"Упаковка __________    Упаковок ____________"]
[{"$f":"A29","v":0},null,null,null,null,"Гарантийный срок 24 месяца со дня продажи                 "]
[null,null,null,null,null,"Срок службы 5 лет."]
[null,null,null,null,null,"Условия хранения, транспортировки, эксплуатации:"]
[null,null,null,null,null,"в крытых помещениях при t+2С и относительной"]
["Корпусная мебель",null,null,null,null,"влажности 45-70%"]
[]
[]
[]
["tel (3852)  55-34-67, 55-66-10     http://furra.ru","Россия",null,null,null,null,null,"tel (3852)  55-34-67, 55-66-10     http://furra.ru","Россия"]
[null,"Изготовитель: ИП Лукьянчикова В.В.",null,null,null,null,null,null,"Изготовитель: ИП Лукьянчикова В.В."]
[null," Адрес: Алтайский край, г.Барнаул, ул.Попова, 256г.",null,null,null,null,null,null," Адрес: Алтайский край, г.Барнаул, ул.Попова, 256г."]
[null,{"$f":"A7","v":0},null,null,null,null,null,null,{"$f":"B51","v":0}]
[]
[null,{"$f":"A44","v":"Корпусная мебель"},null,null,null,null,null,null,{"$f":"B53","v":"Корпусная мебель"}]
[null,"по ТО 5600-228200034786-005-2006   ГОСТ 16371-93 ",null,null,null,null,null,null,"по ТО 5600-228200034786-005-2006   ГОСТ 16371-93 "]
[null,"Дата изготовления",null,null,{"$f":"J36","v":"2019-02-13"},null,null,null,"Дата изготовления",null,null,{"$f":"E55","v":"2019-02-13"}]
[null,"Гарантийный срок 24 месяца со дня продажи",null,null,null,null,null,null,"Гарантийный срок 24 месяца со дня продажи"]
[null,"Срок службы 5 лет",null,null,null,null,null,null,"Срок службы 5 лет"]
[null,"Условия хранения, транспортировки, эксплуатации: в крытых",null,null,null,null,null,null,"Условия хранения, транспортировки, эксплуатации: в крытых"]
[null,"помещениях при t+2С и относительной влажности 45-70%",null,null,null,null,null,null,"помещениях при t+2С и относительной влажности 45-70%"]

{"sheet":"Фурнитура","index":1,"n_rows":309,"n_cols":3,"rows_kept":309,"cut":false,"hidden":false,"merged":[]}
["ТМЦ","Примечание","Ед."]
["МАТЕРИАЛЫ"]
["ЛДСП",null,"м2"]
["ЛДСП доп",null,"м2"]
["ЛМДФ мат",null,"м2"]
["ЛМДФ гл",null,"м2"]
["ЛМДФ мет",null,"м2"]
["ДСП",null,"м2"]
["ДВПО",null,"м2"]
["ДВП",null,"м2"]
["Столешница",null,"м/п"]
["Стеновая панель",null,"м/п"]
["Оргалит",null,"м2"]
["Зеркало",null,"м2"]
["Стекло рифл Роса",null,"м2"]
["Стекло рифл Ниагара",null,"м2"]
["Стекло рифл Ледовый хруст",null,"м2"]
["Стекло Сатин",null,"м2"]
["Стекло бр",null,"м2"]
["Стекло б/цв",null,"м2"]
[]
["КРОМКА"]
["ПВХ 0,4*19",null,"м/п"]
["ПВХ 2,0*19",null,"м/п"]
["ПВХ 0,4*35",null,"м/п"]
["ПВХ 2,0*35",null,"м/п"]
["ПВХ 0,4*19 R",null,"м/п"]
["ПВХ 2,0*19 R",null,"м/п"]
["ПВХ 0,4*35 R",null,"м/п"]
["ПВХ 2,0*35 R",null,"м/п"]
["Меламин 35",null,"м/п"]
["Меламин",null,"м/п"]
[]
["МЕТИЗЫ"]
["Евровинт 7*50",null,"шт"]
["Евровинт 7*70",null,"шт"]
["Евровинт 5*50",null,"шт"]
["Шуруп 3,5*12",null,"шт"]
["Шуруп 3,5*16",null,"шт"]
["Шуруп 3,5*20",null,"шт"]
["Шуруп 4*16",null,"шт"]
["Шуруп 4*20",null,"шт"]
["Шуруп 4*25",null,"шт"]
["Шуруп 4*30",null,"шт"]
["Шуруп 4*35",null,"шт"]
["Шуруп 4*40",null,"шт"]
["Шуруп 4*60",null,"шт"]
["Анкер 6*40",null,"шт"]
["Винт М4*40",null,"шт"]
["Винт М4*20",null,"шт"]
["Винт М4*12",null,"шт"]
["Винт М6*25",null,"шт"]
["Винт М8*40 потай",null,"шт"]
["Шайба пластиковая под ручку",null,"шт"]
["Футорка М6 D10",null,"шт"]
["Полкодержатель Flipper евровинт",null,"к-кт"]
["Полкодержатель Flipper гладкий",null,"к-кт"]
["Минификс",null,"шт"]
["Минификс 2-х сторонний",null,"шт"]
["Заглушка для минификса",null,"шт"]
["Шкант деревянный"," 8х30","шт"]
["Шкант пластиковый"," 8х30","шт"]
["Клей ПВА тюбик",null,"шт"]
["Винт М6*70 + гайка боченок",null,"шт"]
["Стяжка межсекционная D5",null,"шт"]
["Стяжка межсекционная D8",null,"шт"]
["Полкодержатель К5",null,"шт"]
["Стеклодержатель",null,"шт"]
["Стеклодержатель К5 с присоской",null,"шт"]
["Стеклодержатель MV05",null,"шт"]
["Гвоздь мебельный"," 1,2х25","шт"]
["Ключ шестигранный",null,"шт"]
["Подпятник мебельный",null,"шт"]
["Зеркалодержатель хром","4 шт","к-кт"]
["Заглушка универсальная ",null,"шт"]
["Заглушка самоклеющаяся",null,"шт"]
["Заглушка D10",null,"шт"]
["Заглушка минификса",null,"шт"]
["Ласточкин Хвост",null,"шт"]
["Демпфлер силиконовый",null,"шт"]
["Толкатель PUSH-to-OPEN",null,"шт"]
[]
["Уголки"]
["Уголок ФС-16",null,"шт"]
["Уголок КОМАНДОР",null,"шт"]
["Уголок 422",null,"шт"]
["Крепеж кроватный SAMET",null,"шт"]
["Прижим для крепления накладной мойки",null,"шт"]
["Планка ответная L-образная, 8х30 мм для замков",null,"шт"]
[]
["НАВЕСЫ"]
["Профиль соединительный для ДВП 2 м/п","14 руб - 1 шт","м/п"]
["Планка для навеса 2 м/п",null,"м/п"]
["Планка для навеса 2 м/п, крашенная",null,"м/п"]
["Навес регулируемый",null,"шт"]
["Навес нерегулируемый",null,"шт"]
["Подвеска-ушко",null,"шт"]
[]
["ПОГОНАЖ"]
["Планка МДФ № 38-2,4м",null,"м/п"]
["Планка МДФ № 17-2,4м",null,"м/п"]
["Планка МДФ № 31/4-2,4м",null,"м/п"]
["Планка МДФ № 31/8-2,4м",null,"м/п"]
["Планка МДФ №12-2,4м","Атлантида","м/п"]
["Молдинг золото 7мм 2 м/п","ЛЮКС","м/п"]
["Соединитель молдинга золото 7мм","ЛЮКС","шт"]
[]
["НАПРАВЛЯЮЩИЕ"]
["Направляющая роликовая 250 мм ",null,"к-кт"]
["Направляющая роликовая 300 мм ",null,"к-кт"]
["Направляющая роликовая 350 мм ",null,"к-кт"]
["Направляющая роликовая 400 мм ",null,"к-кт"]
["Направляющая роликовая 450 мм ",null,"к-кт"]
["Направляющая роликовая 500 мм ",null,"к-кт"]
["Направляющая роликовая 550 мм ",null,"к-кт"]
["Направляющая Zn полного выдвижения 250",null,"к-кт"]
["Направляющая Zn полного выдвижения 300 ",null,"к-кт"]
["Направляющая Zn полного выдвижения 350 ",null,"к-кт"]
["Направляющая Zn полного выдвижения 400 ",null,"к-кт"]
["Направляющая Zn полного выдвижения 450 ",null,"к-кт"]
["Направляющая Zn полного выдвижения 500 ",null,"к-кт"]
["Направляющая Zn полного выдвижения 700 ",null,"к-кт"]
["Направляющая Smart Slide 300мм + tip on",null,"к-кт"]
["Направляющая Smart Slide 350мм + tip on",null,"к-кт"]
["Направляющая Smart Slide 400мм + tip on",null,"к-кт"]
["Направляющая Smart Slide 450мм + tip on",null,"к-кт"]
["Направляющая Smart Slide 500мм + tip on",null,"к-кт"]
["Направляющая д/клав 350мм",null,"к-кт"]
["Направляющая GTV скрытого монтажа 300",null,"к-кт"]
["Направляющая GTV скрытого монтажа 350",null,"к-кт"]
["Направляющая GTV скрытого монтажа 400",null,"к-кт"]
["Направляющая GTV скрытого монтажа 450",null,"к-кт"]
["Направляющая GTV скрытого монтажа 500",null,"к-кт"]
[]
["ПЕТЛИ"]
["Петля наружная",null,"шт"]
["Петля наружная с доводчиком",null,"шт"]
["Петля внутренная",null,"шт"]
["Петля внутренная с доводчиком",null,"шт"]
["Петля пол-торца",null,"шт"]
["Петля пол-торца с доводчиком",null,"шт"]
["Петля 135 гр.",null,"шт"]
["Петля 135 гр. с доводчиком",null,"шт"]
["Петля инверсная",null,"шт"]
["Петля инверсная с доводчиком",null,"шт"]
["Планка клиновая для монтажной планки 10 гр",null,"шт"]
["Петля для откидной створки",null,"шт"]
["Петля карточная 36*50",null,"шт"]
["Комплект для 1-ой стекл. двери, хром с лифтом",null,"к-кт"]
["Лифт механический GTV",null,"шт"]
["Газ-лифт 50Н",null,"шт"]
["Газ-лифт 80Н",null,"шт"]
["Шарнир барный никель",null,"шт"]
[]
["РУЧКИ"]
["Ручка 76 мм керамика","Ольга","шт"]
["Ручка 96 мм керамика","Ольга","шт"]
["Ручка-кнопка керамика","Ольга","шт"]
["Ручка-кнопка керамика в бронзе","Ольга","шт"]
["Ручка врезная хром матовый 128 мм","Модерн","шт"]
["Ручка пластик золото, ВСК бежевый АМ-01/1","Стенка ЛЮКС","шт"]
["Ручка пластик золото, ВСК дуб темный АМ-03/1","Стенка ЛЮКС","шт"]
["Ручка пластик золото, ВСК терракот АМ-04/1","Стенка ЛЮКС","шт"]
["Ручка-кнопка C0230","Лилия","шт"]
["Ручка FM-054 032 Cr матовый","Омега","шт"]
["Ручка FM-070/000",null,"шт"]
["Ручка 2-я ДУГА 128",null,"шт"]
["Ручка-рейлинг 128",null,"шт"]
["Ручка-рейлинг 160",null,"шт"]
["Ручка-рейлинг 192","Таис","шт"]
["Ручка-рейлинг 224",null,"шт"]
["Ручка-рейлинг 256",null,"шт"]
["Ручка-рейлинг 288",null,"шт"]
["Ручка-рейлинг 320",null,"шт"]
["Ручка-рейлинг 352",null,"шт"]
["Ручка-рейлинг 384",null,"шт"]
["Ручка-рейлинг 416",null,"шт"]
["Ручка-рейлинг 448",null,"шт"]
["Ручка-рейлинг 480",null,"шт"]
["Ручка-рейлинг РЛ-160/1 пластик, алюм. Мат.","Олимп","шт"]
["Ручка-скоба 5710/160 (25)","Кухни FRESH","шт"]
["Ручка-скоба (перфорация) S0240/96, хром","Кухни СС","шт"]
["Ручка-скоба (бабочка) S0540/128","Калипсо","шт"]
["Ручка-скоба (бабочка) S0540/96",null,"шт"]
["Ручка-скоба С-03 (АБС пластик алюм. мат.)","Престиж","шт"]
["Ручка FS-116/128",null,"шт"]
["Ручка FS-140/096, старая бронза","Татьяна","шт"]
["Ручка RC 026 AB-3","Татьяна","шт"]
["Ручка-кнопка RC 017","Модерн ЛЮКС","шт"]
["Ручка-кнопка LM БЬЯНКА",null,"шт"]
["Ручка-рейлинг РСКН-128",null,"шт"]
["Ручка-скоба",null,"шт"]
["Ручка-кнопка",null,"шт"]
["Ручка-рейлинг",null,"шт"]
[]
["КРЮЧКИ"]
["Крючок 2-х рожк"]
["Крючок 3-х рожк"]
["Крючок Дуга 2-х рожк,  хром",null,"шт"]
["Крючок Дуга 3-х рожк,  хром",null,"шт"]
["Крючек 0240 3-х хром, хром",null,"шт"]
["Крючок K206SC",null,"шт"]
["Крючек Перфорация 2-х рожк, хром","Кухни СС","шт"]
["Крючек Перфорация 3-х рожк, хром",null,"шт"]
[]
["ОПОРЫ"]
["Опора 100-130 мм, белая","Кухни СС","шт"]
["Планка + клипса для опоры",null,"к-т"]
["Опора колесная 30",null,"шт"]
["Опора 75-105 мм, белая","Эльбрус","шт"]
["Опора H=710 мм D-60 FT-509, хром",null,"шт"]
["Опора барная D-50мм, черная (низ)","Эльбрус","шт"]
["Опора барная D-50мм, черная (верх)","Эльбрус","шт"]
["Опора колесная на площадке TWP-50",null,"шт"]
["Опора М8 в пласт корпусе регул Ф50, беж-й","ПР-1","шт"]
["Опора М8 в пласт корпусе регул Ф50, кор-й","ПР-1","шт"]
["Опора мебельная ОР-114-К, алюм-й","Кухни FRESH","шт"]
["Опора рег-ая ОР-61-Б-К (Н72-85мм), алюм-й","Олимп","шт"]
["Опора ОР-60-С (H62мм), хром","Калипсо","шт"]
["Опора ОС-50-К, серый","Модерн","шт"]
["Опора ОРК-50",null,"шт"]
["Опора ОРК-100",null,"шт"]
["Опора Н-019 020 ST регулируемая Валмакс, серый","Модерн ЛЮКС","шт"]
["Подпятник мебельный",null,"шт"]
[]
["СТОЛЕШНИЦЫ"]
["Планка для столешниц 28 \"Т\"",null,"шт"]
["Планка для столешниц 28 \"С\"",null,"шт"]
["Планка для столешниц 28 \"L\"",null,"шт"]
["Планка для столешниц 38 \"Т\"",null,"шт"]
["Планка для столешниц 38 \"С\"",null,"шт"]
["Планка для столешниц 38 \"L\"",null,"шт"]
["Стяжка для соединения столешниц",null,"шт"]
["Плинтус пластиковый L=3000 мм, Престиж",null,"шт"]
["Комплект уголков для плинтуса, Престиж",null,"к-кт"]
["Вставка (кромка д` стол-ц с клеем) в плинтус",null,"шт"]
["Плинтус алюминиевый L=3000 мм",null,"шт"]
["Комплект уголков для плинтуса алюм-го",null,"к-кт"]
[]
["ТРУБЫ"]
["Труба D=25 мм 3 м/п хром",null,"м/п"]
["Труба D=50 мм 3 м/п хром",null,"м/п"]
["Труба D=28 мм 2,5 м/п мат хром",null,"м/п"]
["Труба D=8 мм хром",null,"м/п"]
["Фланец для трубы D=25 мм",null,"шт"]
["Фланец для трубы D=50 мм",null,"шт"]
["Флянец для трубы D=28 мм",null,"шт"]
["Держатель дистанционный D=25 мм",null,"шт"]
[]
["РАЗНОЕ"]
["Мойка",null,"шт"]
["Сушка",null,"шт"]
["Лоток для столовых приборов",null,"шт"]
["Поворотное устр. под ТВ 150*150",null,"шт"]
["Поворотный механизм для кухонного стола","СО-4","шт"]
["Розетка под кабель",null,"шт"]
["Шпингалет ",null,"шт"]
["Кронштейн для полки","Модерн","шт"]
["Штанга выдвижная для гардероба 350 мм, хром","Ш2С-1","шт"]
["Штанга выдвижная для гардероба 380 мм, хром","Калипсо","шт"]
["K-push ответная планка металлическая D-15","Неон","шт"]
["Гайка М6 ",null,"шт"]
["Шайба DIN 9021 М6",null,"шт"]
["Болт М6х70",null,"шт"]
["Трек для складной двери 2 м/п",null,"м/п"]
["Механизм для складной двери МКК 2/007",null,"к-кт"]
[]
["МЕТАЛЛОТРУБКА"]
["Труба квадратная 30 6м/п",null,"м/п"]
["Заглушка для трубы квадратной 30 ",null,"шт"]
["Полимерное покрытие",null,"м*м"]
[]
["МЯГКАЯ МЕБЕЛЬ"]
["Винилискожа \"Albert Perl\"",null,"м/п"]
["К/з, бежевый",null,"м/п"]
["К/з, (ЭКОКОЖА)",null,"м/п"]
["Войлок",null,"м/п"]
["Бязь",null,"м/п"]
["Спанбонд",null,"м/п"]
["Синтепон",null,"м/п"]
["Поролон (10)",null,"м2"]
["Поролон (20)",null,"м2"]
["Поролон (30)",null,"м2"]
["Ортопедическое основание",null,"шт"]
["Ортопедическое основание с опорной планкой",null,"шт"]
["Подъёмный механизм 559",null,"шт"]
["Поролон (50)",null,"м2"]
["Клей \"Геркулес 55-60\"",null,"кг"]
["Молния",null,"м/п"]
["Бегунок",null,"шт"]
["Пружинный блок 1820х480х120","Дарья","шт"]
["Механизм книжка с нулевым углом","Дарья","шт"]
["Скоба (10)",null,"шт"]
["Скоба (16)",null,"шт"]
["Скоба (50)",null,"шт"]
["Саморез (55)",null,"шт"]
["Саморез (75)",null,"шт"]
[]
["КУПЕ"]
["Трек 2-х полозный",null,"м/п"]
["Стайл \"С\" 2,7 м/п",null,"шт"]
["Рейл верх+низ",null,"м/п"]
["Уплотнитель для зеркало",null,"м/п"]
["Шлегель",null,"м/п"]
["Комплект для сборки 1 двери",null,"шт"]
["Позиционер",null,"шт"]
["Позиционер верхний",null,"шт"]
["Горизонтальный разделитель Н с винтом",null,"шт"]
[" ",null," "]

{"sheet":"Наряд на работу","index":2,"n_rows":54,"n_cols":7,"rows_kept":54,"cut":false,"hidden":false,"merged":[[0,0,0,6],[14,0,19,0],[27,0,30,0],[40,0,42,0],[3,3,3,4],[2,1,2,4],[6,0,6,1],[32,0,38,0],[44,0,50,0],[4,1,4,4],[6,3,6,4],[7,0,12,0],[21,0,25,0]]}
["НАРЯД  НА  РАБОТУ"]
[]
["Задание №",{"$f":"Расходник!C1","v":0},null,null,null,"Запущен",{"$f":"TODAY()","v":"2019-02-13"}]
["Цвет ",{"$f":"Расходник!B4","v":"БЕЛЫЙ"},{"$f":"IF(D4<>0,\"&\",\" \")","v":" "},{"$f":"Расходник!B5","v":0},null,"Готовность"]
["Состав  ",{"$f":"Расходник!D1&\" \"&Расходник!G1&\" х \"&Расходник!H1","v":"Кровать \"БАРИН\" 1400 х 2000"},null,null,null,{"$f":"Расходник!I1","v":1},"шт"]
[]
["Участок / Операция",null,"Тариф","Объем ",null,"Выполнил","Проверил"]
["РАСПИЛОВКА","ЛДСП SEL.",20.6,"м²",{"$f":"IF(Расходник!D4+Расходник!D5=0,\" \",Расходник!D4+Расходник!D5)","v":2.1088520000000002}]
[null,"ДСП",4.7,"м²",{"$f":"IF(Расходник!D8=0,\" \",Расходник!D8)","v":4.8555599999999997}]
[null,"ДВПО",4.0999999999999996,"м²",{"$f":"IF(Расходник!D9=0,\" \",Расходник!D9)","v":2.7681279999999999}]
[null,"Спил",14,"шт",{"$f":"IF(Расходник!N5=0,\" \",Расходник!N5)","v":" "}]
[null,"Пропил",3.6,"м/п",{"$f":"IF(Расходник!N6=0,\" \",Расходник!N6)","v":" "}]
[null,"Столешница / стен.пан.",7.6,"шт",{"$f":"IF(Расходник!N7=0,\" \",Расходник!N7)","v":" "}]
[]
["КРОМКО-ОБЛИЦОВКА","ПВХ 2,0х19",2.2999999999999998,"м/п",{"$f":"IF(Расходник!I5=0,\" \",Расходник!I5)","v":" "}]
[null,"ПВХ 0,4х19",2.2999999999999998,"м/п",{"$f":"IF(Расходник!I4=0,\" \",Расходник!I4)","v":10.9618}]
[null,"ПВХ 2,0х35",3.5,"м/п",{"$f":"IF(Расходник!I7=0,\" \",Расходник!I7)","v":" "}]
[null,"ПВХ 0,4х35 / Меламин 35",2.2999999999999998,"м/п",{"$f":"IF(Расходник!I6+Расходник!I12=0,\" \",Расходник!I6+Расходник!I12)","v":" "}]
[null,"На криволинейнике",7.4,"м/п",{"$f":"IF(SUM(Расходник!I4:I14)=0,\" \",SUM(Расходник!I4:I14))","v":10.9618}]
[null,"Индивидуалка",4.7,"м/п"]
[]
["ФРЕЗЕРОВКА","Серия (фрез-ка + кром-ка)",13.7,"м/п"]
[null,"Инд-ка (фр-ка + кром-ка)",24.2,"м/п"]
[null,"Врезка бытовой техники",25,"м/п"]
[null,"Декор фр-ки фасадов",13,"шт"]
[null,"Фрезеровка ручная серия",6.3,"м/п",{"$f":"IF(SUM(Расходник!I8:I11)=0,\" \",SUM(Расходник!I8:I11))","v":" "}]
[]
["СВЕРЛОВКА","Сверловка инд-ка ЛДСП",24.2,"м²",{"$f":"IF(E41=0,\" \",E41)","v":2.1088520000000002}]
[null,"Сверловка инд-ка МДФ",24.2,"м²",{"$f":"IF(Расходник!D6+Расходник!D7=0,\" \",Расходник!D6+Расходник!D7)","v":" "}]
[null,"Сверловка серия",10,"м²"]
[null,"Сверловка фасадов",2.1,"шт"]
[]
["СБОРКА ДВЕРЕЙ            И                     РЕЗКА        СТЕКЛА","Резка стекла",1.8,"м/п",{"$f":"IF(Расходник!N2+Расходник!N3+Расходник!N4=0,\" \",Расходник!N2+Расходник!N3+Расходник!N4)","v":" "}]
[null,"Шлифовка стекла",6.8,"м/п",{"$f":"E33","v":" "}]
[null,"Наклейка зеркала, мдф",8.9,"шт"]
[null,"МДФ 12,17,31,38",54.6,"шт"]
[null,"Купе простые",210,"шт"]
[null,"Купе сложные",273,"шт"]
[null,"Сборка ортопед",50,"шт"]
[]
["УПАКОВКА","Упаковка ЛДСП",15,"м²",{"$f":"IF(Расходник!D4+Расходник!D5=0,\" \",Расходник!D4+Расходник!D5)","v":2.1088520000000002}]
[null,"Упаковка ЛМДФ",2.6,"шт",{"$f":"IF(Расходник!N8=0,\" \",Расходник!N8)","v":" "}]
[null,"Столешница, мойка, сушка, стекло",2.6,"шт",{"$f":"IF(Расходник!P3+Расходник!P4+Расходник!N7=0,\" \",Расходник!P3+Расходник!P4+Расходник!N7)","v":" "}]
[]
["СБОРКА","Сборка серия",40,"м²"]
[null,"Сборка индивидуалка",60,"м²",{"$f":"Расходник!C4+Расходник!C5+Расходник!C6+Расходник!C7","v":2.1088520000000002}]
[null,"Изготовление кровати",2100,"м²",{"$f":"F5","v":1}]
[null,"Короб под бельё",250,"м²",{"$f":"E47","v":1}]
[null,"Сращивание деталей",30,"шт"]
[null,"Монтаж бытовой техники",30,"шт"]
[null,"Установка планок",10,"шт"]
[]
[null,null,null,null,"Технолог","Григоренко А.Н."]
["Комментарии к заказу"]

{"sheet":"Деталировка","index":3,"n_rows":51,"n_cols":21,"rows_kept":51,"cut":false,"hidden":false,"merged":[[47,20,48,20],[49,0,50,0],[49,1,50,1],[49,3,50,3],[49,5,50,5],[49,6,50,6],[49,7,50,7],[49,8,50,8],[49,12,50,12],[49,15,50,15],[49,20,50,20],[47,0,48,0],[47,1,48,1],[47,3,48,3],[47,5,48,5],[47,6,48,6],[47,7,48,7],[47,8,48,8],[47,12,48,12],[47,15,48,15],[43,20,44,20],[45,0,46,0],[45,1,46,1],[45,3,46,3],[45,5,46,5],[45,6,46,6],[45,7,46,7],[45,8,46,8],[45,12,46,12],[45,15,46,15],[45,20,46,20],[43,0,44,0],[43,1,44,1],[43,3,44,3],[43,5,44,5],[43,6,44,6],[43,7,44,7],[43,8,44,8],[43,12,44,12],[43,15,44,15],[39,20,40,20],[41,0,42,0],[41,1,42,1],[41,3,42,3],[41,5,42,5],[41,6,42,6],[41,7,42,7],[41,8,42,8],[41,12,42,12],[41,15,42,15],[41,20,42,20],[39,0,40,0],[39,1,40,1],[39,3,40,3],[39,5,40,5],[39,6,40,6],[39,7,40,7],[39,8,40,8],[39,12,40,12],[39,15,40,15],[35,20,36,20],[37,0,38,0],[37,1,38,1],[37,3,38,3],[37,5,38,5],[37,6,38,6],[37,7,38,7],[37,8,38,8],[37,12,38,12],[37,15,38,15],[37,20,38,20],[35,0,36,0],[35,1,36,1],[35,3,36,3],[35,5,36,5],[35,6,36,6],[35,7,36,7],[35,8,36,8],[35,12,36,12],[35,15,36,15],[31,20,32,20],[33,0,34,0],[33,1,34,1],[33,3,34,3],[33,5,34,5],[33,6,34,6],[33,7,34,7],[33,8,34,8],[33,12,34,12],[33,15,34,15],[33,20,34,20],[31,0,32,0],[31,1,32,1],[31,3,32,3],[31,5,32,5],[31,6,32,6],[31,7,32,7],[31,8,32,8],[31,12,32,12],[31,15,32,15],[29,7,30,7],[29,8,30,8],[29,12,30,12],[29,15,30,15],[29,20,30,20],[29,0,30,0],[29,1,30,1],[29,3,30,3],[29,5,30,5],[29,6,30,6],[23,7,24,7],[23,8,24,8],[23,12,24,12],[23,15,24,15],[23,20,24,20],[23,0,24,0],[23,1,24,1],[23,3,24,3],[23,5,24,5],[23,6,24,6],[21,7,22,7],[21,8,22,8],[21,12,22,12],[21,15,22,15],[21,20,22,20],[21,0,22,0],[21,1,22,1],[21,3,22,3],[21,5,22,5],[21,6,22,6],[17,20,18,20],[17,0,18,0],[17,1,18,1],[17,3,18,3],[17,5,18,5],[17,6,18,6],[19,7,20,7],[19,8,20,8],[19,12,20,12],[19,15,20,15],[19,20,20,20],[19,0,20,0],[19,1,20,1],[19,3,20,3],[19,5,20,5],[19,6,20,6],[13,7,14,7],[13,8,14,8],[13,12,14,12],[13,15,14,15],[13,20,14,20],[13,0,14,0],[13,1,14,1],[13,3,14,3],[13,5,14,5],[13,6,14,6],[11,7,12,7],[11,8,12,8],[11,12,12,12],[11,15,12,15],[11,20,12,20],[11,0,12,0],[11,1,12,1],[11,3,12,3],[11,5,12,5],[11,6,12,6],[9,7,10,7],[9,8,10,8],[9,12,10,12],[9,15,10,15],[9,20,10,20],[9,0,10,0],[9,1,10,1],[9,3,10,3],[9,5,10,5],[9,6,10,6],[7,7,8,7],[7,8,8,8],[7,12,8,12],[7,15,8,15],[7,20,8,20],[7,0,8,0],[7,1,8,1],[7,3,8,3],[7,5,8,5],[7,6,8,6],[5,7,6,7],[5,8,6,8],[5,12,6,12],[5,15,6,15],[5,20,6,20],[5,0,6,0],[5,1,6,1],[5,3,6,3],[5,5,6,5],[5,6,6,6],[3,7,4,7],[3,0,4,0],[3,1,4,1],[3,3,4,3],[3,5,4,5],[3,6,4,6],[3,20,4,20],[2,13,2,14],[3,8,4,8],[3,12,4,12],[3,15,4,15],[15,20,16,20],[25,0,26,0],[25,1,26,1],[25,3,26,3],[25,5,26,5],[25,6,26,6],[25,7,26,7],[25,8,26,8],[25,12,26,12],[25,15,26,15],[25,20,26,20],[15,0,16,0],[15,1,16,1],[15,3,16,3],[15,5,16,5],[15,6,16,6],[15,7,16,7],[15,8,16,8],[15,12,16,12],[15,15,16,15],[17,7,18,7],[17,8,18,8],[17,12,18,12],[17,15,18,15],[27,20,28,20],[27,0,28,0],[27,1,28,1],[27,3,28,3],[27,5,28,5],[27,6,28,6],[27,7,28,7],[27,8,28,8],[27,12,28,12],[27,15,28,15]]}
[null,{"$f":"Расходник!D1","v":"Кровать \"БАРИН\""},{"$f":"Расходник!G1","v":1400},"x",{"$f":"Расходник!H1","v":2000},null,null,null,null,null,"Комманда для макроса копирования строк Ctrl+R"]
[null,{"$f":"Расходник!F1","v":0},{"$f":"Расходник!I1","v":1},null,null,null,null,{"$f":"Расходник!C1","v":0}]
["№","деталь","размер 1",null,"размер 2","кол-во","материал","примечание","на 1","Спил 1",null,"Спил 2","Пер-р","Проп-л",null,"Sлдсп","Lпвх0,4","Lпвх2,0","Lпвх0,4R","Lпвх2,0R","Постф-нг"]
[{"$f":"(ROW()-3)/2+0.5","v":1},{"$f":"IF(Вводные!A5=0,\" \",Вводные!A5)","v":"Кровать"},{"$f":"IF(Вводные!H5+Вводные!I5=0,\" \",Вводные!H5+Вводные!I5)","v":" "},"*",{"$f":"IF(Вводные!F5+Вводные!G5=0,\" \",Вводные!F5+Вводные!G5)","v":" "},{"$f":"$C$2*I4","v":2},{"$f":"Вводные!E5","v":"дсп"},null,{"$f":"Вводные!D5","v":2},null,{"$f":"(IF(L4>0,1,0)+IF(L5>0,1,0))*I4","v":0},null,{"$f":"(C5*2+E5*2)/1000*I4","v":9.24},0,{"$f":"IF(N4=1,C5,IF(N4=2,C5*2,0))*I4/1000","v":0},{"$f":"C5*E5*I4/1000000","v":1.206},{"$f":"(IF(C4=1,C5,(IF(C4=2,C5*2,(IF(C4=\"1+R\",C5,(IF(C4=\"1+кр\",C5,(IF(C4=\"1+Rкр\",C5,0)))))))))*I4/1000)","v":0},{"$f":"(IF(C4=\"кр\",C5,(IF(C4=\"2кр\",C5*2,(IF(C4=\"1+кр\",C5,0)))))*I4/1000)","v":0},{"$f":"(IF(C4=\"R\",C5,(IF(C4=\"2R\",C5*2,(IF(C4=\"1+R\",C5,0)))))*I4/1000)","v":0},{"$f":"(IF(C4=\"Rкр\",C5,(IF(C4=\"2Rкр\",C5*2,(IF(C4=\"1+Rкр\",C5,0)))))*I4/1000)","v":0},{"$f":"C5/1000","v":2.0099999999999998}]
[null,null,{"$f":"Вводные!B5","v":2010},null,{"$f":"Вводные!C5","v":300},null,null,null,null,null,{"$f":"(IF(J4>0,1,0)+IF(J5>0,1,0))*I4","v":0},null,null,0,{"$f":"IF(N5=1,E5,IF(N5=2,E5*2,0))*I4/1000","v":0},null,{"$f":"(IF(E4=1,E5,(IF(E4=2,E5*2,(IF(E4=\"1+R\",E5,(IF(E4=\"1+кр\",E5,(IF(E4=\"1+Rкр\",E5,0)))))))))*I4/1000)","v":0},{"$f":"(IF(E4=\"кр\",E5,(IF(E4=\"2кр\",E5*2,(IF(E4=\"1+кр\",E5,0)))))*I4/1000)","v":0},{"$f":"(IF(E4=\"R\",E5,(IF(E4=\"2R\",E5*2,(IF(E4=\"1+R\",E5,0)))))*I4/1000)","v":0},{"$f":"(IF(E4=\"Rкр\",E5,(IF(E4=\"2Rкр\",E5*2,(IF(E4=\"1+Rкр\",E5,0)))))*I4/1000)","v":0}]
[{"$f":"(ROW()-3)/2+0.5","v":2},{"$f":"IF(Вводные!A7=0,\" \",Вводные!A7)","v":"Кровать"},{"$f":"IF(Вводные!H7+Вводные!I7=0,\" \",Вводные!H7+Вводные!I7)","v":" "},"*",{"$f":"IF(Вводные!F7+Вводные!G7=0,\" \",Вводные!F7+Вводные!G7)","v":" "},{"$f":"$C$2*I6","v":1},{"$f":"Вводные!E7","v":"дсп"},null,{"$f":"Вводные!D7","v":1},null,{"$f":"(IF(L6>0,1,0)+IF(L7>0,1,0))*I6","v":0},null,{"$f":"(C7*2+E7*2)/1000*I6","v":3.488},0,{"$f":"IF(N6=1,C7,IF(N6=2,C7*2,0))*I6/1000","v":0},{"$f":"C7*E7*I6/1000000","v":0.43319999999999997},{"$f":"(IF(C6=1,C7,(IF(C6=2,C7*2,(IF(C6=\"1+R\",C7,(IF(C6=\"1+кр\",C7,(IF(C6=\"1+Rкр\",C7,0)))))))))*I6/1000)","v":0},{"$f":"(IF(C6=\"кр\",C7,(IF(C6=\"2кр\",C7*2,(IF(C6=\"1+кр\",C7,0)))))*I6/1000)","v":0},{"$f":"(IF(C6=\"R\",C7,(IF(C6=\"2R\",C7*2,(IF(C6=\"1+R\",C7,0)))))*I6/1000)","v":0},{"$f":"(IF(C6=\"Rкр\",C7,(IF(C6=\"2Rкр\",C7*2,(IF(C6=\"1+Rкр\",C7,0)))))*I6/1000)","v":0},{"$f":"C7/1000","v":1.444}]
[null,null,{"$f":"Вводные!B7","v":1444},null,{"$f":"Вводные!C7","v":300},null,null,null,null,null,{"$f":"(IF(J6>0,1,0)+IF(J7>0,1,0))*I6","v":0},null,null,0,{"$f":"IF(N7=1,E7,IF(N7=2,E7*2,0))*I6/1000","v":0},null,{"$f":"(IF(E6=1,E7,(IF(E6=2,E7*2,(IF(E6=\"1+R\",E7,(IF(E6=\"1+кр\",E7,(IF(E6=\"1+Rкр\",E7,0)))))))))*I6/1000)","v":0},{"$f":"(IF(E6=\"кр\",E7,(IF(E6=\"2кр\",E7*2,(IF(E6=\"1+кр\",E7,0)))))*I6/1000)","v":0},{"$f":"(IF(E6=\"R\",E7,(IF(E6=\"2R\",E7*2,(IF(E6=\"1+R\",E7,0)))))*I6/1000)","v":0},{"$f":"(IF(E6=\"Rкр\",E7,(IF(E6=\"2Rкр\",E7*2,(IF(E6=\"1+Rкр\",E7,0)))))*I6/1000)","v":0}]
[{"$f":"(ROW()-3)/2+0.5","v":3},{"$f":"IF(Вводные!A9=0,\" \",Вводные!A9)","v":"Кровать"},{"$f":"IF(Вводные!H9+Вводные!I9=0,\" \",Вводные!H9+Вводные!I9)","v":" "},"*",{"$f":"IF(Вводные!F9+Вводные!G9=0,\" \",Вводные!F9+Вводные!G9)","v":" "},{"$f":"$C$2*I8","v":1},{"$f":"Вводные!E9","v":"дсп"},null,{"$f":"Вводные!D9","v":1},null,{"$f":"(IF(L8>0,1,0)+IF(L9>0,1,0))*I8","v":0},null,{"$f":"(C9*2+E9*2)/1000*I8","v":3.83},0,{"$f":"IF(N8=1,C9,IF(N8=2,C9*2,0))*I8/1000","v":0},{"$f":"C9*E9*I8/1000000","v":0.64380000000000004},{"$f":"(IF(C8=1,C9,(IF(C8=2,C9*2,(IF(C8=\"1+R\",C9,(IF(C8=\"1+кр\",C9,(IF(C8=\"1+Rкр\",C9,0)))))))))*I8/1000)","v":0},{"$f":"(IF(C8=\"кр\",C9,(IF(C8=\"2кр\",C9*2,(IF(C8=\"1+кр\",C9,0)))))*I8/1000)","v":0},{"$f":"(IF(C8=\"R\",C9,(IF(C8=\"2R\",C9*2,(IF(C8=\"1+R\",C9,0)))))*I8/1000)","v":0},{"$f":"(IF(C8=\"Rкр\",C9,(IF(C8=\"2Rкр\",C9*2,(IF(C8=\"1+Rкр\",C9,0)))))*I8/1000)","v":0},{"$f":"C9/1000","v":1.48}]
[null,null,{"$f":"Вводные!B9","v":1480},null,{"$f":"Вводные!C9","v":435},null,null,null,null,null,{"$f":"(IF(J8>0,1,0)+IF(J9>0,1,0))*I8","v":0},null,null,0,{"$f":"IF(N9=1,E9,IF(N9=2,E9*2,0))*I8/1000","v":0},null,{"$f":"(IF(E8=1,E9,(IF(E8=2,E9*2,(IF(E8=\"1+R\",E9,(IF(E8=\"1+кр\",E9,(IF(E8=\"1+Rкр\",E9,0)))))))))*I8/1000)","v":0},{"$f":"(IF(E8=\"кр\",E9,(IF(E8=\"2кр\",E9*2,(IF(E8=\"1+кр\",E9,0)))))*I8/1000)","v":0},{"$f":"(IF(E8=\"R\",E9,(IF(E8=\"2R\",E9*2,(IF(E8=\"1+R\",E9,0)))))*I8/1000)","v":0},{"$f":"(IF(E8=\"Rкр\",E9,(IF(E8=\"2Rкр\",E9*2,(IF(E8=\"1+Rкр\",E9,0)))))*I8/1000)","v":0}]
[{"$f":"(ROW()-3)/2+0.5","v":4},{"$f":"IF(Вводные!A11=0,\" \",Вводные!A11)","v":"Кровать"},{"$f":"IF(Вводные!H11+Вводные!I11=0,\" \",Вводные!H11+Вводные!I11)","v":" "},"*",{"$f":"IF(Вводные!F11+Вводные!G11=0,\" \",Вводные!F11+Вводные!G11)","v":" "},{"$f":"$C$2*I10","v":1},{"$f":"Вводные!E11","v":"дсп"},null,{"$f":"Вводные!D11","v":1},null,{"$f":"(IF(L10>0,1,0)+IF(L11>0,1,0))*I10","v":0},null,{"$f":"(C11*2+E11*2)/1000*I10","v":3.21},0,{"$f":"IF(N10=1,C11,IF(N10=2,C11*2,0))*I10/1000","v":0},{"$f":"C11*E11*I10/1000000","v":0.185},{"$f":"(IF(C10=1,C11,(IF(C10=2,C11*2,(IF(C10=\"1+R\",C11,(IF(C10=\"1+кр\",C11,(IF(C10=\"1+Rкр\",C11,0)))))))))*I10/1000)","v":0},{"$f":"(IF(C10=\"кр\",C11,(IF(C10=\"2кр\",C11*2,(IF(C10=\"1+кр\",C11,0)))))*I10/1000)","v":0},{"$f":"(IF(C10=\"R\",C11,(IF(C10=\"2R\",C11*2,(IF(C10=\"1+R\",C11,0)))))*I10/1000)","v":0},{"$f":"(IF(C10=\"Rкр\",C11,(IF(C10=\"2Rкр\",C11*2,(IF(C10=\"1+Rкр\",C11,0)))))*I10/1000)","v":0},{"$f":"C11/1000","v":1.48}]
[null,null,{"$f":"Вводные!B11","v":1480},null,{"$f":"Вводные!C11","v":125},null,null,null,null,null,{"$f":"(IF(J10>0,1,0)+IF(J11>0,1,0))*I10","v":0},null,null,0,{"$f":"IF(N11=1,E11,IF(N11=2,E11*2,0))*I10/1000","v":0},null,{"$f":"(IF(E10=1,E11,(IF(E10=2,E11*2,(IF(E10=\"1+R\",E11,(IF(E10=\"1+кр\",E11,(IF(E10=\"1+Rкр\",E11,0)))))))))*I10/1000)","v":0},{"$f":"(IF(E10=\"кр\",E11,(IF(E10=\"2кр\",E11*2,(IF(E10=\"1+кр\",E11,0)))))*I10/1000)","v":0},{"$f":"(IF(E10=\"R\",E11,(IF(E10=\"2R\",E11*2,(IF(E10=\"1+R\",E11,0)))))*I10/1000)","v":0},{"$f":"(IF(E10=\"Rкр\",E11,(IF(E10=\"2Rкр\",E11*2,(IF(E10=\"1+Rкр\",E11,0)))))*I10/1000)","v":0}]
[{"$f":"(ROW()-3)/2+0.5","v":5},{"$f":"IF(Вводные!A13=0,\" \",Вводные!A13)","v":"Кровать"},{"$f":"IF(Вводные!H13+Вводные!I13=0,\" \",Вводные!H13+Вводные!I13)","v":" "},"*",{"$f":"IF(Вводные!F13+Вводные!G13=0,\" \",Вводные!F13+Вводные!G13)","v":" "},{"$f":"$C$2*I12","v":1},{"$f":"Вводные!E13","v":"дсп"},null,{"$f":"Вводные!D13","v":1},null,{"$f":"(IF(L12>0,1,0)+IF(L13>0,1,0))*I12","v":0},null,{"$f":"(C13*2+E13*2)/1000*I12","v":3.16},0,{"$f":"IF(N12=1,C13,IF(N12=2,C13*2,0))*I12/1000","v":0},{"$f":"C13*E13*I12/1000000","v":0.14799999999999999},{"$f":"(IF(C12=1,C13,(IF(C12=2,C13*2,(IF(C12=\"1+R\",C13,(IF(C12=\"1+кр\",C13,(IF(C12=\"1+Rкр\",C13,0)))))))))*I12/1000)","v":0},{"$f":"(IF(C12=\"кр\",C13,(IF(C12=\"2кр\",C13*2,(IF(C12=\"1+кр\",C13,0)))))*I12/1000)","v":0},{"$f":"(IF(C12=\"R\",C13,(IF(C12=\"2R\",C13*2,(IF(C12=\"1+R\",C13,0)))))*I12/1000)","v":0},{"$f":"(IF(C12=\"Rкр\",C13,(IF(C12=\"2Rкр\",C13*2,(IF(C12=\"1+Rкр\",C13,0)))))*I12/1000)","v":0},{"$f":"C13/1000","v":1.48}]
[null,null,{"$f":"Вводные!B13","v":1480},null,{"$f":"Вводные!C13","v":100},null,null,null,null,null,{"$f":"(IF(J12>0,1,0)+IF(J13>0,1,0))*I12","v":0},null,null,0,{"$f":"IF(N13=1,E13,IF(N13=2,E13*2,0))*I12/1000","v":0},null,{"$f":"(IF(E12=1,E13,(IF(E12=2,E13*2,(IF(E12=\"1+R\",E13,(IF(E12=\"1+кр\",E13,(IF(E12=\"1+Rкр\",E13,0)))))))))*I12/1000)","v":0},{"$f":"(IF(E12=\"кр\",E13,(IF(E12=\"2кр\",E13*2,(IF(E12=\"1+кр\",E13,0)))))*I12/1000)","v":0},{"$f":"(IF(E12=\"R\",E13,(IF(E12=\"2R\",E13*2,(IF(E12=\"1+R\",E13,0)))))*I12/1000)","v":0},{"$f":"(IF(E12=\"Rкр\",E13,(IF(E12=\"2Rкр\",E13*2,(IF(E12=\"1+Rкр\",E13,0)))))*I12/1000)","v":0}]
[{"$f":"(ROW()-3)/2+0.5","v":6},{"$f":"IF(Вводные!A15=0,\" \",Вводные!A15)","v":"Кровать"},{"$f":"IF(Вводные!H15+Вводные!I15=0,\" \",Вводные!H15+Вводные!I15)","v":" "},"*",{"$f":"IF(Вводные!F15+Вводные!G15=0,\" \",Вводные!F15+Вводные!G15)","v":" "},{"$f":"$C$2*I14","v":1},{"$f":"Вводные!E15","v":"дсп"},null,{"$f":"Вводные!D15","v":1},null,{"$f":"(IF(L14>0,1,0)+IF(L15>0,1,0))*I14","v":0},null,{"$f":"(C15*2+E15*2)/1000*I14","v":3.056},0,{"$f":"IF(N14=1,C15,IF(N14=2,C15*2,0))*I14/1000","v":0},{"$f":"C15*E15*I14/1000000","v":0.14280000000000001},{"$f":"(IF(C14=1,C15,(IF(C14=2,C15*2,(IF(C14=\"1+R\",C15,(IF(C14=\"1+кр\",C15,(IF(C14=\"1+Rкр\",C15,0)))))))))*I14/1000)","v":0},{"$f":"(IF(C14=\"кр\",C15,(IF(C14=\"2кр\",C15*2,(IF(C14=\"1+кр\",C15,0)))))*I14/1000)","v":0},{"$f":"(IF(C14=\"R\",C15,(IF(C14=\"2R\",C15*2,(IF(C14=\"1+R\",C15,0)))))*I14/1000)","v":0},{"$f":"(IF(C14=\"Rкр\",C15,(IF(C14=\"2Rкр\",C15*2,(IF(C14=\"1+Rкр\",C15,0)))))*I14/1000)","v":0},{"$f":"C15/1000","v":1.4279999999999999}]
[null,null,{"$f":"Вводные!B15","v":1428},null,{"$f":"Вводные!C15","v":100},null,null,null,null,null,{"$f":"(IF(J14>0,1,0)+IF(J15>0,1,0))*I14","v":0},null,null,0,{"$f":"IF(N15=1,E15,IF(N15=2,E15*2,0))*I14/1000","v":0},null,{"$f":"(IF(E14=1,E15,(IF(E14=2,E15*2,(IF(E14=\"1+R\",E15,(IF(E14=\"1+кр\",E15,(IF(E14=\"1+Rкр\",E15,0)))))))))*I14/1000)","v":0},{"$f":"(IF(E14=\"кр\",E15,(IF(E14=\"2кр\",E15*2,(IF(E14=\"1+кр\",E15,0)))))*I14/1000)","v":0},{"$f":"(IF(E14=\"R\",E15,(IF(E14=\"2R\",E15*2,(IF(E14=\"1+R\",E15,0)))))*I14/1000)","v":0},{"$f":"(IF(E14=\"Rкр\",E15,(IF(E14=\"2Rкр\",E15*2,(IF(E14=\"1+Rкр\",E15,0)))))*I14/1000)","v":0}]
[{"$f":"(ROW()-3)/2+0.5","v":7},{"$f":"IF(Вводные!A17=0,\" \",Вводные!A17)","v":"Кровать"},{"$f":"IF(Вводные!H17+Вводные!I17=0,\" \",Вводные!H17+Вводные!I17)","v":" "},"*",{"$f":"IF(Вводные!F17+Вводные!G17=0,\" \",Вводные!F17+Вводные!G17)","v":" "},{"$f":"$C$2*I16","v":2},{"$f":"Вводные!E17","v":"дсп"},null,{"$f":"Вводные!D17","v":2},null,{"$f":"(IF(L16>0,1,0)+IF(L17>0,1,0))*I16","v":0},null,{"$f":"(C17*2+E17*2)/1000*I16","v":6.032},0,{"$f":"IF(N16=1,C17,IF(N16=2,C17*2,0))*I16/1000","v":0},{"$f":"C17*E17*I16/1000000","v":0.22847999999999999},{"$f":"(IF(C16=1,C17,(IF(C16=2,C17*2,(IF(C16=\"1+R\",C17,(IF(C16=\"1+кр\",C17,(IF(C16=\"1+Rкр\",C17,0)))))))))*I16/1000)","v":0},{"$f":"(IF(C16=\"кр\",C17,(IF(C16=\"2кр\",C17*2,(IF(C16=\"1+кр\",C17,0)))))*I16/1000)","v":0},{"$f":"(IF(C16=\"R\",C17,(IF(C16=\"2R\",C17*2,(IF(C16=\"1+R\",C17,0)))))*I16/1000)","v":0},{"$f":"(IF(C16=\"Rкр\",C17,(IF(C16=\"2Rкр\",C17*2,(IF(C16=\"1+Rкр\",C17,0)))))*I16/1000)","v":0},{"$f":"C17/1000","v":1.4279999999999999}]
[null,null,{"$f":"Вводные!B17","v":1428},null,{"$f":"Вводные!C17","v":80},null,null,null,null,null,{"$f":"(IF(J16>0,1,0)+IF(J17>0,1,0))*I16","v":0},null,null,0,{"$f":"IF(N17=1,E17,IF(N17=2,E17*2,0))*I16/1000","v":0},null,{"$f":"(IF(E16=1,E17,(IF(E16=2,E17*2,(IF(E16=\"1+R\",E17,(IF(E16=\"1+кр\",E17,(IF(E16=\"1+Rкр\",E17,0)))))))))*I16/1000)","v":0},{"$f":"(IF(E16=\"кр\",E17,(IF(E16=\"2кр\",E17*2,(IF(E16=\"1+кр\",E17,0)))))*I16/1000)","v":0},{"$f":"(IF(E16=\"R\",E17,(IF(E16=\"2R\",E17*2,(IF(E16=\"1+R\",E17,0)))))*I16/1000)","v":0},{"$f":"(IF(E16=\"Rкр\",E17,(IF(E16=\"2Rкр\",E17*2,(IF(E16=\"1+Rкр\",E17,0)))))*I16/1000)","v":0}]
[{"$f":"(ROW()-3)/2+0.5","v":8},{"$f":"IF(Вводные!A19=0,\" \",Вводные!A19)","v":"Кровать"},{"$f":"IF(Вводные!H19+Вводные!I19=0,\" \",Вводные!H19+Вводные!I19)","v":" "},"*",{"$f":"IF(Вводные!F19+Вводные!G19=0,\" \",Вводные!F19+Вводные!G19)","v":" "},{"$f":"$C$2*I18","v":1},{"$f":"Вводные!E19","v":"дсп"},null,{"$f":"Вводные!D19","v":1},null,{"$f":"(IF(L18>0,1,0)+IF(L19>0,1,0))*I18","v":0},null,{"$f":"(C19*2+E19*2)/1000*I18","v":2.976},0,{"$f":"IF(N18=1,C19,IF(N18=2,C19*2,0))*I18/1000","v":0},{"$f":"C19*E19*I18/1000000","v":8.5680000000000006E-2},{"$f":"(IF(C18=1,C19,(IF(C18=2,C19*2,(IF(C18=\"1+R\",C19,(IF(C18=\"1+кр\",C19,(IF(C18=\"1+Rкр\",C19,0)))))))))*I18/1000)","v":0},{"$f":"(IF(C18=\"кр\",C19,(IF(C18=\"2кр\",C19*2,(IF(C18=\"1+кр\",C19,0)))))*I18/1000)","v":0},{"$f":"(IF(C18=\"R\",C19,(IF(C18=\"2R\",C19*2,(IF(C18=\"1+R\",C19,0)))))*I18/1000)","v":0},{"$f":"(IF(C18=\"Rкр\",C19,(IF(C18=\"2Rкр\",C19*2,(IF(C18=\"1+Rкр\",C19,0)))))*I18/1000)","v":0},{"$f":"C19/1000","v":1.4279999999999999}]
[null,null,{"$f":"Вводные!B19","v":1428},null,{"$f":"Вводные!C19","v":60},null,null,null,null,null,{"$f":"(IF(J18>0,1,0)+IF(J19>0,1,0))*I18","v":0},null,null,0,{"$f":"IF(N19=1,E19,IF(N19=2,E19*2,0))*I18/1000","v":0},null,{"$f":"(IF(E18=1,E19,(IF(E18=2,E19*2,(IF(E18=\"1+R\",E19,(IF(E18=\"1+кр\",E19,(IF(E18=\"1+Rкр\",E19,0)))))))))*I18/1000)","v":0},{"$f":"(IF(E18=\"кр\",E19,(IF(E18=\"2кр\",E19*2,(IF(E18=\"1+кр\",E19,0)))))*I18/1000)","v":0},{"$f":"(IF(E18=\"R\",E19,(IF(E18=\"2R\",E19*2,(IF(E18=\"1+R\",E19,0)))))*I18/1000)","v":0},{"$f":"(IF(E18=\"Rкр\",E19,(IF(E18=\"2Rкр\",E19*2,(IF(E18=\"1+Rкр\",E19,0)))))*I18/1000)","v":0}]
[{"$f":"(ROW()-3)/2+0.5","v":9},{"$f":"IF(Вводные!A21=0,\" \",Вводные!A21)","v":"Кровать"},{"$f":"IF(Вводные!H21+Вводные!I21=0,\" \",Вводные!H21+Вводные!I21)","v":" "},"*",{"$f":"IF(Вводные!F21+Вводные!G21=0,\" \",Вводные!F21+Вводные!G21)","v":" "},{"$f":"$C$2*I20","v":1},{"$f":"Вводные!E21","v":"дсп"},null,{"$f":"Вводные!D21","v":1},null,{"$f":"(IF(L20>0,1,0)+IF(L21>0,1,0))*I20","v":0},null,{"$f":"(C21*2+E21*2)/1000*I20","v":3.42},0,{"$f":"IF(N20=1,C21,IF(N20=2,C21*2,0))*I20/1000","v":0},{"$f":"C21*E21*I20/1000000","v":0.42299999999999999},{"$f":"(IF(C20=1,C21,(IF(C20=2,C21*2,(IF(C20=\"1+R\",C21,(IF(C20=\"1+кр\",C21,(IF(C20=\"1+Rкр\",C21,0)))))))))*I20/1000)","v":0},{"$f":"(IF(C20=\"кр\",C21,(IF(C20=\"2кр\",C21*2,(IF(C20=\"1+кр\",C21,0)))))*I20/1000)","v":0},{"$f":"(IF(C20=\"R\",C21,(IF(C20=\"2R\",C21*2,(IF(C20=\"1+R\",C21,0)))))*I20/1000)","v":0},{"$f":"(IF(C20=\"Rкр\",C21,(IF(C20=\"2Rкр\",C21*2,(IF(C20=\"1+Rкр\",C21,0)))))*I20/1000)","v":0},{"$f":"C21/1000","v":1.41}]
[null,null,{"$f":"Вводные!B21","v":1410},null,{"$f":"Вводные!C21","v":300},null,null,null,null,null,{"$f":"(IF(J20>0,1,0)+IF(J21>0,1,0))*I20","v":0},null,null,0,{"$f":"IF(N21=1,E21,IF(N21=2,E21*2,0))*I20/1000","v":0},null,{"$f":"(IF(E20=1,E21,(IF(E20=2,E21*2,(IF(E20=\"1+R\",E21,(IF(E20=\"1+кр\",E21,(IF(E20=\"1+Rкр\",E21,0)))))))))*I20/1000)","v":0},{"$f":"(IF(E20=\"кр\",E21,(IF(E20=\"2кр\",E21*2,(IF(E20=\"1+кр\",E21,0)))))*I20/1000)","v":0},{"$f":"(IF(E20=\"R\",E21,(IF(E20=\"2R\",E21*2,(IF(E20=\"1+R\",E21,0)))))*I20/1000)","v":0},{"$f":"(IF(E20=\"Rкр\",E21,(IF(E20=\"2Rкр\",E21*2,(IF(E20=\"1+Rкр\",E21,0)))))*I20/1000)","v":0}]
[{"$f":"(ROW()-3)/2+0.5","v":10},{"$f":"IF(Вводные!A23=0,\" \",Вводные!A23)","v":"Кровать"},{"$f":"IF(Вводные!H23+Вводные!I23=0,\" \",Вводные!H23+Вводные!I23)","v":" "},"*",{"$f":"IF(Вводные!F23+Вводные!G23=0,\" \",Вводные!F23+Вводные!G23)","v":" "},{"$f":"$C$2*I22","v":2},{"$f":"Вводные!E23","v":"дсп"},null,{"$f":"Вводные!D23","v":2},null,{"$f":"(IF(L22>0,1,0)+IF(L23>0,1,0))*I22","v":0},null,{"$f":"(C23*2+E23*2)/1000*I22","v":2.2719999999999998},0,{"$f":"IF(N22=1,C23,IF(N22=2,C23*2,0))*I22/1000","v":0},{"$f":"C23*E23*I22/1000000","v":0.12540000000000001},{"$f":"(IF(C22=1,C23,(IF(C22=2,C23*2,(IF(C22=\"1+R\",C23,(IF(C22=\"1+кр\",C23,(IF(C22=\"1+Rкр\",C23,0)))))))))*I22/1000)","v":0},{"$f":"(IF(C22=\"кр\",C23,(IF(C22=\"2кр\",C23*2,(IF(C22=\"1+кр\",C23,0)))))*I22/1000)","v":0},{"$f":"(IF(C22=\"R\",C23,(IF(C22=\"2R\",C23*2,(IF(C22=\"1+R\",C23,0)))))*I22/1000)","v":0},{"$f":"(IF(C22=\"Rкр\",C23,(IF(C22=\"2Rкр\",C23*2,(IF(C22=\"1+Rкр\",C23,0)))))*I22/1000)","v":0},{"$f":"C23/1000","v":0.41799999999999998}]
[null,null,{"$f":"Вводные!B23","v":418},null,{"$f":"Вводные!C23","v":150},null,null,null,null,null,{"$f":"(IF(J22>0,1,0)+IF(J23>0,1,0))*I22","v":0},null,null,0,{"$f":"IF(N23=1,E23,IF(N23=2,E23*2,0))*I22/1000","v":0},null,{"$f":"(IF(E22=1,E23,(IF(E22=2,E23*2,(IF(E22=\"1+R\",E23,(IF(E22=\"1+кр\",E23,(IF(E22=\"1+Rкр\",E23,0)))))))))*I22/1000)","v":0},{"$f":"(IF(E22=\"кр\",E23,(IF(E22=\"2кр\",E23*2,(IF(E22=\"1+кр\",E23,0)))))*I22/1000)","v":0},{"$f":"(IF(E22=\"R\",E23,(IF(E22=\"2R\",E23*2,(IF(E22=\"1+R\",E23,0)))))*I22/1000)","v":0},{"$f":"(IF(E22=\"Rкр\",E23,(IF(E22=\"2Rкр\",E23*2,(IF(E22=\"1+Rкр\",E23,0)))))*I22/1000)","v":0}]
[{"$f":"(ROW()-3)/2+0.5","v":11},{"$f":"IF(Вводные!A25=0,\" \",Вводные!A25)","v":"Кровать"},{"$f":"IF(Вводные!H25+Вводные!I25=0,\" \",Вводные!H25+Вводные!I25)","v":" "},"*",{"$f":"IF(Вводные!F25+Вводные!G25=0,\" \",Вводные!F25+Вводные!G25)","v":" "},{"$f":"$C$2*I24","v":2},{"$f":"Вводные!E25","v":"дсп"},null,{"$f":"Вводные!D25","v":2},null,{"$f":"(IF(L24>0,1,0)+IF(L25>0,1,0))*I24","v":0},null,{"$f":"(C25*2+E25*2)/1000*I24","v":4.5599999999999996},0,{"$f":"IF(N24=1,C25,IF(N24=2,C25*2,0))*I24/1000","v":0},{"$f":"C25*E25*I24/1000000","v":0.29699999999999999},{"$f":"(IF(C24=1,C25,(IF(C24=2,C25*2,(IF(C24=\"1+R\",C25,(IF(C24=\"1+кр\",C25,(IF(C24=\"1+Rкр\",C25,0)))))))))*I24/1000)","v":0},{"$f":"(IF(C24=\"кр\",C25,(IF(C24=\"2кр\",C25*2,(IF(C24=\"1+кр\",C25,0)))))*I24/1000)","v":0},{"$f":"(IF(C24=\"R\",C25,(IF(C24=\"2R\",C25*2,(IF(C24=\"1+R\",C25,0)))))*I24/1000)","v":0},{"$f":"(IF(C24=\"Rкр\",C25,(IF(C24=\"2Rкр\",C25*2,(IF(C24=\"1+Rкр\",C25,0)))))*I24/1000)","v":0},{"$f":"C25/1000","v":0.99}]
[null,null,{"$f":"Вводные!B25","v":990},null,{"$f":"Вводные!C25","v":150},null,null,null,null,null,{"$f":"(IF(J24>0,1,0)+IF(J25>0,1,0))*I24","v":0},null,null,0,{"$f":"IF(N25=1,E25,IF(N25=2,E25*2,0))*I24/1000","v":0},null,{"$f":"(IF(E24=1,E25,(IF(E24=2,E25*2,(IF(E24=\"1+R\",E25,(IF(E24=\"1+кр\",E25,(IF(E24=\"1+Rкр\",E25,0)))))))))*I24/1000)","v":0},{"$f":"(IF(E24=\"кр\",E25,(IF(E24=\"2кр\",E25*2,(IF(E24=\"1+кр\",E25,0)))))*I24/1000)","v":0},{"$f":"(IF(E24=\"R\",E25,(IF(E24=\"2R\",E25*2,(IF(E24=\"1+R\",E25,0)))))*I24/1000)","v":0},{"$f":"(IF(E24=\"Rкр\",E25,(IF(E24=\"2Rкр\",E25*2,(IF(E24=\"1+Rкр\",E25,0)))))*I24/1000)","v":0}]
[{"$f":"(ROW()-3)/2+0.5","v":12},{"$f":"IF(Вводные!A27=0,\" \",Вводные!A27)","v":"Кровать"},{"$f":"IF(Вводные!H27+Вводные!I27=0,\" \",Вводные!H27+Вводные!I27)","v":" "},"*",{"$f":"IF(Вводные!F27+Вводные!G27=0,\" \",Вводные!F27+Вводные!G27)","v":" "},{"$f":"$C$2*I26","v":1},{"$f":"Вводные!E27","v":"дсп"},null,{"$f":"Вводные!D27","v":1},null,{"$f":"(IF(L26>0,1,0)+IF(L27>0,1,0))*I26","v":0},null,{"$f":"(C27*2+E27*2)/1000*I26","v":2.1880000000000002},0,{"$f":"IF(N26=1,C27,IF(N26=2,C27*2,0))*I26/1000","v":0},{"$f":"C27*E27*I26/1000000","v":0.1416},{"$f":"(IF(C26=1,C27,(IF(C26=2,C27*2,(IF(C26=\"1+R\",C27,(IF(C26=\"1+кр\",C27,(IF(C26=\"1+Rкр\",C27,0)))))))))*I26/1000)","v":0},{"$f":"(IF(C26=\"кр\",C27,(IF(C26=\"2кр\",C27*2,(IF(C26=\"1+кр\",C27,0)))))*I26/1000)","v":0},{"$f":"(IF(C26=\"R\",C27,(IF(C26=\"2R\",C27*2,(IF(C26=\"1+R\",C27,0)))))*I26/1000)","v":0},{"$f":"(IF(C26=\"Rкр\",C27,(IF(C26=\"2Rкр\",C27*2,(IF(C26=\"1+Rкр\",C27,0)))))*I26/1000)","v":0},{"$f":"C27/1000","v":0.94399999999999995}]
[null,null,{"$f":"Вводные!B27","v":944},null,{"$f":"Вводные!C27","v":150},null,null,null,null,null,{"$f":"(IF(J26>0,1,0)+IF(J27>0,1,0))*I26","v":0},null,null,0,{"$f":"IF(N27=1,E27,IF(N27=2,E27*2,0))*I26/1000","v":0},null,{"$f":"(IF(E26=1,E27,(IF(E26=2,E27*2,(IF(E26=\"1+R\",E27,(IF(E26=\"1+кр\",E27,(IF(E26=\"1+Rкр\",E27,0)))))))))*I26/1000)","v":0},{"$f":"(IF(E26=\"кр\",E27,(IF(E26=\"2кр\",E27*2,(IF(E26=\"1+кр\",E27,0)))))*I26/1000)","v":0},{"$f":"(IF(E26=\"R\",E27,(IF(E26=\"2R\",E27*2,(IF(E26=\"1+R\",E27,0)))))*I26/1000)","v":0},{"$f":"(IF(E26=\"Rкр\",E27,(IF(E26=\"2Rкр\",E27*2,(IF(E26=\"1+Rкр\",E27,0)))))*I26/1000)","v":0}]
[{"$f":"(ROW()-3)/2+0.5","v":13},{"$f":"IF(Вводные!A29=0,\" \",Вводные!A29)","v":"Кровать 10мм"},{"$f":"IF(Вводные!H29+Вводные!I29=0,\" \",Вводные!H29+Вводные!I29)","v":" "},"*",{"$f":"IF(Вводные!F29+Вводные!G29=0,\" \",Вводные!F29+Вводные!G29)","v":" "},{"$f":"$C$2*I28","v":2},{"$f":"Вводные!E29","v":"дсп"},null,{"$f":"Вводные!D29","v":2},null,{"$f":"(IF(L28>0,1,0)+IF(L29>0,1,0))*I28","v":0},null,{"$f":"(C29*2+E29*2)/1000*I28","v":4.4800000000000004},0,{"$f":"IF(N28=1,C29,IF(N28=2,C29*2,0))*I28/1000","v":0},{"$f":"C29*E29*I28/1000000","v":0.25740000000000002},{"$f":"(IF(C28=1,C29,(IF(C28=2,C29*2,(IF(C28=\"1+R\",C29,(IF(C28=\"1+кр\",C29,(IF(C28=\"1+Rкр\",C29,0)))))))))*I28/1000)","v":0},{"$f":"(IF(C28=\"кр\",C29,(IF(C28=\"2кр\",C29*2,(IF(C28=\"1+кр\",C29,0)))))*I28/1000)","v":0},{"$f":"(IF(C28=\"R\",C29,(IF(C28=\"2R\",C29*2,(IF(C28=\"1+R\",C29,0)))))*I28/1000)","v":0},{"$f":"(IF(C28=\"Rкр\",C29,(IF(C28=\"2Rкр\",C29*2,(IF(C28=\"1+Rкр\",C29,0)))))*I28/1000)","v":0},{"$f":"C29/1000","v":0.99}]
[null,null,{"$f":"Вводные!B29","v":990},null,{"$f":"Вводные!C29","v":130},null,null,null,null,null,{"$f":"(IF(J28>0,1,0)+IF(J29>0,1,0))*I28","v":0},null,null,0,{"$f":"IF(N29=1,E29,IF(N29=2,E29*2,0))*I28/1000","v":0},null,{"$f":"(IF(E28=1,E29,(IF(E28=2,E29*2,(IF(E28=\"1+R\",E29,(IF(E28=\"1+кр\",E29,(IF(E28=\"1+Rкр\",E29,0)))))))))*I28/1000)","v":0},{"$f":"(IF(E28=\"кр\",E29,(IF(E28=\"2кр\",E29*2,(IF(E28=\"1+кр\",E29,0)))))*I28/1000)","v":0},{"$f":"(IF(E28=\"R\",E29,(IF(E28=\"2R\",E29*2,(IF(E28=\"1+R\",E29,0)))))*I28/1000)","v":0},{"$f":"(IF(E28=\"Rкр\",E29,(IF(E28=\"2Rкр\",E29*2,(IF(E28=\"1+Rкр\",E29,0)))))*I28/1000)","v":0}]
[{"$f":"(ROW()-3)/2+0.5","v":14},{"$f":"IF(Вводные!A31=0,\" \",Вводные!A31)","v":"Кровать"},{"$f":"IF(Вводные!H31+Вводные!I31=0,\" \",Вводные!H31+Вводные!I31)","v":" "},"*",{"$f":"IF(Вводные!F31+Вводные!G31=0,\" \",Вводные!F31+Вводные!G31)","v":" "},{"$f":"$C$2*I30","v":1},{"$f":"Вводные!E31","v":"дсп"},null,{"$f":"Вводные!D31","v":1},null,{"$f":"(IF(L30>0,1,0)+IF(L31>0,1,0))*I30","v":0},null,{"$f":"(C31*2+E31*2)/1000*I30","v":3.26},0,{"$f":"IF(N30=1,C31,IF(N30=2,C31*2,0))*I30/1000","v":0},{"$f":"C31*E31*I30/1000000","v":0.53820000000000001},{"$f":"(IF(C30=1,C31,(IF(C30=2,C31*2,(IF(C30=\"1+R\",C31,(IF(C30=\"1+кр\",C31,(IF(C30=\"1+Rкр\",C31,0)))))))))*I30/1000)","v":0},{"$f":"(IF(C30=\"кр\",C31,(IF(C30=\"2кр\",C31*2,(IF(C30=\"1+кр\",C31,0)))))*I30/1000)","v":0},{"$f":"(IF(C30=\"R\",C31,(IF(C30=\"2R\",C31*2,(IF(C30=\"1+R\",C31,0)))))*I30/1000)","v":0},{"$f":"(IF(C30=\"Rкр\",C31,(IF(C30=\"2Rкр\",C31*2,(IF(C30=\"1+Rкр\",C31,0)))))*I30/1000)","v":0},{"$f":"C31/1000","v":1.17}]
[null,null,{"$f":"Вводные!B31","v":1170},null,{"$f":"Вводные!C31","v":460},null,null,null,null,null,{"$f":"(IF(J30>0,1,0)+IF(J31>0,1,0))*I30","v":0},null,null,0,{"$f":"IF(N31=1,E31,IF(N31=2,E31*2,0))*I30/1000","v":0},null,{"$f":"(IF(E30=1,E31,(IF(E30=2,E31*2,(IF(E30=\"1+R\",E31,(IF(E30=\"1+кр\",E31,(IF(E30=\"1+Rкр\",E31,0)))))))))*I30/1000)","v":0},{"$f":"(IF(E30=\"кр\",E31,(IF(E30=\"2кр\",E31*2,(IF(E30=\"1+кр\",E31,0)))))*I30/1000)","v":0},{"$f":"(IF(E30=\"R\",E31,(IF(E30=\"2R\",E31*2,(IF(E30=\"1+R\",E31,0)))))*I30/1000)","v":0},{"$f":"(IF(E30=\"Rкр\",E31,(IF(E30=\"2Rкр\",E31*2,(IF(E30=\"1+Rкр\",E31,0)))))*I30/1000)","v":0}]
[{"$f":"(ROW()-3)/2+0.5","v":15},{"$f":"IF(Вводные!A39=0,\" \",Вводные!A39)","v":"ящик бельё"},{"$f":"IF(Вводные!H39+Вводные!I39=0,\" \",Вводные!H39+Вводные!I39)","v":1},"*",{"$f":"IF(Вводные!F39+Вводные!G39=0,\" \",Вводные!F39+Вводные!G39)","v":" "},{"$f":"$C$2*I32","v":4},{"$f":"Вводные!E39","v":"лдсп"},"для ящика под бельё /16",{"$f":"Вводные!D39","v":4},null,{"$f":"(IF(L32>0,1,0)+IF(L33>0,1,0))*I32","v":0},null,{"$f":"(C33*2+E33*2)/1000*I32","v":12.72},0,{"$f":"IF(N32=1,C33,IF(N32=2,C33*2,0))*I32/1000","v":0},{"$f":"C33*E33*I32/1000000","v":1.0152000000000001},{"$f":"(IF(C32=1,C33,(IF(C32=2,C33*2,(IF(C32=\"1+R\",C33,(IF(C32=\"1+кр\",C33,(IF(C32=\"1+Rкр\",C33,0)))))))))*I32/1000)","v":5.64},{"$f":"(IF(C32=\"кр\",C33,(IF(C32=\"2кр\",C33*2,(IF(C32=\"1+кр\",C33,0)))))*I32/1000)","v":0},{"$f":"(IF(C32=\"R\",C33,(IF(C32=\"2R\",C33*2,(IF(C32=\"1+R\",C33,0)))))*I32/1000)","v":0},{"$f":"(IF(C32=\"Rкр\",C33,(IF(C32=\"2Rкр\",C33*2,(IF(C32=\"1+Rкр\",C33,0)))))*I32/1000)","v":0},{"$f":"C33/1000","v":1.41}]
[null,null,{"$f":"Вводные!B39","v":1410},null,{"$f":"Вводные!C39","v":180},null,null,null,null,null,{"$f":"(IF(J32>0,1,0)+IF(J33>0,1,0))*I32","v":0},null,null,0,{"$f":"IF(N33=1,E33,IF(N33=2,E33*2,0))*I32/1000","v":0},null,{"$f":"(IF(E32=1,E33,(IF(E32=2,E33*2,(IF(E32=\"1+R\",E33,(IF(E32=\"1+кр\",E33,(IF(E32=\"1+Rкр\",E33,0)))))))))*I32/1000)","v":0},{"$f":"(IF(E32=\"кр\",E33,(IF(E32=\"2кр\",E33*2,(IF(E32=\"1+кр\",E33,0)))))*I32/1000)","v":0},{"$f":"(IF(E32=\"R\",E33,(IF(E32=\"2R\",E33*2,(IF(E32=\"1+R\",E33,0)))))*I32/1000)","v":0},{"$f":"(IF(E32=\"Rкр\",E33,(IF(E32=\"2Rкр\",E33*2,(IF(E32=\"1+Rкр\",E33,0)))))*I32/1000)","v":0}]
[{"$f":"(ROW()-3)/2+0.5","v":16},{"$f":"IF(Вводные!A41=0,\" \",Вводные!A41)","v":"ящик бельё"},{"$f":"IF(Вводные!H41+Вводные!I41=0,\" \",Вводные!H41+Вводные!I41)","v":1},"*",{"$f":"IF(Вводные!F41+Вводные!G41=0,\" \",Вводные!F41+Вводные!G41)","v":" "},{"$f":"$C$2*I34","v":4},{"$f":"Вводные!E41","v":"лдсп"},null,{"$f":"Вводные!D41","v":4},null,{"$f":"(IF(L34>0,1,0)+IF(L35>0,1,0))*I34","v":0},null,{"$f":"(C35*2+E35*2)/1000*I34","v":9.0719999999999992},0,{"$f":"IF(N34=1,C35,IF(N34=2,C35*2,0))*I34/1000","v":0},{"$f":"C35*E35*I34/1000000","v":0.62661199999999995},{"$f":"(IF(C34=1,C35,(IF(C34=2,C35*2,(IF(C34=\"1+R\",C35,(IF(C34=\"1+кр\",C35,(IF(C34=\"1+Rкр\",C35,0)))))))))*I34/1000)","v":3.8919999999999999},{"$f":"(IF(C34=\"кр\",C35,(IF(C34=\"2кр\",C35*2,(IF(C34=\"1+кр\",C35,0)))))*I34/1000)","v":0},{"$f":"(IF(C34=\"R\",C35,(IF(C34=\"2R\",C35*2,(IF(C34=\"1+R\",C35,0)))))*I34/1000)","v":0},{"$f":"(IF(C34=\"Rкр\",C35,(IF(C34=\"2Rкр\",C35*2,(IF(C34=\"1+Rкр\",C35,0)))))*I34/1000)","v":0},{"$f":"C35/1000","v":0.97299999999999998}]
[null,null,{"$f":"Вводные!B41","v":973},null,{"$f":"Вводные!C41","v":161},null,null,null,null,null,{"$f":"(IF(J34>0,1,0)+IF(J35>0,1,0))*I34","v":0},null,null,0,{"$f":"IF(N35=1,E35,IF(N35=2,E35*2,0))*I34/1000","v":0},null,{"$f":"(IF(E34=1,E35,(IF(E34=2,E35*2,(IF(E34=\"1+R\",E35,(IF(E34=\"1+кр\",E35,(IF(E34=\"1+Rкр\",E35,0)))))))))*I34/1000)","v":0},{"$f":"(IF(E34=\"кр\",E35,(IF(E34=\"2кр\",E35*2,(IF(E34=\"1+кр\",E35,0)))))*I34/1000)","v":0},{"$f":"(IF(E34=\"R\",E35,(IF(E34=\"2R\",E35*2,(IF(E34=\"1+R\",E35,0)))))*I34/1000)","v":0},{"$f":"(IF(E34=\"Rкр\",E35,(IF(E34=\"2Rкр\",E35*2,(IF(E34=\"1+Rкр\",E35,0)))))*I34/1000)","v":0}]
[{"$f":"(ROW()-3)/2+0.5","v":17},{"$f":"IF(Вводные!A43=0,\" \",Вводные!A43)","v":"ящик бельё"},{"$f":"IF(Вводные!H43+Вводные!I43=0,\" \",Вводные!H43+Вводные!I43)","v":" "},"*",{"$f":"IF(Вводные!F43+Вводные!G43=0,\" \",Вводные!F43+Вводные!G43)","v":" "},{"$f":"$C$2*I36","v":4},{"$f":"Вводные!E43","v":"лдсп"},null,{"$f":"Вводные!D43","v":4},null,{"$f":"(IF(L36>0,1,0)+IF(L37>0,1,0))*I36","v":0},null,{"$f":"(C37*2+E37*2)/1000*I36","v":8.4239999999999995},0,{"$f":"IF(N36=1,C37,IF(N36=2,C37*2,0))*I36/1000","v":0},{"$f":"C37*E37*I36/1000000","v":0.31136000000000003},{"$f":"(IF(C36=1,C37,(IF(C36=2,C37*2,(IF(C36=\"1+R\",C37,(IF(C36=\"1+кр\",C37,(IF(C36=\"1+Rкр\",C37,0)))))))))*I36/1000)","v":0},{"$f":"(IF(C36=\"кр\",C37,(IF(C36=\"2кр\",C37*2,(IF(C36=\"1+кр\",C37,0)))))*I36/1000)","v":0},{"$f":"(IF(C36=\"R\",C37,(IF(C36=\"2R\",C37*2,(IF(C36=\"1+R\",C37,0)))))*I36/1000)","v":0},{"$f":"(IF(C36=\"Rкр\",C37,(IF(C36=\"2Rкр\",C37*2,(IF(C36=\"1+Rкр\",C37,0)))))*I36/1000)","v":0},{"$f":"C37/1000","v":0.97299999999999998}]
[null,null,{"$f":"Вводные!B43","v":973},null,{"$f":"Вводные!C43","v":80},null,null,null,null,null,{"$f":"(IF(J36>0,1,0)+IF(J37>0,1,0))*I36","v":0},null,null,0,{"$f":"IF(N37=1,E37,IF(N37=2,E37*2,0))*I36/1000","v":0},null,{"$f":"(IF(E36=1,E37,(IF(E36=2,E37*2,(IF(E36=\"1+R\",E37,(IF(E36=\"1+кр\",E37,(IF(E36=\"1+Rкр\",E37,0)))))))))*I36/1000)","v":0},{"$f":"(IF(E36=\"кр\",E37,(IF(E36=\"2кр\",E37*2,(IF(E36=\"1+кр\",E37,0)))))*I36/1000)","v":0},{"$f":"(IF(E36=\"R\",E37,(IF(E36=\"2R\",E37*2,(IF(E36=\"1+R\",E37,0)))))*I36/1000)","v":0},{"$f":"(IF(E36=\"Rкр\",E37,(IF(E36=\"2Rкр\",E37*2,(IF(E36=\"1+Rкр\",E37,0)))))*I36/1000)","v":0}]
[{"$f":"(ROW()-3)/2+0.5","v":18},{"$f":"IF(Вводные!A45=0,\" \",Вводные!A45)","v":"ящик бельё"},{"$f":"IF(Вводные!H45+Вводные!I45=0,\" \",Вводные!H45+Вводные!I45)","v":" "},"*",{"$f":"IF(Вводные!F45+Вводные!G45=0,\" \",Вводные!F45+Вводные!G45)","v":" "},{"$f":"$C$2*I38","v":2},{"$f":"Вводные!E45","v":"лдсп"},null,{"$f":"Вводные!D45","v":2},null,{"$f":"(IF(L38>0,1,0)+IF(L39>0,1,0))*I38","v":0},null,{"$f":"(C39*2+E39*2)/1000*I38","v":4.2119999999999997},0,{"$f":"IF(N38=1,C39,IF(N38=2,C39*2,0))*I38/1000","v":0},{"$f":"C39*E39*I38/1000000","v":0.15568000000000001},{"$f":"(IF(C38=1,C39,(IF(C38=2,C39*2,(IF(C38=\"1+R\",C39,(IF(C38=\"1+кр\",C39,(IF(C38=\"1+Rкр\",C39,0)))))))))*I38/1000)","v":0},{"$f":"(IF(C38=\"кр\",C39,(IF(C38=\"2кр\",C39*2,(IF(C38=\"1+кр\",C39,0)))))*I38/1000)","v":0},{"$f":"(IF(C38=\"R\",C39,(IF(C38=\"2R\",C39*2,(IF(C38=\"1+R\",C39,0)))))*I38/1000)","v":0},{"$f":"(IF(C38=\"Rкр\",C39,(IF(C38=\"2Rкр\",C39*2,(IF(C38=\"1+Rкр\",C39,0)))))*I38/1000)","v":0},{"$f":"C39/1000","v":0.97299999999999998}]
[null,null,{"$f":"Вводные!B45","v":973},null,{"$f":"Вводные!C45","v":80},null,null,null,null,null,{"$f":"(IF(J38>0,1,0)+IF(J39>0,1,0))*I38","v":0},null,null,0,{"$f":"IF(N39=1,E39,IF(N39=2,E39*2,0))*I38/1000","v":0},null,{"$f":"(IF(E38=1,E39,(IF(E38=2,E39*2,(IF(E38=\"1+R\",E39,(IF(E38=\"1+кр\",E39,(IF(E38=\"1+Rкр\",E39,0)))))))))*I38/1000)","v":0},{"$f":"(IF(E38=\"кр\",E39,(IF(E38=\"2кр\",E39*2,(IF(E38=\"1+кр\",E39,0)))))*I38/1000)","v":0},{"$f":"(IF(E38=\"R\",E39,(IF(E38=\"2R\",E39*2,(IF(E38=\"1+R\",E39,0)))))*I38/1000)","v":0},{"$f":"(IF(E38=\"Rкр\",E39,(IF(E38=\"2Rкр\",E39*2,(IF(E38=\"1+Rкр\",E39,0)))))*I38/1000)","v":0}]
[{"$f":"(ROW()-3)/2+0.5","v":19},{"$f":"IF(Вводные!A47=0,\" \",Вводные!A47)","v":"ящик бельё"},{"$f":"IF(Вводные!H47+Вводные!I47=0,\" \",Вводные!H47+Вводные!I47)","v":" "},"*",{"$f":"IF(Вводные!F47+Вводные!G47=0,\" \",Вводные!F47+Вводные!G47)","v":" "},{"$f":"$C$2*I40","v":2},{"$f":"Вводные!E47","v":"двп"},null,{"$f":"Вводные!D47","v":2},null,{"$f":"(IF(L40>0,1,0)+IF(L41>0,1,0))*I40","v":0},null,{"$f":"(C41*2+E41*2)/1000*I40","v":9.5640000000000001},0,{"$f":"IF(N40=1,C41,IF(N40=2,C41*2,0))*I40/1000","v":0},{"$f":"C41*E41*I40/1000000","v":2.7681279999999999},{"$f":"(IF(C40=1,C41,(IF(C40=2,C41*2,(IF(C40=\"1+R\",C41,(IF(C40=\"1+кр\",C41,(IF(C40=\"1+Rкр\",C41,0)))))))))*I40/1000)","v":0},{"$f":"(IF(C40=\"кр\",C41,(IF(C40=\"2кр\",C41*2,(IF(C40=\"1+кр\",C41,0)))))*I40/1000)","v":0},{"$f":"(IF(C40=\"R\",C41,(IF(C40=\"2R\",C41*2,(IF(C40=\"1+R\",C41,0)))))*I40/1000)","v":0},{"$f":"(IF(C40=\"Rкр\",C41,(IF(C40=\"2Rкр\",C41*2,(IF(C40=\"1+Rкр\",C41,0)))))*I40/1000)","v":0},{"$f":"C41/1000","v":1.4079999999999999}]
[null,null,{"$f":"Вводные!B47","v":1408},null,{"$f":"Вводные!C47","v":983},null,null,null,null,null,{"$f":"(IF(J40>0,1,0)+IF(J41>0,1,0))*I40","v":0},null,null,0,{"$f":"IF(N41=1,E41,IF(N41=2,E41*2,0))*I40/1000","v":0},null,{"$f":"(IF(E40=1,E41,(IF(E40=2,E41*2,(IF(E40=\"1+R\",E41,(IF(E40=\"1+кр\",E41,(IF(E40=\"1+Rкр\",E41,0)))))))))*I40/1000)","v":0},{"$f":"(IF(E40=\"кр\",E41,(IF(E40=\"2кр\",E41*2,(IF(E40=\"1+кр\",E41,0)))))*I40/1000)","v":0},{"$f":"(IF(E40=\"R\",E41,(IF(E40=\"2R\",E41*2,(IF(E40=\"1+R\",E41,0)))))*I40/1000)","v":0},{"$f":"(IF(E40=\"Rкр\",E41,(IF(E40=\"2Rкр\",E41*2,(IF(E40=\"1+Rкр\",E41,0)))))*I40/1000)","v":0}]
[{"$f":"(ROW()-3)/2+0.5","v":20},{"$f":"IF(Вводные!A49=0,\" \",Вводные!A49)","v":""},{"$f":"IF(Вводные!H49+Вводные!I49=0,\" \",Вводные!H49+Вводные!I49)","v":" "},"*",{"$f":"IF(Вводные!F49+Вводные!G49=0,\" \",Вводные!F49+Вводные!G49)","v":" "},{"$f":"$C$2*I42","v":0},{"$f":"Вводные!E49","v":""},null,{"$f":"Вводные!D49","v":0},null,{"$f":"(IF(L42>0,1,0)+IF(L43>0,1,0))*I42","v":0},null,{"$f":"(C43*2+E43*2)/1000*I42","v":0},0,{"$f":"IF(N42=1,C43,IF(N42=2,C43*2,0))*I42/1000","v":0},{"$f":"C43*E43*I42/1000000","v":0},{"$f":"(IF(C42=1,C43,(IF(C42=2,C43*2,(IF(C42=\"1+R\",C43,(IF(C42=\"1+кр\",C43,(IF(C42=\"1+Rкр\",C43,0)))))))))*I42/1000)","v":0},{"$f":"(IF(C42=\"кр\",C43,(IF(C42=\"2кр\",C43*2,(IF(C42=\"1+кр\",C43,0)))))*I42/1000)","v":0},{"$f":"(IF(C42=\"R\",C43,(IF(C42=\"2R\",C43*2,(IF(C42=\"1+R\",C43,0)))))*I42/1000)","v":0},{"$f":"(IF(C42=\"Rкр\",C43,(IF(C42=\"2Rкр\",C43*2,(IF(C42=\"1+Rкр\",C43,0)))))*I42/1000)","v":0},{"$f":"C43/1000","v":0}]
[null,null,{"$f":"Вводные!B49","v":0},null,{"$f":"Вводные!C49","v":0},null,null,null,null,null,{"$f":"(IF(J42>0,1,0)+IF(J43>0,1,0))*I42","v":0},null,null,0,{"$f":"IF(N43=1,E43,IF(N43=2,E43*2,0))*I42/1000","v":0},null,{"$f":"(IF(E42=1,E43,(IF(E42=2,E43*2,(IF(E42=\"1+R\",E43,(IF(E42=\"1+кр\",E43,(IF(E42=\"1+Rкр\",E43,0)))))))))*I42/1000)","v":0},{"$f":"(IF(E42=\"кр\",E43,(IF(E42=\"2кр\",E43*2,(IF(E42=\"1+кр\",E43,0)))))*I42/1000)","v":0},{"$f":"(IF(E42=\"R\",E43,(IF(E42=\"2R\",E43*2,(IF(E42=\"1+R\",E43,0)))))*I42/1000)","v":0},{"$f":"(IF(E42=\"Rкр\",E43,(IF(E42=\"2Rкр\",E43*2,(IF(E42=\"1+Rкр\",E43,0)))))*I42/1000)","v":0}]
[{"$f":"(ROW()-3)/2+0.5","v":21},{"$f":"IF(Вводные!A51=0,\" \",Вводные!A51)","v":" "},{"$f":"IF(Вводные!H51+Вводные!I51=0,\" \",Вводные!H51+Вводные!I51)","v":" "},"*",{"$f":"IF(Вводные!F51+Вводные!G51=0,\" \",Вводные!F51+Вводные!G51)","v":" "},{"$f":"$C$2*I44","v":0},{"$f":"Вводные!E51","v":0},null,{"$f":"Вводные!D51","v":0},null,{"$f":"(IF(L44>0,1,0)+IF(L45>0,1,0))*I44","v":0},null,{"$f":"(C45*2+E45*2)/1000*I44","v":0},0,{"$f":"IF(N44=1,C45,IF(N44=2,C45*2,0))*I44/1000","v":0},{"$f":"C45*E45*I44/1000000","v":0},{"$f":"(IF(C44=1,C45,(IF(C44=2,C45*2,(IF(C44=\"1+R\",C45,(IF(C44=\"1+кр\",C45,(IF(C44=\"1+Rкр\",C45,0)))))))))*I44/1000)","v":0},{"$f":"(IF(C44=\"кр\",C45,(IF(C44=\"2кр\",C45*2,(IF(C44=\"1+кр\",C45,0)))))*I44/1000)","v":0},{"$f":"(IF(C44=\"R\",C45,(IF(C44=\"2R\",C45*2,(IF(C44=\"1+R\",C45,0)))))*I44/1000)","v":0},{"$f":"(IF(C44=\"Rкр\",C45,(IF(C44=\"2Rкр\",C45*2,(IF(C44=\"1+Rкр\",C45,0)))))*I44/1000)","v":0},{"$f":"C45/1000","v":0}]
[null,null,{"$f":"Вводные!B51","v":0},null,{"$f":"Вводные!C51","v":0},null,null,null,null,null,{"$f":"(IF(J44>0,1,0)+IF(J45>0,1,0))*I44","v":0},null,null,0,{"$f":"IF(N45=1,E45,IF(N45=2,E45*2,0))*I44/1000","v":0},null,{"$f":"(IF(E44=1,E45,(IF(E44=2,E45*2,(IF(E44=\"1+R\",E45,(IF(E44=\"1+кр\",E45,(IF(E44=\"1+Rкр\",E45,0)))))))))*I44/1000)","v":0},{"$f":"(IF(E44=\"кр\",E45,(IF(E44=\"2кр\",E45*2,(IF(E44=\"1+кр\",E45,0)))))*I44/1000)","v":0},{"$f":"(IF(E44=\"R\",E45,(IF(E44=\"2R\",E45*2,(IF(E44=\"1+R\",E45,0)))))*I44/1000)","v":0},{"$f":"(IF(E44=\"Rкр\",E45,(IF(E44=\"2Rкр\",E45*2,(IF(E44=\"1+Rкр\",E45,0)))))*I44/1000)","v":0}]
[{"$f":"(ROW()-3)/2+0.5","v":22},{"$f":"IF(Вводные!A53=0,\" \",Вводные!A53)","v":" "},{"$f":"IF(Вводные!H53+Вводные!I53=0,\" \",Вводные!H53+Вводные!I53)","v":" "},"*",{"$f":"IF(Вводные!F53+Вводные!G53=0,\" \",Вводные!F53+Вводные!G53)","v":" "},{"$f":"$C$2*I46","v":0},{"$f":"Вводные!E53","v":0},null,{"$f":"Вводные!D53","v":0},null,{"$f":"(IF(L46>0,1,0)+IF(L47>0,1,0))*I46","v":0},null,{"$f":"(C47*2+E47*2)/1000*I46","v":0},0,{"$f":"IF(N46=1,C47,IF(N46=2,C47*2,0))*I46/1000","v":0},{"$f":"C47*E47*I46/1000000","v":0},{"$f":"(IF(C46=1,C47,(IF(C46=2,C47*2,(IF(C46=\"1+R\",C47,(IF(C46=\"1+кр\",C47,(IF(C46=\"1+Rкр\",C47,0)))))))))*I46/1000)","v":0},{"$f":"(IF(C46=\"кр\",C47,(IF(C46=\"2кр\",C47*2,(IF(C46=\"1+кр\",C47,0)))))*I46/1000)","v":0},{"$f":"(IF(C46=\"R\",C47,(IF(C46=\"2R\",C47*2,(IF(C46=\"1+R\",C47,0)))))*I46/1000)","v":0},{"$f":"(IF(C46=\"Rкр\",C47,(IF(C46=\"2Rкр\",C47*2,(IF(C46=\"1+Rкр\",C47,0)))))*I46/1000)","v":0},{"$f":"C47/1000","v":0}]
[null,null,{"$f":"Вводные!B53","v":0},null,{"$f":"Вводные!C53","v":0},null,null,null,null,null,{"$f":"(IF(J46>0,1,0)+IF(J47>0,1,0))*I46","v":0},null,null,0,{"$f":"IF(N47=1,E47,IF(N47=2,E47*2,0))*I46/1000","v":0},null,{"$f":"(IF(E46=1,E47,(IF(E46=2,E47*2,(IF(E46=\"1+R\",E47,(IF(E46=\"1+кр\",E47,(IF(E46=\"1+Rкр\",E47,0)))))))))*I46/1000)","v":0},{"$f":"(IF(E46=\"кр\",E47,(IF(E46=\"2кр\",E47*2,(IF(E46=\"1+кр\",E47,0)))))*I46/1000)","v":0},{"$f":"(IF(E46=\"R\",E47,(IF(E46=\"2R\",E47*2,(IF(E46=\"1+R\",E47,0)))))*I46/1000)","v":0},{"$f":"(IF(E46=\"Rкр\",E47,(IF(E46=\"2Rкр\",E47*2,(IF(E46=\"1+Rкр\",E47,0)))))*I46/1000)","v":0}]
[{"$f":"(ROW()-3)/2+0.5","v":23},{"$f":"IF(Вводные!A55=0,\" \",Вводные!A55)","v":" "},{"$f":"IF(Вводные!H55+Вводные!I55=0,\" \",Вводные!H55+Вводные!I55)","v":" "},"*",{"$f":"IF(Вводные!F55+Вводные!G55=0,\" \",Вводные!F55+Вводные!G55)","v":" "},{"$f":"$C$2*I48","v":0},{"$f":"Вводные!E55","v":0},null,{"$f":"Вводные!D55","v":0},null,{"$f":"(IF(L48>0,1,0)+IF(L49>0,1,0))*I48","v":0},null,{"$f":"(C49*2+E49*2)/1000*I48","v":0},0,{"$f":"IF(N48=1,C49,IF(N48=2,C49*2,0))*I48/1000","v":0},{"$f":"C49*E49*I48/1000000","v":0},{"$f":"(IF(C48=1,C49,(IF(C48=2,C49*2,(IF(C48=\"1+R\",C49,(IF(C48=\"1+кр\",C49,(IF(C48=\"1+Rкр\",C49,0)))))))))*I48/1000)","v":0},{"$f":"(IF(C48=\"кр\",C49,(IF(C48=\"2кр\",C49*2,(IF(C48=\"1+кр\",C49,0)))))*I48/1000)","v":0},{"$f":"(IF(C48=\"R\",C49,(IF(C48=\"2R\",C49*2,(IF(C48=\"1+R\",C49,0)))))*I48/1000)","v":0},{"$f":"(IF(C48=\"Rкр\",C49,(IF(C48=\"2Rкр\",C49*2,(IF(C48=\"1+Rкр\",C49,0)))))*I48/1000)","v":0},{"$f":"C49/1000","v":0}]
[null,null,{"$f":"Вводные!B55","v":0},null,{"$f":"Вводные!C55","v":0},null,null,null,null,null,{"$f":"(IF(J48>0,1,0)+IF(J49>0,1,0))*I48","v":0},null,null,0,{"$f":"IF(N49=1,E49,IF(N49=2,E49*2,0))*I48/1000","v":0},null,{"$f":"(IF(E48=1,E49,(IF(E48=2,E49*2,(IF(E48=\"1+R\",E49,(IF(E48=\"1+кр\",E49,(IF(E48=\"1+Rкр\",E49,0)))))))))*I48/1000)","v":0},{"$f":"(IF(E48=\"кр\",E49,(IF(E48=\"2кр\",E49*2,(IF(E48=\"1+кр\",E49,0)))))*I48/1000)","v":0},{"$f":"(IF(E48=\"R\",E49,(IF(E48=\"2R\",E49*2,(IF(E48=\"1+R\",E49,0)))))*I48/1000)","v":0},{"$f":"(IF(E48=\"Rкр\",E49,(IF(E48=\"2Rкр\",E49*2,(IF(E48=\"1+Rкр\",E49,0)))))*I48/1000)","v":0}]
[{"$f":"(ROW()-3)/2+0.5","v":24},{"$f":"IF(Вводные!A57=0,\" \",Вводные!A57)","v":" "},{"$f":"IF(Вводные!H57+Вводные!I57=0,\" \",Вводные!H57+Вводные!I57)","v":" "},"*",{"$f":"IF(Вводные!F57+Вводные!G57=0,\" \",Вводные!F57+Вводные!G57)","v":" "},{"$f":"$C$2*I50","v":0},{"$f":"Вводные!E57","v":0},null,{"$f":"Вводные!D57","v":0},null,{"$f":"(IF(L50>0,1,0)+IF(L51>0,1,0))*I50","v":0},null,{"$f":"(C51*2+E51*2)/1000*I50","v":0},0,{"$f":"IF(N50=1,C51,IF(N50=2,C51*2,0))*I50/1000","v":0},{"$f":"C51*E51*I50/1000000","v":0},{"$f":"(IF(C50=1,C51,(IF(C50=2,C51*2,(IF(C50=\"1+R\",C51,(IF(C50=\"1+кр\",C51,(IF(C50=\"1+Rкр\",C51,0)))))))))*I50/1000)","v":0},{"$f":"(IF(C50=\"кр\",C51,(IF(C50=\"2кр\",C51*2,(IF(C50=\"1+кр\",C51,0)))))*I50/1000)","v":0},{"$f":"(IF(C50=\"R\",C51,(IF(C50=\"2R\",C51*2,(IF(C50=\"1+R\",C51,0)))))*I50/1000)","v":0},{"$f":"(IF(C50=\"Rкр\",C51,(IF(C50=\"2Rкр\",C51*2,(IF(C50=\"1+Rкр\",C51,0)))))*I50/1000)","v":0},{"$f":"C51/1000","v":0}]
[null,null,{"$f":"Вводные!B57","v":0},null,{"$f":"Вводные!C57","v":0},null,null,null,null,null,{"$f":"(IF(J50>0,1,0)+IF(J51>0,1,0))*I50","v":0},null,null,0,{"$f":"IF(N51=1,E51,IF(N51=2,E51*2,0))*I50/1000","v":0},null,{"$f":"(IF(E50=1,E51,(IF(E50=2,E51*2,(IF(E50=\"1+R\",E51,(IF(E50=\"1+кр\",E51,(IF(E50=\"1+Rкр\",E51,0)))))))))*I50/1000)","v":0},{"$f":"(IF(E50=\"кр\",E51,(IF(E50=\"2кр\",E51*2,(IF(E50=\"1+кр\",E51,0)))))*I50/1000)","v":0},{"$f":"(IF(E50=\"R\",E51,(IF(E50=\"2R\",E51*2,(IF(E50=\"1+R\",E51,0)))))*I50/1000)","v":0},{"$f":"(IF(E50=\"Rкр\",E51,(IF(E50=\"2Rкр\",E51*2,(IF(E50=\"1+Rкр\",E51,0)))))*I50/1000)","v":0}]

{"sheet":"Расходник","index":4,"n_rows":42,"n_cols":27,"rows_kept":42,"cut":false,"hidden":false,"merged":[[56,5,56,6],[55,5,55,6],[54,5,54,6],[53,5,53,6],[52,5,52,6],[1,3,1,5],[0,3,0,5],[18,0,18,4],[18,5,18,6],[17,0,17,4],[17,5,17,6],[20,0,20,4],[20,5,20,6],[33,0,33,4],[33,5,33,6],[42,0,42,4],[21,0,21,4],[29,0,29,4],[0,0,1,1],[0,2,1,2],[32,0,32,4],[35,0,35,4],[34,0,34,4],[31,0,31,4],[14,0,14,3],[15,0,15,4],[19,0,19,4],[22,0,22,4],[23,0,23,4],[41,0,41,4],[40,0,40,4],[28,0,28,4],[27,0,27,4],[16,0,16,4],[39,0,39,4],[38,0,38,4],[37,0,37,4],[36,0,36,4],[30,0,30,4],[24,0,24,4],[25,0,25,4],[61,5,61,6],[60,5,60,6],[66,0,66,4],[62,0,62,4],[63,0,63,4],[64,0,64,4],[52,0,52,4],[53,0,53,4],[54,0,54,4],[55,0,55,4],[61,0,61,4],[56,0,56,4],[57,0,57,4],[58,0,58,4],[59,0,59,4],[60,0,60,4],[66,5,66,6],[65,5,65,6],[64,5,64,6],[63,5,63,6],[62,5,62,6],[59,5,59,6],[58,5,58,6],[57,5,57,6],[65,0,65,4],[43,0,43,4],[44,0,44,4],[50,0,50,4],[51,0,51,4],[48,0,48,4],[49,0,49,4],[46,0,46,4],[47,0,47,4],[45,0,45,4],[42,5,42,6],[41,5,41,6],[40,5,40,6],[39,5,39,6],[38,5,38,6],[51,5,51,6],[50,5,50,6],[49,5,49,6],[48,5,48,6],[47,5,47,6],[46,5,46,6],[45,5,45,6],[44,5,44,6],[43,5,43,6],[25,5,25,6],[26,0,26,4],[26,5,26,6],[27,5,27,6],[21,5,21,6],[19,5,19,6],[15,5,15,6],[37,5,37,6],[36,5,36,6],[35,5,35,6],[34,5,34,6],[32,5,32,6],[31,5,31,6],[29,5,29,6],[28,5,28,6],[22,5,22,6],[23,5,23,6],[30,5,30,6],[24,5,24,6]]}
["Расход материалов на заказ №",null,null,"Кровать \"БАРИН\"",null,null,1400,2000,1,"шт",null,"Отход по кромке",null,15,"%",null,"Список материалов","ед.","Примечание","модель кровати",3,2,"тип основания",null,"ширина матраса",null,"длина матраса"]
[null,null,null,{"$f":"VLOOKUP(V1,V2:W5,2)","v":"Подъёмный механизм + ящик бельё"},null,null,null,null,null,null,null,null,null,null,null,null,"ЛДСП","шт.","Спил пл-с",null,1,1,"Ортопедическое основание",null,1200,null,1900]
["Материал","Цвет","на 1 шт","Всего","ед.","Материал","Цвет","на 1 шт","Всего","ед.",null,"Периметр обработки",{"$f":"A13","v":"Зеркало"},{"$f":"SUM(IF(Деталировка!$G$4:$G$561=M3,Деталировка!$M$4:$M$561))*$I$1","v":0},"м/п",{"$f":"SUM(IF(Деталировка!$G$4:$G$561=M3,Деталировка!$I$4:$I$561))*$I$1","v":0},"ЛДСП доп","к-т","/11",null,2,2,"Подъёмный механизм + ящик бельё",null,1400,null,2000]
["ЛДСП","БЕЛЫЙ",{"$f":"SUM(IF(Деталировка!$G$4:$G$561=A4,Деталировка!$P$4:$P$561))","v":2.1088520000000002},{"$f":"C4*$I$1","v":2.1088520000000002},"м²","ПВХ 0,4*19",{"$f":"IF(Расходник!$H$4=0,\" \",Расходник!$B$4)","v":"БЕЛЫЙ"},{"$f":"SUM(Деталировка!Q:Q)","v":9.532},{"$f":"(H4*$N$1/100+H4)*$I$1","v":10.9618},"м/п",null,"Периметр обработки",{"$f":"A14","v":"Стекло"},{"$f":"SUM(IF(Деталировка!$G$4:$G$561=M4,Деталировка!$M$4:$M$561))*$I$1","v":0},"м/п",{"$f":"SUM(IF(Деталировка!$G$4:$G$561=M4,Деталировка!$I$4:$I$561))*$I$1","v":0},"ЛМДФ","м²","/13","Кровать \"БАРИН\"",3,3,"Короб без дна + ДСП",null,1500]
["ЛДСП доп",null,{"$f":"SUM(IF(Деталировка!$G$4:$G$561=A5,Деталировка!$P$4:$P$561))","v":0},0,"м²","ПВХ 2,0*19",{"$f":"IF(Расходник!$H$5=0,\" \",Расходник!$B$4)","v":" "},{"$f":"SUM(Деталировка!R:R)","v":0},{"$f":"(H5*$N$1/100+H5)*$I$1","v":0},"м/п",null,"Спил",null,{"$f":"SUM(Деталировка!K:K)*I1","v":0},"шт",null,"ЛМДФ доп","м/п","/16",null,4,null,null,null,1600]
["ЛМДФ",null,{"$f":"SUM(IF(Деталировка!$G$4:$G$561=A6,Деталировка!$P$4:$P$561))","v":0},0,"м²","ПВХ 0,4*35",{"$f":"IF(Расходник!$H$6=0,\" \",Расходник!$B$4)","v":" "},null,0,"м/п",null,"Пропил",null,{"$f":"SUM(Деталировка!O:O)*I1","v":0},"м/п",null,"ДВП",null,"/20",null,5,null,null,null,1800]
["ЛМДФ доп",null,{"$f":"SUM(IF(Деталировка!$G$4:$G$561=A7,Деталировка!$P$4:$P$561))","v":0},0,"м²","ПВХ 2,0*35",{"$f":"IF(Расходник!$H$7=0,\" \",Расходник!$B$4)","v":" "},null,0,"м/п",null,"Стол-ца / стеновая пан",null,{"$f":"SUMIF(Деталировка!G:G,\"столешница\",Деталировка!I:I)+SUMIF(Деталировка!G:G,\"стеновая пан\",Деталировка!I:I)","v":0},"шт",null,"Столешница",null,"/25"]
["ДСП",null,{"$f":"SUM(IF(Деталировка!$G$4:$G$561=A8,Деталировка!$P$4:$P$561))","v":4.8555599999999997},4.8555599999999997,"м²","ПВХ 0,4*19 R",{"$f":"IF(Расходник!$H$8=0,\" \",Расходник!$B$4)","v":" "},{"$f":"SUM(Деталировка!S:S)","v":0},0,"м/п",null,"Фасады ЛМДФ",null,{"$f":"SUMIF(Деталировка!G:G,\"лмдф\",Деталировка!I:I)+SUMIF(Деталировка!G:G,\"лмдф доп\",Деталировка!I:I)","v":0},"шт",null,"Стеновая пан",null,"/34"]
["ДВП","Белый",{"$f":"SUM(IF(Деталировка!$G$4:$G$561=A9,Деталировка!$P$4:$P$561))","v":2.7681279999999999},2.7681279999999999,"м²","ПВХ 2,0*19 R",{"$f":"IF(Расходник!$H$9=0,\" \",Расходник!$B$4)","v":" "},{"$f":"SUM(Деталировка!T:T)","v":0},0,"м/п",null,null,null,null,null,null,"Зеркало"]
[null,null,{"$f":"SUM(IF(Деталировка!$G$4:$G$561=A10,Деталировка!$P$4:$P$561))","v":0},0,"м²","ПВХ 0,4*35 R",{"$f":"IF(Расходник!$H$10=0,\" \",Расходник!$B$4)","v":" "},null,0,"м/п",null,null,null,null,null,null,"Стекло"]
["Столешница",null,{"$f":"SUM(IF(Деталировка!$G$4:$G$561=A11,Деталировка!$U$4:$U$561))","v":0},0,"м/п","ПВХ 2,0*35 R",{"$f":"IF(Расходник!$H$11=0,\" \",Расходник!$B$4)","v":" "},null,0,"м/п"]
["Стеновая пан",null,{"$f":"SUM(IF(Деталировка!$G$4:$G$561=A12,Деталировка!$U$4:$U$561))","v":0},{"$f":"C12*$I$1","v":0},"м/п","Меламин 35",null,null,0,"м/п"]
["Зеркало",null,{"$f":"SUM(IF(Деталировка!$G$4:$G$561=A13,Деталировка!$P$4:$P$561))","v":0},{"$f":"C13*$I$1","v":0},"м²","Меламин",null,null,0,"м/п"]
["Стекло",null,{"$f":"SUM(IF(Деталировка!$G$4:$G$561=A14,Деталировка!$P$4:$P$561))","v":0},{"$f":"C14*$I$1","v":0},"м²","Кромка столеш",{"$f":"IF(B11=0,\" \",B11)","v":" "},null,0,"м/п"]
["Список фурнитуры"]
["Наименование",null,null,null,null,"Примечание",null,"на 1 шт","Всего","ед."]
[{"$f":"IF(V1=1,\"Ортопедическое основание\",IF(V1=2,\"Ортопедическое основание с опорной планкой\",\"\"))","v":"Ортопедическое основание с опорной планкой"},null,null,null,null,{"$f":"G1","v":1400},{"$f":"H1","v":2000},{"$f":"IF(A17<>\"\",1,\"\")","v":1},{"$f":"H17*$I$1","v":1},{"$f":"VLOOKUP(A17,Фурнитура!$1:$1048576,3,FALSE)","v":"шт"}]
[{"$f":"IF(V1=2,\"Подъёмный механизм 559\",\"\")","v":"Подъёмный механизм 559"},null,null,null,null,null,null,{"$f":"IF(A18<>\"\",1,0)","v":1},1,"к"]
[{"$f":"IF(A18=\"Подъёмный механизм 559\",\"Газ-лифт\",\"\")","v":"Газ-лифт"},null,null,null,null,{"$f":"IF(A19<>\"\",IF(G1>=1800,1000,IF(G1>=1600,800,600)),\"\")","v":600},null,{"$f":"IF(A19<>\"\",2,0)","v":2},{"$f":"H19*$I$1","v":2},"шт"]
["Евровинт 7*50",null,null,null,null,null,null,{"$f":"IF(V1=1,0,IF(V1=2,36,IF(V1=3,24,\"хуй\")))","v":36},{"$f":"H20*$I$1","v":36},{"$f":"VLOOKUP(A20,Фурнитура!$1:$1048576,3,FALSE)","v":"шт"}]
[]
["Стразы",null,null,null,null,null,null,39,{"$f":"H22*$I$1","v":39},"шт"]
["Шуруп 4*30",null,null,null,null,null,null,30,{"$f":"H23*$I$1","v":30},"шт"]
["Шуруп 4*40",null,null,null,null,null,null,50,50,"шт"]
["Болт М6х40 цинк",null,null,null,null,"под ключ полнорезьбовой",null,{"$f":"IF(V1=1,0,IF(V1=2,4,IF(V1=3,0,\"хуй\")))","v":4},4,{"$f":"VLOOKUP(A25,[1]Фурнитура!$1:$1048576,3,FALSE)","v":{"$error":"#N/A"}}]
["Шайба DIN 9021 М6",null,null,null,null,"увеличенная",null,{"$f":"H25*3","v":12},12,{"$f":"VLOOKUP(A26,[1]Фурнитура!$1:$1048576,3,FALSE)","v":"шт"}]
["Гайка М6 цинк",null,null,null,null,null,null,{"$f":"H25","v":4},4,{"$f":"VLOOKUP(A27,[1]Фурнитура!$1:$1048576,3,FALSE)","v":{"$error":"#N/A"}}]
["Поролон (30)",null,null,null,null,null,null,4,{"$f":"H28*$I$1","v":4},{"$f":"VLOOKUP(A28,Фурнитура!$1:$1048576,3,FALSE)","v":"м2"}]
["Поролон (50)",null,null,null,null,null,null,1,1,{"$f":"VLOOKUP(A29,Фурнитура!$1:$1048576,3,FALSE)","v":"м2"}]
["Спанбонд",null,null,null,null,null,null,4,{"$f":"H30*$I$1","v":4},{"$f":"VLOOKUP(A30,Фурнитура!$1:$1048576,3,FALSE)","v":"м/п"}]
["Синтепон",null,null,null,null,"полиэфирное волокно",null,2,{"$f":"H31*$I$1","v":2},{"$f":"VLOOKUP(A31,Фурнитура!$1:$1048576,3,FALSE)","v":"м/п"}]
["К/з, (ЭКОКОЖА)",null,null,null,null,"КОРИЧНЕВЫЙ",null,5.5,5.5,{"$f":"VLOOKUP(A32,Фурнитура!$1:$1048576,3,FALSE)","v":"м/п"}]
["Клей \"Геркулес 55-60\"",null,null,null,null,null,null,0.25,0.25,{"$f":"VLOOKUP(A33,Фурнитура!$1:$1048576,3,FALSE)","v":"кг"}]
[]
["Кронштейн кроватный",null,null,null,null,null,null,{"$f":"IF(V1=1,0,IF(V1=2,2,IF(V1=3,0,\"хуй\")))","v":2},{"$f":"H35*$I$1","v":2},"шт"]
["Опора угловая",null,null,null,null,"160*160",null,4,4,"шт"]
["Уголок кроватный",null,null,null,null,null,null,{"$f":"IF(V1=1,4,IF(V1=2,2,IF(V1=3,4,\"хуй\")))","v":2},{"$f":"H37*$I$1","v":2},"шт"]
["Подпятник мягкий",null,null,null,null,null,null,{"$f":"IF(V1=1,0,IF(V1=2,7,IF(V1=3,0,\"хуй\")))","v":7},7,"шт"]
[]
["ЛДСП",null,null,null,null,{"$f":"IF(Расходник!$B$4=0,\" \",Расходник!$B$4)","v":"БЕЛЫЙ"},null,null,{"$f":"H40","v":0},"лист"]
["ДСП",null,null,null,null,{"$f":"IF(Расходник!$B$5=0,\" \",Расходник!$B$5)","v":" "},null,1,{"$f":"H41","v":1},"лист"]
["ДВП",null,null,null,null,{"$f":"IF(Расходник!$B$9=0,\" \",Расходник!$B$9)","v":"Белый"},null,null,{"$f":"H42","v":0},"лист"]

{"sheet":"Вводные","index":5,"n_rows":49,"n_cols":8,"rows_kept":49,"cut":false,"hidden":false,"merged":[]}
[null,null,null,null,"Комманда для макроса вставки строки Ctrl+Q"]
[]
[]
[]
["Кровать",{"$f":"Расходник!H1+10","v":2010},300,2,"дсп"]
[]
["Кровать",{"$f":"Расходник!G1+44","v":1444},300,1,"дсп"]
[]
["Кровать",{"$f":"Расходник!G1+80","v":1480},435,1,"дсп"]
[]
["Кровать",{"$f":"B9","v":1480},125,1,"дсп"]
[]
["Кровать",{"$f":"B11","v":1480},100,1,"дсп"]
[]
["Кровать",{"$f":"Расходник!G1+28","v":1428},100,1,"дсп"]
[]
["Кровать",{"$f":"B15","v":1428},80,2,"дсп"]
[]
["Кровать",{"$f":"B15","v":1428},60,1,"дсп"]
[]
["Кровать",{"$f":"Расходник!G1+10","v":1410},300,1,"дсп"]
[]
["Кровать",418,150,2,"дсп"]
[]
["Кровать",990,150,2,"дсп"]
[]
["Кровать",944,150,1,"дсп"]
[]
["Кровать 10мм",990,130,2,"дсп"]
[]
["Кровать",{"$f":"Расходник!G1-230","v":1170},460,1,"дсп"]
[]
["Кровать",150,990,2,"дсп"]
[]
["Кровать",150,944,1,"дсп"]
[]
["Кровать",130,990,2,"дсп"]
[]
[{"$f":"IF(Расходник!V1=2,\"ящик бельё\",IF(Расходник!V1=3,\"короб\",\"\"))","v":"ящик бельё"},{"$f":"Расходник!G1+10","v":1410},180,{"$f":"IF(A39=\"\",0,4)","v":4},{"$f":"IF(A39=\"ящик бельё\",\"лдсп\",IF(A39=\"короб\",\"дсп\",\"\"))","v":"лдсп"},null,null,{"$f":"IF(A39=\"ящик бельё\",1,0)","v":1}]
[]
[{"$f":"A39","v":"ящик бельё"},{"$f":"(Расходник!H1+10)/2-32","v":973},{"$f":"IF(A41=\"ящик бельё\",161,IF(A41=\"короб\",180,0))","v":161},{"$f":"IF(A41=\"ящик бельё\",4,IF(A41=\"короб\",6,0))","v":4},{"$f":"IF(A41=\"ящик бельё\",\"лдсп\",IF(A41=\"короб\",\"дсп\",\"\"))","v":"лдсп"},null,null,{"$f":"IF(A41=\"ящик бельё\",1,0)","v":1}]
[]
[{"$f":"A39","v":"ящик бельё"},{"$f":"B41","v":973},80,{"$f":"IF(A43=\"ящик бельё\",4,0)","v":4},{"$f":"IF(A43=\"ящик бельё\",\"лдсп\",\"\")","v":"лдсп"}]
[]
[{"$f":"A39","v":"ящик бельё"},{"$f":"B43","v":973},80,{"$f":"IF(A45=\"ящик бельё\",2,0)","v":2},{"$f":"IF(A45=\"ящик бельё\",\"лдсп\",\"\")","v":"лдсп"}]
[]
[{"$f":"A39","v":"ящик бельё"},{"$f":"B39-2","v":1408},{"$f":"B45+10","v":983},{"$f":"IF(A47=\"ящик бельё\",2,0)","v":2},{"$f":"IF(A47=\"ящик бельё\",\"двп\",\"\")","v":"двп"}]
[]
[{"$f":"IF(A39=\"короб\",A39,\"\")","v":""},{"$f":"IF(A49=\"короб\",Расходник!G1,0)","v":0},{"$f":"IF(A49=\"короб\",Расходник!H1/2+3,0)","v":0},{"$f":"IF(A49=\"короб\",2,0)","v":0},{"$f":"IF(A49=\"короб\",\"дсп\",\"\")","v":""}]