{"text_format":"1","workbook":"xlsx","n_sheets":4,"sheets":["Заказ","МКЛ","Раств.+ Маски","Диагностика"],"not_rendered":{"charts":0,"images":0,"macros":1,"external_links":0,"defined_names":3,"comments":0,"pivot_tables":0},"unopened":[],"bounds":{"document_bytes":16777216,"sheet_cells":100000,"rows_first":2000,"rows_last":500,"rows_between":2000,"halvings":0,"cell_chars":16384,"cell_head_chars":4096},"cells_cut":0,"cells_raw":0,"read":"whole","date_system":"1900"}

{"sheet":"Заказ","index":0,"n_rows":77,"n_cols":50,"rows_kept":77,"cut":false,"hidden":false,"merged":[[68,11,69,14],[56,28,57,37],[56,39,57,50],[67,11,67,19],[68,15,69,19],[58,28,58,29],[58,30,58,31],[58,32,58,33],[60,11,60,16],[60,17,60,19],[62,11,62,19],[63,11,63,16],[63,17,64,19],[64,11,64,16],[56,11,56,19],[57,11,57,16],[57,17,57,19],[58,11,58,16],[58,17,58,19],[59,11,59,16],[59,17,59,19],[58,36,58,37],[58,43,58,44],[58,49,58,50],[53,11,53,16],[53,17,53,19],[58,34,58,35],[30,28,31,43],[32,28,32,29],[33,28,33,29],[32,30,32,31],[33,30,33,31],[32,32,32,33],[32,34,32,35],[33,34,33,35],[29,10,30,15],[47,11,48,19],[49,11,49,19],[50,11,50,16],[50,17,50,19],[51,11,51,16],[51,17,51,19],[58,39,58,40],[31,10,31,11],[7,8,7,9],[7,10,7,11],[58,45,58,46],[58,47,58,48],[58,41,58,42],[52,11,52,16],[8,3,8,4],[8,5,8,6],[8,24,9,25],[40,45,41,48],[54,11,54,16],[54,17,54,19],[33,40,33,41],[8,42,8,43],[9,42,9,43],[32,42,32,43],[33,42,33,43],[33,36,33,37],[33,38,33,39],[42,45,42,46],[42,47,42,48],[44,45,44,46],[44,47,44,48],[46,45,46,46],[50,47,50,48],[52,45,52,46],[8,8,9,9],[8,10,9,11],[8,12,9,13],[8,14,9,15],[8,16,9,17],[8,18,9,19],[8,22,9,23],[8,20,9,21],[8,30,8,31],[9,30,9,31],[8,32,8,33],[9,32,9,33],[8,34,8,35],[9,34,9,35],[46,47,46,48],[48,45,48,46],[48,47,48,48],[50,45,50,46],[31,12,31,13],[31,14,31,15],[52,17,52,19],[7,12,7,13],[7,14,7,15],[7,16,7,17],[8,36,8,37],[9,36,9,37],[8,38,8,39],[8,40,8,41],[9,40,9,41],[32,40,32,41],[9,38,9,39],[32,38,32,39],[32,36,32,37],[7,18,7,19],[7,20,7,21],[7,22,7,23],[7,24,7,25],[8,28,8,29],[9,28,9,29],[2,11,2,16],[2,17,2,25],[2,43,2,49],[4,38,4,39],[4,11,4,12],[4,13,4,21],[4,40,4,47],[0,0,0,2],[0,28,0,30],[0,31,0,38],[2,28,2,29],[2,30,2,37],[2,0,2,1],[2,2,2,10],[0,3,0,10],[2,38,2,42]]}
["ЗАКАЗЧИК:",null,null,null,null,null,null,null,null,null,null,null,null,null,"   ООО   \"Медицинская группа Офтадерм\"",null,null,null,null,null,null,null,null,null,null,null,null,null,"ЗАКАЗЧИК:",null,null,{"$f":"D1","v":0},null,null,null,null,null,null,null,null,null,"   ООО   \"Медицинская группа Офтадерм\""]
[]
["КОНТАКТ",null,null,null,null,null,null,null,null,null,null,"Дополнительная информация",null,null,null,null,null,null,null,null,null,null,null,null,null,null,null,null,"КОНТАКТ",null,{"$f":"C3","v":0},null,null,null,null,null,null,null,"Дополнительная информация",null,null,null,null,{"$f":"R3","v":0}]
[]
["Нал.",null,null,"Безнал.",null,null,null,null,null,null,null,"Доставка",null,null,null,null,null,null,null,null,null,null,"Самовывоз",null,null,null,null,null,"Нал.",{"$f":"B5","v":0},null,"Безнал.",{"$f":"E5","v":0},null,null,null,null,null,"Доставка",null,{"$f":"N5","v":0},null,null,null,null,null,null,null,"Самовывоз"]
[]
["Офтальмикс (SAUFLON)",null,null,null,null,null,null,"Офтальмикс COLORS"]
[null,null,null,null,null,null,null,null,"     Tosca",null,"Aqua Blue",null,"Light Grey",null,"Green",null,"Brown",null,"Hazel",null,"Sky Blue",null,"Violet",null,"Black",null,null,null,"Офтальмикс  Butterfly 1Т",null,null,null,null,null,null,null,null,null,null,null,null,null,null,null,null,"Butterfly Clear (4 бл.)"]
["55UV","8.6","8.9","One day 30",null,"Profi 8,6 6бл.",null,null,"Бирюзовый",null,"Васильковый",null,"Жемчужно   серый",null,"Зеленый",null,"Карий",null,"Мускатный орех",null,"Небесно голубой",null,"Фиалковый",null,"Черная ночь",null,null,null,"Turquoise",null,"Aqua",null,"Grey",null,"Green",null,"Brown",null,"Hazel",null,"Sky",null,"Violet",null,null,null,-0.5]
[-0.5,null,null,-0.5,null,-0.5,null,null,null,null,null,null,null,null,null,null,null,null,null,null,null,null,null,null,null,null,null,null,"Бирюзовый",null,"Васильковый",null,"Серый",null,"Зеленый",null,"Карий",null,"Мускат.орех",null,"Голубой",null,"Фиалковый",null,null,null,-0.75]
[-0.75,null,null,-0.75,null,-0.75,null,null,0,null,0,null,0,null,0,null,0,null,0,null,0,null,0,null,0,null,null,null,0,null,0,null,0,null,0,null,0,null,0,null,0,null,0,null,null,null,-1]
[-1,null,null,-1,null,-1,null,null,-0.5,null,-0.5,null,-0.5,null,-0.5,null,-0.5,null,-0.5,null,-0.5,null,-0.5,null,-0.5,null,null,null,-0.5,null,-0.5,null,-0.5,null,-0.5,null,-0.5,null,-0.5,null,-0.5,null,-0.5,null,null,null,-1.25]
[-1.25,null,null,-1.25,null,-1.25,null,null,-1,null,-1,null,-1,null,-1,null,-1,null,-1,null,-1,null,-1,null,-1,null,null,null,-1,null,-1,null,-1,null,-1,null,-1,null,-1,null,-1,null,-1,null,null,null,-1.5]
[-1.5,null,null,-1.5,null,-1.5,null,null,-1.5,null,-1.5,null,-1.5,null,-1.5,null,-1.5,null,-1.5,null,-1.5,null,-1.5,null,-1.5,null,null,null,-1.5,null,-1.5,null,-1.5,null,-1.5,null,-1.5,null,-1.5,null,-1.5,null,-1.5,null,null,null,-1.75]
[-1.75,null,null,-1.75,null,-1.75,null,null,-2,null,-2,null,-2,null,-2,null,-2,null,-2,null,-2,null,-2,null,-2,null,null,null,-2,null,-2,null,-2,null,-2,null,-2,null,-2,null,-2,null,-2,null,null,null,-2]
[-2,null,null,-2,null,-2,null,null,-2.5,null,-2.5,null,-2.5,null,-2.5,null,-2.5,null,-2.5,null,-2.5,null,-2.5,null,-2.5,null,null,null,-2.5,null,-2.5,null,-2.5,null,-2.5,null,-2.5,null,-2.5,null,-2.5,null,-2.5,null,null,null,-2.25]
[-2.25,null,null,-2.25,null,-2.25,null,null,-3,null,-3,null,-3,null,-3,null,-3,null,-3,null,-3,null,-3,null,-3,null,null,null,-3,null,-3,null,-3,null,-3,null,-3,null,-3,null,-3,null,-3,null,null,null,-2.5]
[-2.5,null,null,-2.5,null,-2.5,null,null,-3.5,null,-3.5,null,-3.5,null,-3.5,null,-3.5,null,-3.5,null,-3.5,null,-3.5,null,-3.5,null,null,null,-3.5,null,-3.5,null,-3.5,null,-3.5,null,-3.5,null,-3.5,null,-3.5,null,-3.5,null,null,null,-2.75]
[-2.75,null,null,-2.75,null,-2.75,null,null,-4,null,-4,null,-4,null,-4,null,-4,null,-4,null,-4,null,-4,null,-4,null,null,null,-4,null,-4,null,-4,null,-4,null,-4,null,-4,null,-4,null,-4,null,null,null,-3]
[-3,null,null,-3,null,-3,null,null,-4.5,null,-4.5,null,-4.5,null,-4.5,null,-4.5,null,-4.5,null,-4.5,null,-4.5,null,-4.5,null,null,null,-4.5,null,-4.5,null,-4.5,null,-4.5,null,-4.5,null,-4.5,null,-4.5,null,-4.5,null,null,null,-3.25]
[-3.25,null,null,-3.25,null,-3.25,null,null,-5,null,-5,null,-5,null,-5,null,-5,null,-5,null,-5,null,-5,null,-5,null,null,null,-5,null,-5,null,-5,null,-5,null,-5,null,-5,null,-5,null,-5,null,null,null,-3.5]
[-3.5,null,null,-3.5,null,-3.5,null,null,-5.5,null,-5.5,null,-5.5,null,-5.5,null,-5.5,null,-5.5,null,-5.5,null,-5.5,null,-5.5,null,null,null,-5.5,null,-5.5,null,-5.5,null,-5.5,null,-5.5,null,-5.5,null,-5.5,null,-5.5,null,null,null,-3.75]
[-3.75,null,null,-3.75,null,-3.75,null,null,-6,null,-6,null,-6,null,-6,null,-6,null,-6,null,-6,null,-6,null,-6,null,null,null,-6,null,-6,null,-6,null,-6,null,-6,null,-6,null,-6,null,-6,null,null,null,-4]
[-4,null,null,-4,null,-4,null,null,-6.5,null,-6.5,null,-6.5,null,-6.5,null,-6.5,null,-6.5,null,-6.5,null,-6.5,null,-6.5,null,null,null,null,null,null,null,null,null,null,null,null,null,null,null,null,null,null,null,null,null,-4.25]
[-4.25,null,null,-4.25,null,-4.25,null,null,-7,null,-7,null,-7,null,-7,null,-7,null,-7,null,-7,null,-7,null,-7,null,null,null,null,null,null,null,null,null,null,null,null,null,null,null,null,null,null,null,null,null,-4.5]
[-4.5,null,null,-4.5,null,-4.5,null,null,-7.5,null,-7.5,null,-7.5,null,-7.5,null,-7.5,null,-7.5,null,-7.5,null,-7.5,null,-7.5,null,null,null,null,null,null,null,null,null,null,null,null,null,null,null,null,null,null,null,null,null,-4.75]
[-4.75,null,null,-4.75,null,-4.75,null,null,-8,null,-8,null,-8,null,-8,null,-8,null,-8,null,-8,null,-8,null,-8,null,null,null,null,null,null,null,null,null,null,null,null,null,null,null,null,null,null,null,null,null,-5]
[-5,null,null,-5,null,-5,null,null,-8.5,null,-8.5,null,-8.5,null,-8.5,null,-8.5,null,-8.5,null,-8.5,null,-8.5,null,-8.5,null,null,null,null,null,null,null,null,null,null,null,null,null,null,null,null,null,null,null,null,null,-5.25]
[-5.25,null,null,-5.25,null,-5.25,null,null,null,null,null,null,null,null,null,null,null,null,null,null,null,null,null,null,null,null,null,null,null,null,null,null,null,null,null,null,null,null,null,null,null,null,null,null,null,null,-5.5]
[-5.5,null,null,-5.5,null,-5.5,null,null,null,null,"Офтальмикс  Butterfly Gold",null,null,null,null,null,null,null,null,null,null,null,null,null,null,null,null,null,null,null,null,null,null,null,null,null,null,null,null,null,null,null,null,null,null,null,-5.75]
[-5.75,null,null,-5.75,null,-5.75,null,null,null,null,null,null,null,null,null,null,null,null,null,null,null,null,null,null,null,null,null,null,"Офтальмикс Butterfly 3 Т",null,null,null,null,null,null,null,null,null,null,null,null,null,null,null,null,null,-6]
[-6,null,null,-6,null,-6,null,null,null,null,"Angel",null,"Rose",null,"Jewelry",null,null,null,null,null,null,null,null,null,null,null,null,null,null,null,null,null,null,null,null,null,null,null,null,null,null,null,null,null,null,null,-6.5]
[-6.5,null,null,-6.5,null,-6.5,null,null,null,null,0,null,0,null,0,null,null,null,null,null,null,null,null,null,null,null,null,null,"Turquoise 3 Т",null,"Aqua 3 Т",null,"Grey 3 Т",null,"Green 3 Т",null,"Brown 3 Т",null,"Hazel 3 Т",null,"Sky 3 Т",null,"Violet 3 Т",null,null,null,-7]
[-7,null,null,-7,null,-7,null,null,null,null,-1,null,-1,null,-1,null,null,null,null,null,null,null,null,null,null,null,null,null,"Бирюзовый",null,"Васильковый",null,"Серый",null,"Зеленый",null,"Карий",null,"Мускат.орех",null,"Голубой",null,"Фиалковый",null,null,null,-7.5]
[-7.5,null,null,-7.5,null,-7.5,null,null,null,null,-1.5,null,-1.5,null,-1.5,null,null,null,null,null,null,null,null,null,null,null,null,null,0,null,0,null,0,null,0,null,0,null,0,null,0,null,0,null,null,null,-8]
[-8,null,null,-8,null,-8,null,null,null,null,-2,null,-2,null,-2,null,null,null,null,null,null,null,null,null,null,null,null,null,-0.5,null,-0.5,null,-0.5,null,-0.5,null,-0.5,null,-0.5,null,-0.5,null,-0.5,null,null,null,-8.5]
[-8.5,null,null,-8.5,null,-8.5,null,null,null,null,-2.5,null,-2.5,null,-2.5,null,null,null,null,null,null,null,null,null,null,null,null,null,-1,null,-1,null,-1,null,-1,null,-1,null,-1,null,-1,null,-1,null,null,null,-9]
[-9,null,null,-9,null,-9,null,null,null,null,-3,null,-3,null,-3,null,null,null,null,null,null,null,null,null,null,null,null,null,-1.5,null,-1.5,null,-1.5,null,-1.5,null,-1.5,null,-1.5,null,-1.5,null,-1.5,null,null,null,-9.5]
[-9.5,null,null,-9.5,null,-9.5,null,null,null,null,-3.5,null,-3.5,null,-3.5,null,null,null,null,null,null,null,null,null,null,null,null,null,-2,null,-2,null,-2,null,-2,null,-2,null,-2,null,-2,null,-2,null,null,null,-10]
[-10,null,null,-10,null,-10,null,null,null,null,-4,null,-4,null,-4,null,null,null,null,null,null,null,null,null,null,null,null,null,-2.5,null,-2.5,null,-2.5,null,-2.5,null,-2.5,null,-2.5,null,-2.5,null,-2.5]
[-10.5,null,null,"+0,50",null,"+0,50",null,null,null,null,-4.5,null,-4.5,null,-4.5,null,null,null,null,null,null,null,null,null,null,null,null,null,-3,null,-3,null,-3,null,-3,null,-3,null,-3,null,-3,null,-3,null,null,"Butterfly Crazy"]
[-11,null,null,"+0,75",null,"+0,75",null,null,null,null,-5,null,-5,null,-5,null,null,null,null,null,null,null,null,null,null,null,null,null,-3.5,null,-3.5,null,-3.5,null,-3.5,null,-3.5,null,-3.5,null,-3.5,null,-3.5]
[-11.5,null,null,"+1,00",null,"+1,00",null,null,null,null,-5.5,null,-5.5,null,-5.5,null,null,null,null,null,null,null,null,null,null,null,null,null,-4,null,-4,null,-4,null,-4,null,-4,null,-4,null,-4,null,-4,null,null,"Devil",null,"Смайлик"]
[-12,null,null,"+1,25",null,"+1,25",null,null,null,null,-6,null,-6,null,-6,null,null,null,null,null,null,null,null,null,null,null,null,null,-4.5,null,-4.5,null,-4.5,null,-4.5,null,-4.5,null,-4.5,null,-4.5,null,-4.5,null,null,0,null,0]
[-12.5,null,null,"+1,50",null,"+1,50",null,null,null,null,null,null,null,null,null,null,null,null,null,null,null,null,null,null,null,null,null,null,-5,null,-5,null,-5,null,-5,null,-5,null,-5,null,-5,null,-5,null,null,"Кошачий желтый",null,"Бельмо"]
[-13,null,null,"+1,75",null,"+1,75",null,null,null,null,null,null,null,null,null,null,null,null,null,null,null,null,null,null,null,null,null,null,-5.5,null,-5.5,null,-5.5,null,-5.5,null,-5.5,null,-5.5,null,-5.5,null,-5.5,null,null,0,null,0]
[-13.5,null,null,"+2,00",null,"+2,00",null,null,null,null,null,null,null,null,null,null,null,null,null,null,null,null,null,null,null,null,null,null,-6,null,-6,null,-6,null,-6,null,-6,null,-6,null,-6,null,-6,null,null,"Red Wolf",null,"Black Wolf"]
[-14,null,null,"+2,25",null,"+2,25",null,null,null,null,null,"   РАСТВОРЫ 10%",null,null,null,null,null,null,null,null,null,null,null,null,null,null,null,null,-6.5,null,-6.5,null,-6.5,null,-6.5,null,-6.5,null,-6.5,null,-6.5,null,-6.5,null,null,0,null,0]
[-14.5,null,null,"+2,50",null,"+2,50",null,null,null,null,null,null,null,null,null,null,null,null,null,null,null,null,null,null,null,null,null,null,-7,null,-7,null,-7,null,-7,null,-7,null,-7,null,-7,null,-7,null,null,"Голуб.звез.",null,"Zoom in"]
[-15,null,null,"+2,75",null,"+2,75",null,null,null,null,null,"БИО",null,null,null,null,null,null,null,null,null,null,null,null,null,null,null,null,-7.5,null,-7.5,null,-7.5,null,-7.5,null,-7.5,null,-7.5,null,-7.5,null,-7.5,null,null,0,null,0]
["+0,50",null,null,"+3,00",null,"+3,00",null,null,null,null,null,"Офтальмикс БИО 80 мл",null,null,null,null,null,null,null,null,"12*8",null,null,null,null,null,null,null,-8,null,-8,null,-8,null,-8,null,-8,null,-8,null,-8,null,-8,null,null,"  Мэнсон",null,"Паутинка"]
["+0,75",null,null,"+3,25",null,"+3,25",null,null,null,null,null,"Офтальмикс БИО 160 мл",null,null,null,null,null,null,null,null,32,null,null,null,null,null,null,null,-8.5,null,-8.5,null,-8.5,null,-8.5,null,-8.5,null,-8.5,null,-8.5,null,-8.5,null,null,0,null,0]
["+1,00",null,null,"+3,50",null,"+3,50",null,null,null,null,null,"Офтальмикс БИО 270 мл",null,null,null,null,null,null,null,null,24,null,null,null,null,null,null,null,-9,null,-9,null,-9,null,-9,null,-9,null,-9,null,-9,null,-9,null,null,"Spiral"]
["+1,25",null,null,"+3,75",null,"+3,75",null,null,null,null,null,"Офтальмикс БИО 385 мл",null,null,null,null,null,null,null,null,24,null,null,null,null,null,null,null,-9.5,null,-9.5,null,-9.5,null,-9.5,null,-9.5,null,-9.5,null,-9.5,null,-9.5,null,null,0]
["+1,50",null,null,"+4,00",null,"+4,00",null,null,null,null,null,"Капли БИО 10 мл",null,null,null,null,null,null,null,null,50,null,null,null,null,null,null,null,-10,null,-10,null,-10,null,-10,null,-10,null,-10,null,-10,null,-10]
["+1,75",null,null,"+4,25",null,"+4,25"]
["+2,00",null,null,"+4,50",null,"+4,50",null,null,null,null,null,"Великобритания",null,null,null,null,null,null,null,null,null,null,null,null,null,null,null,null,"Офтальмикс  Butterfly One day",null,null,null,null,null,null,null,null,null,null,"Офтальмикс  Butterfly One Month"]
["+2,25",null,null,"+4,75",null,"+4,75",null,null,null,null,null,"Офтальмикс Comfort 10 ml",null,null,null,null,null,null,null,null,12]
["+2,50",null,null,"+5,00",null,"+5,00",null,null,null,null,null,"Офтальм. Premium плюс 60 ml",null,null,null,null,null,null,null,null,48,null,null,null,null,null,null,null,"Aqua Blue",null,"    Sky blue",null,"Light Grey",null,"Green",null,"Hazel",null,null,"Aqua Blue",null,"    Sky blue",null,"Light Grey",null,"Green",null,"Hazel",null,"Black"]
["+2,75",null,null,"+5,25",null,"+5,25",null,null,null,null,null,"Офтальм. Premium плюс 250 ml",null,null,null,null,null,null,null,null,24,null,null,null,null,null,null,null,0,null,0,null,0,null,0,null,0,null,null,0,null,0,null,0,null,0,null,0,null,0]
["+3,00",null,null,"+5,50",null,"+5,50",null,null,null,null,null,"Офтальм. Premium плюс 380 ml",null,null,null,null,null,null,null,null,24,null,null,null,null,null,null,null,-1,null,-1,null,-1,null,-1,null,-1,null,null,-1,null,-1,null,-1,null,-1,null,-1,null,-1]
["+3,25",null,null,"+5,75",null,"+5,75",null,null,null,null,null,null,null,null,null,null,null,null,null,null,null,null,null,null,null,null,null,null,-1.5,null,-1.5,null,-1.5,null,-1.5,null,-1.5,null,null,-1.5,null,-1.5,null,-1.5,null,-1.5,null,-1.5,null,-1.5]
["+3,50",null,null,"+6,00",null,"+6,00",null,null,null,null,null,"Оптоклин 10%",null,null,null,null,null,null,null,null,null,null,null,null,null,null,null,null,-2,null,-2,null,-2,null,-2,null,-2,null,null,-2,null,-2,null,-2,null,-2,null,-2,null,-2]
["+3,75",null,null,"+6,50",null,"+6,50",null,null,null,null,null,"Инзимный таблетки ",null,null,null,null,null,null,null,null,null,null,null,null,null,null,null,null,-2.5,null,-2.5,null,-2.5,null,-2.5,null,-2.5,null,null,-2.5,null,-2.5,null,-2.5,null,-2.5,null,-2.5,null,-2.5]
["+4,00",null,null,"+7,00",null,"+7,00",null,null,null,null,null,"Sauflon Tryzime 12 шт/упак",null,null,null,null,null,null,null,null,null,null,null,null,null,null,null,null,-3,null,-3,null,-3,null,-3,null,-3,null,null,-3,null,-3,null,-3,null,-3,null,-3,null,-3]
["+4,25",null,null,"+7,50",null,"+7,50",null,null,null,null,null,null,null,null,null,null,null,null,null,null,null,null,null,null,null,null,null,null,-3.5,null,-3.5,null,-3.5,null,-3.5,null,-3.5,null,null,-3.5,null,-3.5,null,-3.5,null,-3.5,null,-3.5,null,-3.5]
["+4,50",null,null,"+8,00",null,"+8,00",null,null,null,null,null,null,null,null,null,null,null,null,null,null,null,null,null,null,null,null,null,null,-4,null,-4,null,-4,null,-4,null,-4,null,null,-4,null,-4,null,-4,null,-4,null,-4,null,-4]
["+4,75",null,null,null,null,null,null,null,null,null,null,"Маски для лица EYE-SPA 5 шт/уп",null,null,null,null,null,null,null,null,null,null,null,null,null,null,null,null,-4.5,null,-4.5,null,-4.5,null,-4.5,null,-4.5,null,null,-4.5,null,-4.5,null,-4.5,null,-4.5,null,-4.5,null,-4.5]
["+5,00",null,null,null,null,null,null,null,null,null,null,"EYE-SPA® Steamed eye mask",null,null,null,null,null,null,null,null,null,null,null,null,null,null,null,null,-5,null,-5,null,-5,null,-5,null,-5,null,null,-5,null,-5,null,-5,null,-5,null,-5,null,-5]
["+5,25",null,null,null,null,null,null,null,null,null,null,null,null,null,null,null,null,null,null,null,null,null,null,null,null,null,null,null,-5.5,null,-5.5,null,-5.5,null,-5.5,null,-5.5,null,null,-5.5,null,-5.5,null,-5.5,null,-5.5,null,-5.5,null,-5.5]
["+5,50",null,null,null,null,null,null,null,null,null,null,null,null,null,null,null,null,null,null,null,null,null,null,null,null,null,null,null,-6,null,-6,null,-6,null,-6,null,-6,null,null,-6,null,-6,null,-6,null,-6,null,-6,null,-6]
["+5,75"]
["+6,00"]
["+6,50"]
["+7,00"]
["+7,50"]
["+8,00"]

{"sheet":"МКЛ","index":1,"n_rows":860,"n_cols":10,"rows_kept":860,"cut":false,"hidden":false,"merged":[[0,0,0,9]]}
["Мягкие контактные линзы"]
["Штрихкод","Код","Артикул","Номенклатура","Характеристика","Количество","Цена","% руч.","Сумма руч.","Сумма"]
["8809218092133","00-00000063",null,"Баттерфляй 1Т","Violet,  -6,00, 8,60",{"$f":"Заказ!AR23","v":0}]
["8809218092126","00-00000063",null,"Баттерфляй 1Т","Violet,  -5,50, 8,60",{"$f":"Заказ!AR22","v":0}]
["8809218092119","00-00000063",null,"Баттерфляй 1Т","Violet,  -5,00, 8,60",{"$f":"Заказ!AR21","v":0}]
["8809218092102","00-00000063",null,"Баттерфляй 1Т","Violet,  -4,50, 8,60",{"$f":"Заказ!AR20","v":0}]
["8809218092096","00-00000063",null,"Баттерфляй 1Т","Violet,  -4,00, 8,60",{"$f":"Заказ!AR19","v":0}]
["8809218092089","00-00000063",null,"Баттерфляй 1Т","Violet,  -3,50, 8,60",{"$f":"Заказ!AR18","v":0}]
["8809218092072","00-00000063",null,"Баттерфляй 1Т","Violet,  -3,00, 8,60",{"$f":"Заказ!AR17","v":0}]
["8809218092065","00-00000063",null,"Баттерфляй 1Т","Violet,  -2,50, 8,60",{"$f":"Заказ!AR16","v":0}]
["8809218092058","00-00000063",null,"Баттерфляй 1Т","Violet,  -2,00, 8,60",{"$f":"Заказ!AR15","v":0}]
["8809218092041","00-00000063",null,"Баттерфляй 1Т","Violet,  -1,50, 8,60",{"$f":"Заказ!AR14","v":0}]
["8809218092034","00-00000063",null,"Баттерфляй 1Т","Violet,  -1,00, 8,60",{"$f":"Заказ!AR13","v":0}]
["8809218092027","00-00000063",null,"Баттерфляй 1Т","Violet,  -0,50, 8,60",{"$f":"Заказ!AR12","v":0}]
["8809218092010","00-00000063",null,"Баттерфляй 1Т","Violet, 0,00, 8,60",{"$f":"Заказ!AR11","v":0}]
["8809218091730","00-00000063",null,"Баттерфляй 1Т","Sky Blue,  -6,00, 8,60",{"$f":"Заказ!AP23","v":0}]
["8809218091723","00-00000063",null,"Баттерфляй 1Т","Sky Blue,  -5,50, 8,60",{"$f":"Заказ!AP22","v":0}]
["8809218091716","00-00000063",null,"Баттерфляй 1Т","Sky Blue,  -5,00, 8,60",{"$f":"Заказ!AP21","v":0}]
["8809218091709","00-00000063",null,"Баттерфляй 1Т","Sky Blue,  -4,50, 8,60",{"$f":"Заказ!AP20","v":0}]
["8809218091693","00-00000063",null,"Баттерфляй 1Т","Sky Blue,  -4,00, 8,60",{"$f":"Заказ!AP19","v":0}]
["8809218091686","00-00000063",null,"Баттерфляй 1Т","Sky Blue,  -3,50, 8,60",{"$f":"Заказ!AP18","v":0}]
["8809218091679","00-00000063",null,"Баттерфляй 1Т","Sky Blue,  -3,00, 8,60",{"$f":"Заказ!AP17","v":0}]
["8809218091662","00-00000063",null,"Баттерфляй 1Т","Sky Blue,  -2,50, 8,60",{"$f":"Заказ!AP16","v":0}]
["8809218091655","00-00000063",null,"Баттерфляй 1Т","Sky Blue,  -2,00, 8,60",{"$f":"Заказ!AP15","v":0}]
["8809218091648","00-00000063",null,"Баттерфляй 1Т","Sky Blue,  -1,50, 8,60",{"$f":"Заказ!AP14","v":0}]
["8809218091631","00-00000063",null,"Баттерфляй 1Т","Sky Blue,  -1,00, 8,60",{"$f":"Заказ!AP13","v":0}]
["8809218091624","00-00000063",null,"Баттерфляй 1Т","Sky Blue,  -0,50, 8,60",{"$f":"Заказ!AP12","v":0}]
["8809218091617","00-00000063",null,"Баттерфляй 1Т","Sky Blue, 0,00, 8,60",{"$f":"Заказ!AP11","v":0}]
["8809218091433","00-00000063",null,"Баттерфляй 1Т","Hazel,  -6,00, 8,60",{"$f":"Заказ!AN23","v":0}]
["8809218091426","00-00000063",null,"Баттерфляй 1Т","Hazel,  -5,50, 8,60",{"$f":"Заказ!AN22","v":0}]
["8809218091419","00-00000063",null,"Баттерфляй 1Т","Hazel,  -5,00, 8,60",{"$f":"Заказ!AN21","v":0}]
["8809218091402","00-00000063",null,"Баттерфляй 1Т","Hazel,  -4,50, 8,60",{"$f":"Заказ!AN20","v":0}]
["8809218091396","00-00000063",null,"Баттерфляй 1Т","Hazel,  -4,00, 8,60",{"$f":"Заказ!AN19","v":0}]
["8809218091389","00-00000063",null,"Баттерфляй 1Т","Hazel,  -3,50, 8,60",{"$f":"Заказ!AN18","v":0}]
["8809218091372","00-00000063",null,"Баттерфляй 1Т","Hazel,  -3,00, 8,60",{"$f":"Заказ!AN17","v":0}]
["8809218091365","00-00000063",null,"Баттерфляй 1Т","Hazel,  -2,50, 8,60",{"$f":"Заказ!AN16","v":0}]
["8809218091358","00-00000063",null,"Баттерфляй 1Т","Hazel,  -2,00, 8,60",{"$f":"Заказ!AN15","v":0}]
["8809218091341","00-00000063",null,"Баттерфляй 1Т","Hazel,  -1,50, 8,60",{"$f":"Заказ!AN14","v":0}]
["8809218091334","00-00000063",null,"Баттерфляй 1Т","Hazel,  -1,00, 8,60",{"$f":"Заказ!AN13","v":0}]
["8809218091327","00-00000063",null,"Баттерфляй 1Т","Hazel,  -0,50, 8,60",{"$f":"Заказ!AN12","v":0}]
["8809218091310","00-00000063",null,"Баттерфляй 1Т","Hazel, 0,00, 8,60",{"$f":"Заказ!AN11","v":0}]
["8809218091136","00-00000063",null,"Баттерфляй 1Т","Brown,  -6,00, 8,60",{"$f":"Заказ!AL23","v":0}]
["8809218091129","00-00000063",null,"Баттерфляй 1Т","Brown,  -5,50, 8,60",{"$f":"Заказ!AL22","v":0}]
["8809218091112","00-00000063",null,"Баттерфляй 1Т","Brown,  -5,00, 8,60",{"$f":"Заказ!AL21","v":0}]
["8809218091105","00-00000063",null,"Баттерфляй 1Т","Brown,  -4,50, 8,60",{"$f":"Заказ!AL20","v":0}]
["8809218091099","00-00000063",null,"Баттерфляй 1Т","Brown,  -4,00, 8,60",{"$f":"Заказ!AL19","v":0}]
["8809218091082","00-00000063",null,"Баттерфляй 1Т","Brown,  -3,50, 8,60",{"$f":"Заказ!AL18","v":0}]
["8209278091075","00-00000063",null,"Баттерфляй 1Т","Brown,  -3,00, 8,60",{"$f":"Заказ!AL17","v":0}]
["8809218091068","00-00000063",null,"Баттерфляй 1Т","Brown,  -2,50, 8,60",{"$f":"Заказ!AL16","v":0}]
["8809218091051","00-00000063",null,"Баттерфляй 1Т","Brown,  -2,00, 8,60",{"$f":"Заказ!AL15","v":0}]
["8809218091044","00-00000063",null,"Баттерфляй 1Т","Brown,  -1,50, 8,60",{"$f":"Заказ!AL14","v":0}]
["8809218091037","00-00000063",null,"Баттерфляй 1Т","Brown,  -1,00, 8,60",{"$f":"Заказ!AL13","v":0}]
["8809218091020","00-00000063",null,"Баттерфляй 1Т","Brown,  -0,50, 8,60",{"$f":"Заказ!AL12","v":0}]
["8809218091013","00-00000063",null,"Баттерфляй 1Т","Brown, 0,00, 8,60",{"$f":"Заказ!AL11","v":0}]
["8809218090733","00-00000063",null,"Баттерфляй 1Т","Green,  -6,00, 8,60",{"$f":"Заказ!AJ23","v":0}]
["8809218090726","00-00000063",null,"Баттерфляй 1Т","Green,  -5,50, 8,60",{"$f":"Заказ!AJ22","v":0}]
["8809218090719","00-00000063",null,"Баттерфляй 1Т","Green,  -5,00, 8,60",{"$f":"Заказ!AJ21","v":0}]
["8809218090702","00-00000063",null,"Баттерфляй 1Т","Green,  -4,50, 8,60",{"$f":"Заказ!AJ20","v":0}]
["8809218090696","00-00000063",null,"Баттерфляй 1Т","Green,  -4,00, 8,60",{"$f":"Заказ!AJ19","v":0}]
["8809218090689","00-00000063",null,"Баттерфляй 1Т","Green,  -3,50, 8,60",{"$f":"Заказ!AJ18","v":0}]
["8809218090672","00-00000063",null,"Баттерфляй 1Т","Green,  -3,00, 8,60",{"$f":"Заказ!AJ17","v":0}]
["8809218090665","00-00000063",null,"Баттерфляй 1Т","Green,  -2,50, 8,60",{"$f":"Заказ!AJ16","v":0}]
["8809218090658","00-00000063",null,"Баттерфляй 1Т","Green,  -2,00, 8,60",{"$f":"Заказ!AJ15","v":0}]
["8809218090641","00-00000063",null,"Баттерфляй 1Т","Green,  -1,50, 8,60",{"$f":"Заказ!AJ14","v":0}]
["8809218090634","00-00000063",null,"Баттерфляй 1Т","Green,  -1,00, 8,60",{"$f":"Заказ!AJ13","v":0}]
["8809218090627","00-00000063",null,"Баттерфляй 1Т","Green,  -0,50, 8,60",{"$f":"Заказ!AJ12","v":0}]
["8809218090610","00-00000063",null,"Баттерфляй 1Т","Green, 0,00, 8,60",{"$f":"Заказ!AJ11","v":0}]
["8809218090436","00-00000063",null,"Баттерфляй 1Т","Gray,  -6,00, 8,60",{"$f":"Заказ!AH23","v":0}]
["8809218090429","00-00000063",null,"Баттерфляй 1Т","Gray,  -5,50, 8,60",{"$f":"Заказ!AH22","v":0}]
["8809218090412","00-00000063",null,"Баттерфляй 1Т","Gray,  -5,00, 8,60",{"$f":"Заказ!AH21","v":0}]
["8809218090405","00-00000063",null,"Баттерфляй 1Т","Gray,  -4,50, 8,60",{"$f":"Заказ!AH20","v":0}]
["8809218090399","00-00000063",null,"Баттерфляй 1Т","Gray,  -4,00, 8,60",{"$f":"Заказ!AH19","v":0}]
["8809218090382","00-00000063",null,"Баттерфляй 1Т","Gray,  -3,50, 8,60",{"$f":"Заказ!AH18","v":0}]
["8809218090375","00-00000063",null,"Баттерфляй 1Т","Gray,  -3,00, 8,60",{"$f":"Заказ!AH17","v":0}]
["8809218090368","00-00000063",null,"Баттерфляй 1Т","Gray,  -2,50, 8,60",{"$f":"Заказ!AH16","v":0}]
["8809218090351","00-00000063",null,"Баттерфляй 1Т","Gray,  -2,00, 8,60",{"$f":"Заказ!AH15","v":0}]
["8809218090344","00-00000063",null,"Баттерфляй 1Т","Gray,  -1,50, 8,60",{"$f":"Заказ!AH14","v":0}]
["8809218090337","00-00000063",null,"Баттерфляй 1Т","Gray,  -1,00, 8,60",{"$f":"Заказ!AH13","v":0}]
["8809218090320","00-00000063",null,"Баттерфляй 1Т","Gray,  -0,50, 8,60",{"$f":"Заказ!AH12","v":0}]
["8809218090313","00-00000063",null,"Баттерфляй 1Т","Gray, 0,00, 8,60",{"$f":"Заказ!AH11","v":0}]
["8809218090139","00-00000063",null,"Баттерфляй 1Т","Aqua,  -6,00, 8,60",{"$f":"Заказ!AF23","v":0}]
["8809218090122","00-00000063",null,"Баттерфляй 1Т","Aqua,  -5,50, 8,60",{"$f":"Заказ!AF22","v":0}]
["8809218090115","00-00000063",null,"Баттерфляй 1Т","Aqua,  -5,00, 8,60",{"$f":"Заказ!AF21","v":0}]
["8809218090108","00-00000063",null,"Баттерфляй 1Т","Aqua,  -4,50, 8,60",{"$f":"Заказ!AF20","v":0}]
["8809218090092","00-00000063",null,"Баттерфляй 1Т","Aqua,  -4,00, 8,60",{"$f":"Заказ!AF19","v":0}]
["8809218090085","00-00000063",null,"Баттерфляй 1Т","Aqua,  -3,50, 8,60",{"$f":"Заказ!AF18","v":0}]
["8809218090078","00-00000063",null,"Баттерфляй 1Т","Aqua,  -3,00, 8,60",{"$f":"Заказ!AF17","v":0}]
["8809218090061","00-00000063",null,"Баттерфляй 1Т","Aqua,  -2,50, 8,60",{"$f":"Заказ!AF16","v":0}]
["8809218090054","00-00000063",null,"Баттерфляй 1Т","Aqua,  -2,00, 8,60",{"$f":"Заказ!AF15","v":0}]
["8809218090047","00-00000063",null,"Баттерфляй 1Т","Aqua,  -1,50, 8,60",{"$f":"Заказ!AF14","v":0}]
["8809218090030","00-00000063",null,"Баттерфляй 1Т","Aqua,  -1,00, 8,60",{"$f":"Заказ!AF13","v":0}]
["8809218090023","00-00000063",null,"Баттерфляй 1Т","Aqua,  -0,50, 8,60",{"$f":"Заказ!AF12","v":0}]
["8809218090016","00-00000063",null,"Баттерфляй 1Т","Aqua, 0,00, 8,60",{"$f":"Заказ!AF11","v":0}]
["8809218092430","00-00000063",null,"Баттерфляй 1Т","Turquoise/Tosca,  -6,00, 8,60",{"$f":"Заказ!AD23","v":0}]
["8809218092423","00-00000063",null,"Баттерфляй 1Т","Turquoise/Tosca,  -5,50, 8,60",{"$f":"Заказ!AD22","v":0}]
["8809218092416","00-00000063",null,"Баттерфляй 1Т","Turquoise/Tosca,  -5,00, 8,60",{"$f":"Заказ!AD21","v":0}]
["8809218092409","00-00000063",null,"Баттерфляй 1Т","Turquoise/Tosca,  -4,50, 8,60",{"$f":"Заказ!AD20","v":0}]
["8809218092393","00-00000063",null,"Баттерфляй 1Т","Turquoise/Tosca,  -4,00, 8,60",{"$f":"Заказ!AD19","v":0}]
["8809218092386","00-00000063",null,"Баттерфляй 1Т","Turquoise/Tosca,  -3,50, 8,60",{"$f":"Заказ!AD18","v":0}]
["8809218092379","00-00000063",null,"Баттерфляй 1Т","Turquoise/Tosca,  -3,00, 8,60",{"$f":"Заказ!AD17","v":0}]
["8809218092362","00-00000063",null,"Баттерфляй 1Т","Turquoise/Tosca,  -2,50, 8,60",{"$f":"Заказ!AD16","v":0}]
["8809218092355","00-00000063",null,"Баттерфляй 1Т","Turquoise/Tosca,  -2,00, 8,60",{"$f":"Заказ!AD15","v":0}]
["8809218092348","00-00000063",null,"Баттерфляй 1Т","Turquoise/Tosca,  -1,50, 8,60",{"$f":"Заказ!AD14","v":0}]
["8809218092331","00-00000063",null,"Баттерфляй 1Т","Turquoise/Tosca,  -1,00, 8,60",{"$f":"Заказ!AD13","v":0}]
["8809218092324","00-00000063",null,"Баттерфляй 1Т","Turquoise/Tosca,  -0,50, 8,60",{"$f":"Заказ!AD12","v":0}]
["8809218092317","00-00000063",null,"Баттерфляй 1Т","Turquoise/Tosca, 0,00, 8,60",{"$f":"Заказ!AD11","v":0}]
["8809218095219","00-00000001",null,"Баттерфляй 3Т","Violet, -10,00, 8,60",{"$f":"Заказ!AR55","v":0}]
["8809218095202","00-00000001",null,"Баттерфляй 3Т","Violet,  -9,50, 8,60",{"$f":"Заказ!AR54","v":0}]
["8809218095196","00-00000001",null,"Баттерфляй 3Т","Violet,  -9,00, 8,60",{"$f":"Заказ!AR53","v":0}]
[null,"00-00000001",null,"Баттерфляй 3Т","Violet,  -8,50, 8,60",{"$f":"Заказ!AR52","v":0}]
["8809218095172","00-00000001",null,"Баттерфляй 3Т","Violet,  -8,00, 8,60",{"$f":"Заказ!AR51","v":0}]
["8809218095165","00-00000001",null,"Баттерфляй 3Т","Violet,  -7,50, 8,60",{"$f":"Заказ!AR50","v":0}]
["8809218095158","00-00000001",null,"Баттерфляй 3Т","Violet,  -7,00, 8,60",{"$f":"Заказ!AR49","v":0}]
["8809218095141","00-00000001",null,"Баттерфляй 3Т","Violet,  -6,50, 8,60",{"$f":"Заказ!AR48","v":0}]
["8809218095134","00-00000001",null,"Баттерфляй 3Т","Violet,  -6,00, 8,60",{"$f":"Заказ!AR47","v":0}]
["8809218095127","00-00000001",null,"Баттерфляй 3Т","Violet,  -5,50, 8,60",{"$f":"Заказ!AR46","v":0}]
["8809218095110","00-00000001",null,"Баттерфляй 3Т","Violet,  -5,00, 8,60",{"$f":"Заказ!AR45","v":0}]
["8809218095103","00-00000001",null,"Баттерфляй 3Т","Violet,  -4,50, 8,60",{"$f":"Заказ!AR44","v":0}]
["8809218095097","00-00000001",null,"Баттерфляй 3Т","Violet,  -4,00, 8,60",{"$f":"Заказ!AR43","v":0}]
["8809218095080","00-00000001",null,"Баттерфляй 3Т","Violet,  -3,50, 8,60",{"$f":"Заказ!AR42","v":0}]
["8809218095073","00-00000001",null,"Баттерфляй 3Т","Violet,  -3,00, 8,60",{"$f":"Заказ!AR41","v":0}]
["8809218095066","00-00000001",null,"Баттерфляй 3Т","Violet,  -2,50, 8,60",{"$f":"Заказ!AR40","v":0}]
["8809218095059","00-00000001",null,"Баттерфляй 3Т","Violet,  -2,00, 8,60",{"$f":"Заказ!AR39","v":0}]
["8809218095042","00-00000001",null,"Баттерфляй 3Т","Violet,  -1,50, 8,60",{"$f":"Заказ!AR38","v":0}]
["8809218095035","00-00000001",null,"Баттерфляй 3Т","Violet,  -1,00, 8,60",{"$f":"Заказ!AR37","v":0}]
["8809218095028","00-00000001",null,"Баттерфляй 3Т","Violet,  -0,50, 8,60",{"$f":"Заказ!AR36","v":0}]
["8809218095011","00-00000001",null,"Баттерфляй 3Т","Violet, 0,00, 8,60",{"$f":"Заказ!AR35","v":0}]
[null,"00-00000001",null,"Баттерфляй 3Т","Sky Blue,  -10,00, 8,60",{"$f":"Заказ!AP55","v":0}]
[null,"00-00000001",null,"Баттерфляй 3Т","Sky Blue,  -9,50, 8,60",{"$f":"Заказ!AP54","v":0}]
["8809218094793","00-00000001",null,"Баттерфляй 3Т","Sky Blue,  -9,00, 8,60",{"$f":"Заказ!AP53","v":0}]
["8809218094786","00-00000001",null,"Баттерфляй 3Т","Sky Blue,  -8,50, 8,60",{"$f":"Заказ!AP52","v":0}]
["8809218094779","00-00000001",null,"Баттерфляй 3Т","Sky Blue,  -8,00, 8,60",{"$f":"Заказ!AP51","v":0}]
[null,"00-00000001",null,"Баттерфляй 3Т","Sky Blue,  -7,50, 8,60",{"$f":"Заказ!AP50","v":0}]
["8809218094755","00-00000001",null,"Баттерфляй 3Т","Sky Blue,  -7,00, 8,60",{"$f":"Заказ!AP49","v":0}]
["8809218094748","00-00000001",null,"Баттерфляй 3Т","Sky Blue,  -6,50, 8,60",{"$f":"Заказ!AP48","v":0}]
["8809218094731","00-00000001",null,"Баттерфляй 3Т","Sky Blue,  -6,00, 8,60",{"$f":"Заказ!AP47","v":0}]
["8809218094724","00-00000001",null,"Баттерфляй 3Т","Sky Blue,  -5,50, 8,60",{"$f":"Заказ!AP46","v":0}]
["8809218094717","00-00000001",null,"Баттерфляй 3Т","Sky Blue,  -5,00, 8,60",{"$f":"Заказ!AP45","v":0}]
["8809218094700","00-00000001",null,"Баттерфляй 3Т","Sky Blue,  -4,50, 8,60",{"$f":"Заказ!AP44","v":0}]
["8809218094694","00-00000001",null,"Баттерфляй 3Т","Sky Blue,  -4,00, 8,60",{"$f":"Заказ!AP43","v":0}]
["8809218094687","00-00000001",null,"Баттерфляй 3Т","Sky Blue,  -3,50, 8,60",{"$f":"Заказ!AP42","v":0}]
["8809218094670","00-00000001",null,"Баттерфляй 3Т","Sky Blue,  -3,00, 8,60",{"$f":"Заказ!AP41","v":0}]
["8809218094663","00-00000001",null,"Баттерфляй 3Т","Sky Blue,  -2,50, 8,60",{"$f":"Заказ!AP40","v":0}]
["8809218094656","00-00000001",null,"Баттерфляй 3Т","Sky Blue,  -2,00, 8,60",{"$f":"Заказ!AP39","v":0}]
["8809218094649","00-00000001",null,"Баттерфляй 3Т","Sky Blue,  -1,50, 8,60",{"$f":"Заказ!AP38","v":0}]
["8809218094632","00-00000001",null,"Баттерфляй 3Т","Sky Blue,  -1,00, 8,60",{"$f":"Заказ!AP37","v":0}]
["8809218094625","00-00000001",null,"Баттерфляй 3Т","Sky Blue,  -0,50, 8,60",{"$f":"Заказ!AP36","v":0}]
["8809218094618","00-00000001",null,"Баттерфляй 3Т","Sky Blue, 0,00, 8,60",{"$f":"Заказ!AP35","v":0}]
["8809218094519","00-00000001",null,"Баттерфляй 3Т","Hazel, -10,00, 8,60",{"$f":"Заказ!AN55","v":0}]
["8809218094502","00-00000001",null,"Баттерфляй 3Т","Hazel,  -9,50, 8,60",{"$f":"Заказ!AN54","v":0}]
["8809218094496","00-00000001",null,"Баттерфляй 3Т","Hazel,  -9,00, 8,60",{"$f":"Заказ!AN53","v":0}]
["8809218094489","00-00000001",null,"Баттерфляй 3Т","Hazel,  -8,50, 8,60",{"$f":"Заказ!AN52","v":0}]
["8809218094472","00-00000001",null,"Баттерфляй 3Т","Hazel,  -8,00, 8,60",{"$f":"Заказ!AN51","v":0}]
["8809218094465","00-00000001",null,"Баттерфляй 3Т","Hazel,  -7,50, 8,60",{"$f":"Заказ!AN50","v":0}]
["8809218094458","00-00000001",null,"Баттерфляй 3Т","Hazel,  -7,00, 8,60",{"$f":"Заказ!AN49","v":0}]
["8809218094441","00-00000001",null,"Баттерфляй 3Т","Hazel,  -6,50, 8,60",{"$f":"Заказ!AN48","v":0}]
["8809218094434","00-00000001",null,"Баттерфляй 3Т","Hazel,  -6,00, 8,60",{"$f":"Заказ!AN47","v":0}]
["8809218094427","00-00000001",null,"Баттерфляй 3Т","Hazel,  -5,50, 8,60",{"$f":"Заказ!AN46","v":0}]
["8809218094410","00-00000001",null,"Баттерфляй 3Т","Hazel,  -5,00, 8,60",{"$f":"Заказ!AN45","v":0}]
["8809218094403","00-00000001",null,"Баттерфляй 3Т","Hazel,  -4,50, 8,60",{"$f":"Заказ!AN44","v":0}]
["8809218094397","00-00000001",null,"Баттерфляй 3Т","Hazel,  -4,00, 8,60",{"$f":"Заказ!AN43","v":0}]
["8809218094380","00-00000001",null,"Баттерфляй 3Т","Hazel,  -3,50, 8,60",{"$f":"Заказ!AN42","v":0}]
["8809218094373","00-00000001",null,"Баттерфляй 3Т","Hazel,  -3,00, 8,60",{"$f":"Заказ!AN41","v":0}]
["8809218094366","00-00000001",null,"Баттерфляй 3Т","Hazel,  -2,50, 8,60",{"$f":"Заказ!AN40","v":0}]
["8809218094359","00-00000001",null,"Баттерфляй 3Т","Hazel,  -2,00, 8,60",{"$f":"Заказ!AN39","v":0}]
["8809218094342","00-00000001",null,"Баттерфляй 3Т","Hazel,  -1,50, 8,60",{"$f":"Заказ!AN38","v":0}]
["8809218094335","00-00000001",null,"Баттерфляй 3Т","Hazel,  -1,00, 8,60",{"$f":"Заказ!AN37","v":0}]
["8809218094328","00-00000001",null,"Баттерфляй 3Т","Hazel,  -0,50, 8,60",{"$f":"Заказ!AN36","v":0}]
["8809218094311","00-00000001",null,"Баттерфляй 3Т","Hazel, 0,00, 8,60",{"$f":"Заказ!AN35","v":0}]
["8809218094212","00-00000001",null,"Баттерфляй 3Т","Brown, -10,00, 8,60",{"$f":"Заказ!AL55","v":0}]
[null,"00-00000001",null,"Баттерфляй 3Т","Brown,  -9,50, 8,60",{"$f":"Заказ!AL54","v":0}]
[null,"00-00000001",null,"Баттерфляй 3Т","Brown,  -9,00, 8,60",{"$f":"Заказ!AL53","v":0}]
["8809218094182","00-00000001",null,"Баттерфляй 3Т","Brown,  -8,50, 8,60",{"$f":"Заказ!AL52","v":0}]
["8809218094175","00-00000001",null,"Баттерфляй 3Т","Brown,  -8,00, 8,60",{"$f":"Заказ!AL51","v":0}]
["8809218094168","00-00000001",null,"Баттерфляй 3Т","Brown,  -7,50, 8,60",{"$f":"Заказ!AL50","v":0}]
["8809218094151","00-00000001",null,"Баттерфляй 3Т","Brown,  -7,00, 8,60",{"$f":"Заказ!AL49","v":0}]
["8809218094144","00-00000001",null,"Баттерфляй 3Т","Brown,  -6,50, 8,60",{"$f":"Заказ!AL48","v":0}]
["8809218094137","00-00000001",null,"Баттерфляй 3Т","Brown,  -6,00, 8,60",{"$f":"Заказ!AL47","v":0}]
["8809218094120","00-00000001",null,"Баттерфляй 3Т","Brown,  -5,50, 8,60",{"$f":"Заказ!AL46","v":0}]
["8809218094113","00-00000001",null,"Баттерфляй 3Т","Brown,  -5,00, 8,60",{"$f":"Заказ!AL45","v":0}]
["8809218094106","00-00000001",null,"Баттерфляй 3Т","Brown,  -4,50, 8,60",{"$f":"Заказ!AL44","v":0}]
["8809218094090","00-00000001",null,"Баттерфляй 3Т","Brown,  -4,00, 8,60",{"$f":"Заказ!AL43","v":0}]
["8809218094083","00-00000001",null,"Баттерфляй 3Т","Brown,  -3,50, 8,60",{"$f":"Заказ!AL42","v":0}]
["8809218094076","00-00000001",null,"Баттерфляй 3Т","Brown,  -3,00, 8,60",{"$f":"Заказ!AL41","v":0}]
["8809218094069","00-00000001",null,"Баттерфляй 3Т","Brown,  -2,50, 8,60",{"$f":"Заказ!AL40","v":0}]
["8809218094052","00-00000001",null,"Баттерфляй 3Т","Brown,  -2,00, 8,60",{"$f":"Заказ!AL39","v":0}]
["8809218094045","00-00000001",null,"Баттерфляй 3Т","Brown,  -1,50, 8,60",{"$f":"Заказ!AL38","v":0}]
["8809218094038","00-00000001",null,"Баттерфляй 3Т","Brown,  -1,00, 8,60",{"$f":"Заказ!AL37","v":0}]
["8809218094021","00-00000001",null,"Баттерфляй 3Т","Brown,  -0,50, 8,60",{"$f":"Заказ!AL36","v":0}]
["8809218094014","00-00000001",null,"Баттерфляй 3Т","Brown, 0,00, 8,60",{"$f":"Заказ!AL35","v":0}]
["8809218093819","00-00000001",null,"Баттерфляй 3Т","Green, -10,00, 8,60",{"$f":"Заказ!AJ55","v":0}]
["8809218093802","00-00000001",null,"Баттерфляй 3Т","Green,  -9,50, 8,60",{"$f":"Заказ!AJ54","v":0}]
["8809218093796","00-00000001",null,"Баттерфляй 3Т","Green,  -9,00, 8,60",{"$f":"Заказ!AJ53","v":0}]
["8809218093789","00-00000001",null,"Баттерфляй 3Т","Green,  -8,50, 8,60",{"$f":"Заказ!AJ52","v":0}]
["8809218093772","00-00000001",null,"Баттерфляй 3Т","Green,  -8,00, 8,60",{"$f":"Заказ!AJ51","v":0}]
["8809218093765","00-00000001",null,"Баттерфляй 3Т","Green,  -7,50, 8,60",{"$f":"Заказ!AJ50","v":0}]
["8809218093758","00-00000001",null,"Баттерфляй 3Т","Green,  -7,00, 8,60",{"$f":"Заказ!AJ49","v":0}]
["8809218093741","00-00000001",null,"Баттерфляй 3Т","Green,  -6,50, 8,60",{"$f":"Заказ!AJ48","v":0}]
["8809218093734","00-00000001",null,"Баттерфляй 3Т","Green,  -6,00, 8,60",{"$f":"Заказ!AJ47","v":0}]
["8809218093727","00-00000001",null,"Баттерфляй 3Т","Green,  -5,50, 8,60",{"$f":"Заказ!AJ46","v":0}]
["8809218093710","00-00000001",null,"Баттерфляй 3Т","Green,  -5,00, 8,60",{"$f":"Заказ!AJ45","v":0}]
["8809218093703","00-00000001",null,"Баттерфляй 3Т","Green,  -4,50, 8,60",{"$f":"Заказ!AJ44","v":0}]
["8809218093697","00-00000001",null,"Баттерфляй 3Т","Green,  -4,00, 8,60",{"$f":"Заказ!AJ43","v":0}]
["8809218093680","00-00000001",null,"Баттерфляй 3Т","Green,  -3,50, 8,60",{"$f":"Заказ!AJ42","v":0}]
["8809218093673","00-00000001",null,"Баттерфляй 3Т","Green,  -3,00, 8,60",{"$f":"Заказ!AJ41","v":0}]
["8809218093666","00-00000001",null,"Баттерфляй 3Т","Green,  -2,50, 8,60",{"$f":"Заказ!AJ40","v":0}]
["8809218093659","00-00000001",null,"Баттерфляй 3Т","Green,  -2,00, 8,60",{"$f":"Заказ!AJ39","v":0}]
["8809218093642","00-00000001",null,"Баттерфляй 3Т","Green,  -1,50, 8,60",{"$f":"Заказ!AJ38","v":0}]
["8809218093635","00-00000001",null,"Баттерфляй 3Т","Green,  -1,00, 8,60",{"$f":"Заказ!AJ37","v":0}]
["8809218093628","00-00000001",null,"Баттерфляй 3Т","Green,  -0,50, 8,60",{"$f":"Заказ!AJ36","v":0}]
["8809218093611","00-00000001",null,"Баттерфляй 3Т","Green, 0,00, 8,60",{"$f":"Заказ!AJ35","v":0}]
["8809218093512","00-00000001",null,"Баттерфляй 3Т","Gray, -10,00, 8,60",{"$f":"Заказ!AH55","v":0}]
[null,"00-00000001",null,"Баттерфляй 3Т","Gray,  -9,50, 8,60",{"$f":"Заказ!AH54","v":0}]
["8809218093499","00-00000001",null,"Баттерфляй 3Т","Gray,  -9,00, 8,60",{"$f":"Заказ!AH53","v":0}]
["8809218093482","00-00000001",null,"Баттерфляй 3Т","Gray,  -8,50, 8,60",{"$f":"Заказ!AH52","v":0}]
[null,"00-00000001",null,"Баттерфляй 3Т","Gray,  -8,00, 8,60",{"$f":"Заказ!AH51","v":0}]
[null,"00-00000001",null,"Баттерфляй 3Т","Gray,  -7,50, 8,60",{"$f":"Заказ!AH50","v":0}]
["8809218093451","00-00000001",null,"Баттерфляй 3Т","Gray,  -7,00, 8,60",{"$f":"Заказ!AH49","v":0}]
["8809218093444","00-00000001",null,"Баттерфляй 3Т","Gray,  -6,50, 8,60",{"$f":"Заказ!AH48","v":0}]
["8809218093437","00-00000001",null,"Баттерфляй 3Т","Gray,  -6,00, 8,60",{"$f":"Заказ!AH47","v":0}]
["8809218093420","00-00000001",null,"Баттерфляй 3Т","Gray,  -5,50, 8,60",{"$f":"Заказ!AH46","v":0}]
["8809218093413","00-00000001",null,"Баттерфляй 3Т","Gray,  -5,00, 8,60",{"$f":"Заказ!AH45","v":0}]
["8809218093406","00-00000001",null,"Баттерфляй 3Т","Gray,  -4,50, 8,60",{"$f":"Заказ!AH44","v":0}]
["8809218093390","00-00000001",null,"Баттерфляй 3Т","Gray,  -4,00, 8,60",{"$f":"Заказ!AH43","v":0}]
["8809218093383","00-00000001",null,"Баттерфляй 3Т","Gray,  -3,50, 8,60",{"$f":"Заказ!AH42","v":0}]
["8809218093376","00-00000001",null,"Баттерфляй 3Т","Gray,  -3,00, 8,60",{"$f":"Заказ!AH41","v":0}]
["8809218093369","00-00000001",null,"Баттерфляй 3Т","Gray,  -2,50, 8,60",{"$f":"Заказ!AH40","v":0}]
["8809218093352","00-00000001",null,"Баттерфляй 3Т","Gray,  -2,00, 8,60",{"$f":"Заказ!AH39","v":0}]
["8809218093345","00-00000001",null,"Баттерфляй 3Т","Gray,  -1,50, 8,60",{"$f":"Заказ!AH38","v":0}]
["8809218093338","00-00000001",null,"Баттерфляй 3Т","Gray,  -1,00, 8,60",{"$f":"Заказ!AH37","v":0}]
["8809218093321","00-00000001",null,"Баттерфляй 3Т","Gray,  -0,50, 8,60",{"$f":"Заказ!AH36","v":0}]
["8809218093314","00-00000001",null,"Баттерфляй 3Т","Gray, 0,00, 8,60",{"$f":"Заказ!AH35","v":0}]
[null,"00-00000001",null,"Баттерфляй 3Т","Aqua,  -10,00, 8,60",{"$f":"Заказ!AF55","v":0}]
[null,"00-00000001",null,"Баттерфляй 3Т","Aqua,  -9,50, 8,60",{"$f":"Заказ!AF54","v":0}]
[null,"00-00000001",null,"Баттерфляй 3Т","Aqua,  -9,00, 8,60",{"$f":"Заказ!AF53","v":0}]
[null,"00-00000001",null,"Баттерфляй 3Т","Aqua,  -8,50, 8,60",{"$f":"Заказ!AF52","v":0}]
[null,"00-00000001",null,"Баттерфляй 3Т","Aqua,  -8,00, 8,60",{"$f":"Заказ!AF51","v":0}]
[null,"00-00000001",null,"Баттерфляй 3Т","Aqua,  -7,50, 8,60",{"$f":"Заказ!AF50","v":0}]
["8809218093154","00-00000001",null,"Баттерфляй 3Т","Aqua,  -7,00, 8,60",{"$f":"Заказ!AF49","v":0}]
["8809218093147","00-00000001",null,"Баттерфляй 3Т","Aqua,  -6,50, 8,60",{"$f":"Заказ!AF48","v":0}]
["8809218093130","00-00000001",null,"Баттерфляй 3Т","Aqua,  -6,00, 8,60",{"$f":"Заказ!AF47","v":0}]
["8809218093123","00-00000001",null,"Баттерфляй 3Т","Aqua,  -5,50, 8,60",{"$f":"Заказ!AF46","v":0}]
["8809218093116","00-00000001",null,"Баттерфляй 3Т","Aqua,  -5,00, 8,60",{"$f":"Заказ!AF45","v":0}]
["8809218093109","00-00000001",null,"Баттерфляй 3Т","Aqua,  -4,50, 8,60",{"$f":"Заказ!AF44","v":0}]
["8809218093093","00-00000001",null,"Баттерфляй 3Т","Aqua,  -4,00, 8,60",{"$f":"Заказ!AF43","v":0}]
["8809218093086","00-00000001",null,"Баттерфляй 3Т","Aqua,  -3,50, 8,60",{"$f":"Заказ!AF42","v":0}]
["8809218093079","00-00000001",null,"Баттерфляй 3Т","Aqua,  -3,00, 8,60",{"$f":"Заказ!AF41","v":0}]
["8809218093062","00-00000001",null,"Баттерфляй 3Т","Aqua,  -2,50, 8,60",{"$f":"Заказ!AF40","v":0}]
["8809218093055","00-00000001",null,"Баттерфляй 3Т","Aqua,  -2,00, 8,60",{"$f":"Заказ!AF39","v":0}]
["8809218093048","00-00000001",null,"Баттерфляй 3Т","Aqua,  -1,50, 8,60",{"$f":"Заказ!AF38","v":0}]
["8809218093031","00-00000001",null,"Баттерфляй 3Т","Aqua,  -1,00, 8,60",{"$f":"Заказ!AF37","v":0}]
["8809218093024","00-00000001",null,"Баттерфляй 3Т","Aqua,  -0,50, 8,60",{"$f":"Заказ!AF36","v":0}]
["8809218093017","00-00000001",null,"Баттерфляй 3Т","Aqua, 0,00, 8,60",{"$f":"Заказ!AF35","v":0}]
[null,"00-00000001",null,"Баттерфляй 3Т","Turquoise/Tosca,  -10,00, 8,60",{"$f":"Заказ!AD55","v":0}]
[null,"00-00000001",null,"Баттерфляй 3Т","Turquoise/Tosca,  -9,50, 8,60",{"$f":"Заказ!AD54","v":0}]
[null,"00-00000001",null,"Баттерфляй 3Т","Turquoise/Tosca,  -9,00, 8,60",{"$f":"Заказ!AD53","v":0}]
["8809218095486","00-00000001",null,"Баттерфляй 3Т","Turquoise/Tosca,  -8,50, 8,60",{"$f":"Заказ!AD52","v":0}]
["8809218095479","00-00000001",null,"Баттерфляй 3Т","Turquoise/Tosca,  -8,00, 8,60",{"$f":"Заказ!AD51","v":0}]
["8809218095462","00-00000001",null,"Баттерфляй 3Т","Turquoise/Tosca,  -7,50, 8,60",{"$f":"Заказ!AD50","v":0}]
["8809218095455","00-00000001",null,"Баттерфляй 3Т","Turquoise/Tosca,  -7,00, 8,60",{"$f":"Заказ!AD49","v":0}]
["8809218095448","00-00000001",null,"Баттерфляй 3Т","Turquoise/Tosca,  -6,50, 8,60",{"$f":"Заказ!AD48","v":0}]
["8809218095431","00-00000001",null,"Баттерфляй 3Т","Turquoise/Tosca,  -6,00, 8,60",{"$f":"Заказ!AD47","v":0}]
["8809218095424","00-00000001",null,"Баттерфляй 3Т","Turquoise/Tosca,  -5,50, 8,60",{"$f":"Заказ!AD46","v":0}]
["8809218095417","00-00000001",null,"Баттерфляй 3Т","Turquoise/Tosca,  -5,00, 8,60",{"$f":"Заказ!AD45","v":0}]
["8809218095400","00-00000001",null,"Баттерфляй 3Т","Turquoise/Tosca,  -4,50, 8,60",{"$f":"Заказ!AD44","v":0}]
["8809218095394","00-00000001",null,"Баттерфляй 3Т","Turquoise/Tosca,  -4,00, 8,60",{"$f":"Заказ!AD43","v":0}]
["8809218095387","00-00000001",null,"Баттерфляй 3Т","Turquoise/Tosca,  -3,50, 8,60",{"$f":"Заказ!AD42","v":0}]
["8809218095370","00-00000001",null,"Баттерфляй 3Т","Turquoise/Tosca,  -3,00, 8,60",{"$f":"Заказ!AD41","v":0}]
["8809218095363","00-00000001",null,"Баттерфляй 3Т","Turquoise/Tosca,  -2,50, 8,60",{"$f":"Заказ!AD40","v":0}]
["8809218095356","00-00000001",null,"Баттерфляй 3Т","Turquoise/Tosca,  -2,00, 8,60",{"$f":"Заказ!AD39","v":0}]
["8809218095349","00-00000001",null,"Баттерфляй 3Т","Turquoise/Tosca,  -1,50, 8,60",{"$f":"Заказ!AD38","v":0}]
["8809218095332","00-00000001",null,"Баттерфляй 3Т","Turquoise/Tosca,  -1,00, 8,60",{"$f":"Заказ!AD37","v":0}]
["8809218095325","00-00000001",null,"Баттерфляй 3Т","Turquoise/Tosca,  -0,50, 8,60",{"$f":"Заказ!AD36","v":0}]
["8809218095318","00-00000001",null,"Баттерфляй 3Т","Turquoise/Tosca, 0,00, 8,60",{"$f":"Заказ!AD35","v":0}]
["8809218097329","00-00000067",null,"Баттерфляй Clear","Clear, -10,00, 8,60",{"$f":"Заказ!AV39","v":0}]
["8809218097312","00-00000067",null,"Баттерфляй Clear","Clear,  -9,50, 8,60",{"$f":"Заказ!AV38","v":0}]
["8809218097305","00-00000067",null,"Баттерфляй Clear","Clear,  -9,00, 8,60",{"$f":"Заказ!AV37","v":0}]
["8809218097299","00-00000067",null,"Баттерфляй Clear","Clear,  -8,50, 8,60",{"$f":"Заказ!AV36","v":0}]
["8809218097282","00-00000067",null,"Баттерфляй Clear","Clear,  -8,00, 8,60",{"$f":"Заказ!AV35","v":0}]
["8809218097275","00-00000067",null,"Баттерфляй Clear","Clear,  -7,50, 8,60",{"$f":"Заказ!AV34","v":0}]
["8809218097268","00-00000067",null,"Баттерфляй Clear","Clear,  -7,00, 8,60",{"$f":"Заказ!AV33","v":0}]
["8809218097251","00-00000067",null,"Баттерфляй Clear","Clear,  -6,50, 8,60",{"$f":"Заказ!AV32","v":0}]
["8809218097244","00-00000067",null,"Баттерфляй Clear","Clear,  -6,00, 8,60",{"$f":"Заказ!AV31","v":0}]
["8809218097237","00-00000067",null,"Баттерфляй Clear","Clear,  -5,75, 8,60",{"$f":"Заказ!AV30","v":0}]
["8809218097220","00-00000067",null,"Баттерфляй Clear","Clear,  -5,50, 8,60",{"$f":"Заказ!AV29","v":0}]
["8809218097213","00-00000067",null,"Баттерфляй Clear","Clear,  -5,25, 8,60",{"$f":"Заказ!AV28","v":0}]
["8809218097206","00-00000067",null,"Баттерфляй Clear","Clear,  -5,00, 8,60",{"$f":"Заказ!AV27","v":0}]
["8809218097190","00-00000067",null,"Баттерфляй Clear","Clear,  -4,75, 8,60",{"$f":"Заказ!AV26","v":0}]
["8809218097183","00-00000067",null,"Баттерфляй Clear","Clear,  -4,50, 8,60",{"$f":"Заказ!AV25","v":0}]
["8809218097176","00-00000067",null,"Баттерфляй Clear","Clear,  -4,25, 8,60",{"$f":"Заказ!AV24","v":0}]
["8809218097169","00-00000067",null,"Баттерфляй Clear","Clear,  -4,00, 8,60",{"$f":"Заказ!AV23","v":0}]
["8809218097152","00-00000067",null,"Баттерфляй Clear","Clear,  -3,75, 8,60",{"$f":"Заказ!AV22","v":0}]
["8809218097145","00-00000067",null,"Баттерфляй Clear","Clear,  -3,50, 8,60",{"$f":"Заказ!AV21","v":0}]
["8809218097138","00-00000067",null,"Баттерфляй Clear","Clear,  -3,25, 8,60",{"$f":"Заказ!AV20","v":0}]
["8809218097121","00-00000067",null,"Баттерфляй Clear","Clear,  -3,00, 8,60",{"$f":"Заказ!AV19","v":0}]
["8809218097114","00-00000067",null,"Баттерфляй Clear","Clear,  -2,75, 8,60",{"$f":"Заказ!AV18","v":0}]
["8809218097107","00-00000067",null,"Баттерфляй Clear","Clear,  -2,50, 8,60",{"$f":"Заказ!AV17","v":0}]
["8809218097091","00-00000067",null,"Баттерфляй Clear","Clear,  -2,25, 8,60",{"$f":"Заказ!AV16","v":0}]
["8809218097084","00-00000067",null,"Баттерфляй Clear","Clear,  -2,00, 8,60",{"$f":"Заказ!AV15","v":0}]
["8809218097077","00-00000067",null,"Баттерфляй Clear","Clear,  -1,75, 8,60",{"$f":"Заказ!AV14","v":0}]
["8809218097060","00-00000067",null,"Баттерфляй Clear","Clear,  -1,50, 8,60",{"$f":"Заказ!AV13","v":0}]
["8809218097053","00-00000067",null,"Баттерфляй Clear","Clear,  -1,25, 8,60",{"$f":"Заказ!AV12","v":0}]
["8809218097046","00-00000067",null,"Баттерфляй Clear","Clear,  -1,00, 8,60",{"$f":"Заказ!AV11","v":0}]
["8809218097039","00-00000067",null,"Баттерфляй Clear","Clear,  -0,75, 8,60",{"$f":"Заказ!AV10","v":0}]
["8809218097022","00-00000067",null,"Баттерфляй Clear","Clear,  -0,50, 8,60",{"$f":"Заказ!AV9","v":0}]
[null,"00-00000068",null,"Баттерфляй CRAZY I","Spiral, 0,00, 8,60",{"$f":"Заказ!AU54","v":0}]
["8809218095769","00-00000068",null,"Баттерфляй CRAZY I","Spider Web, 0,00, 8,60",{"$f":"Заказ!AW52","v":0}]
[null,"00-00000068",null,"Баттерфляй CRAZY I","Manson, 0,00, 8,60",{"$f":"Заказ!AU52","v":0}]
["8809218095752","00-00000068",null,"Баттерфляй CRAZY I","Zoom In, 0,00, 8,60",{"$f":"Заказ!AW50","v":0}]
["8809218095745","00-00000068",null,"Баттерфляй CRAZY I","Blue Star, 0,00, 8,60",{"$f":"Заказ!AU50","v":0}]
["8809218095806","00-00000068",null,"Баттерфляй CRAZY I","Black Wolf, 0,00, 8,60",{"$f":"Заказ!AW48","v":0}]
[null,"00-00000068",null,"Баттерфляй CRAZY I","Red Wolf, 0,00, 8,60",{"$f":"Заказ!AU48","v":0}]
[null,"00-00000068",null,"Баттерфляй CRAZY I","White Out, 0,00, 8,60",{"$f":"Заказ!AW46","v":0}]
[null,"00-00000084",null,"Баттерфляй CRAZY II","Yellow Cat, 0,00, 8,60",{"$f":"Заказ!AU46","v":0}]
["8809218095738","00-00000084",null,"Баттерфляй CRAZY II","Smile, 0,00, 8,60",{"$f":"Заказ!AW44","v":0}]
[null,"00-00000084",null,"Баттерфляй CRAZY II","Devil, 0,00, 8,60",{"$f":"Заказ!AU44","v":0}]
["8809218050553","00-00000066",null,"Баттерфляй GOLD","Jewerly,  -6,00, 8,60",{"$f":"Заказ!P44","v":0}]
["8809218050546","00-00000066",null,"Баттерфляй GOLD","Jewerly,  -5,50, 8,60",{"$f":"Заказ!P43","v":0}]
["8809218050539","00-00000066",null,"Баттерфляй GOLD","Jewerly,  -5,00, 8,60",{"$f":"Заказ!P42","v":0}]
["8809218050522","00-00000066",null,"Баттерфляй GOLD","Jewerly,  -4,50, 8,60",{"$f":"Заказ!P41","v":0}]
["8809218050515","00-00000066",null,"Баттерфляй GOLD","Jewerly,  -4,00, 8,60",{"$f":"Заказ!P40","v":0}]
["8809218050508","00-00000066",null,"Баттерфляй GOLD","Jewerly,  -3,50, 8,60",{"$f":"Заказ!P39","v":0}]
["8809218050492","00-00000066",null,"Баттерфляй GOLD","Jewerly,  -3,00, 8,60",{"$f":"Заказ!P38","v":0}]
["8809218050485","00-00000066",null,"Баттерфляй GOLD","Jewerly,  -2,50, 8,60",{"$f":"Заказ!P37","v":0}]
["8809218050478","00-00000066",null,"Баттерфляй GOLD","Jewerly,  -2,00, 8,60",{"$f":"Заказ!P36","v":0}]
["8809218050461","00-00000066",null,"Баттерфляй GOLD","Jewerly,  -1,50, 8,60",{"$f":"Заказ!P35","v":0}]
["8809218050454","00-00000066",null,"Баттерфляй GOLD","Jewerly,  -1,00, 8,60",{"$f":"Заказ!P34","v":0}]
["8809218050430","00-00000066",null,"Баттерфляй GOLD","Jewerly, 0,00, 8,60",{"$f":"Заказ!P33","v":0}]
["8809218050133","00-00000066",null,"Баттерфляй GOLD","Rose,  -6,00, 8,60",{"$f":"Заказ!N44","v":0}]
["8809218050126","00-00000066",null,"Баттерфляй GOLD","Rose,  -5,50, 8,60",{"$f":"Заказ!N43","v":0}]
["8809218050119","00-00000066",null,"Баттерфляй GOLD","Rose,  -5,00, 8,60",{"$f":"Заказ!N42","v":0}]
["8809218050102","00-00000066",null,"Баттерфляй GOLD","Rose,  -4,50, 8,60",{"$f":"Заказ!N41","v":0}]
["8809218050096","00-00000066",null,"Баттерфляй GOLD","Rose,  -4,00, 8,60",{"$f":"Заказ!N40","v":0}]
["8809218050089","00-00000066",null,"Баттерфляй GOLD","Rose,  -3,50, 8,60",{"$f":"Заказ!N39","v":0}]
["8809218050072","00-00000066",null,"Баттерфляй GOLD","Rose,  -3,00, 8,60",{"$f":"Заказ!N38","v":0}]
["8809218050065","00-00000066",null,"Баттерфляй GOLD","Rose,  -2,50, 8,60",{"$f":"Заказ!N37","v":0}]
["8809218050058","00-00000066",null,"Баттерфляй GOLD","Rose,  -2,00, 8,60",{"$f":"Заказ!N36","v":0}]
["8809218050041","00-00000066",null,"Баттерфляй GOLD","Rose,  -1,50, 8,60",{"$f":"Заказ!N35","v":0}]
["8809218050034","00-00000066",null,"Баттерфляй GOLD","Rose,  -1,00, 8,60",{"$f":"Заказ!N34","v":0}]
["8809218050010","00-00000066",null,"Баттерфляй GOLD","Rose, 0,00, 8,60",{"$f":"Заказ!N33","v":0}]
["8809218050973","00-00000066",null,"Баттерфляй GOLD","Angel,  -6,00, 8,60",{"$f":"Заказ!L44","v":0}]
["8809218050966","00-00000066",null,"Баттерфляй GOLD","Angel,  -5,50, 8,60",{"$f":"Заказ!L43","v":0}]
["8809218050959","00-00000066",null,"Баттерфляй GOLD","Angel,  -5,00, 8,60",{"$f":"Заказ!L42","v":0}]
[null,"00-00000066",null,"Баттерфляй GOLD","Angel,  -4,50, 8,60",{"$f":"Заказ!L41","v":0}]
["8809218050935","00-00000066",null,"Баттерфляй GOLD","Angel,  -4,00, 8,60",{"$f":"Заказ!L40","v":0}]
["8809218050928","00-00000066",null,"Баттерфляй GOLD","Angel,  -3,50, 8,60",{"$f":"Заказ!L39","v":0}]
["8809218050911","00-00000066",null,"Баттерфляй GOLD","Angel,  -3,00, 8,60",{"$f":"Заказ!L38","v":0}]
["8809218050904","00-00000066",null,"Баттерфляй GOLD","Angel,  -2,50, 8,60",{"$f":"Заказ!L37","v":0}]
["8809218050898","00-00000066",null,"Баттерфляй GOLD","Angel,  -2,00, 8,60",{"$f":"Заказ!L36","v":0}]
["8809218050881","00-00000066",null,"Баттерфляй GOLD","Angel,  -1,50, 8,60",{"$f":"Заказ!L35","v":0}]
["8809218050874","00-00000066",null,"Баттерфляй GOLD","Angel,  -1,00, 8,60",{"$f":"Заказ!L34","v":0}]
["8809218050850","00-00000066",null,"Баттерфляй GOLD","Angel, 0,00, 8,60",{"$f":"Заказ!L33","v":0}]
[null,"00-00000066",null,"Баттерфляй GOLD","Emerald, 0,00, 8,60",0]
[null,"00-00000066",null,"Баттерфляй GOLD","Emerald,  -1,00, 8,60",0]
[null,"00-00000066",null,"Баттерфляй GOLD","Emerald,  -1,50, 8,60",0]
[null,"00-00000066",null,"Баттерфляй GOLD","Emerald,  -2,00, 8,60",0]
[null,"00-00000066",null,"Баттерфляй GOLD","Emerald,  -2,50, 8,60",0]
[null,"00-00000066",null,"Баттерфляй GOLD","Emerald,  -3,00, 8,60",0]
[null,"00-00000066",null,"Баттерфляй GOLD","Emerald,  -3,50, 8,60",0]
["8809218050720","00-00000066",null,"Баттерфляй GOLD","Emerald,  -4,00, 8,60",0]
["8809218050737","00-00000066",null,"Баттерфляй GOLD","Emerald,  -4,50, 8,60",0]
["8809218050744","00-00000066",null,"Баттерфляй GOLD","Emerald,  -5,00, 8,60",0]
["8809218050751","00-00000066",null,"Баттерфляй GOLD","Emerald,  -5,50, 8,60",0]
[null,"00-00000066",null,"Баттерфляй GOLD","Emerald,  -6,00, 8,60",0]
[null,"00-00000066",null,"Баттерфляй GOLD","Lily, 0,00, 8,60",0]
[null,"00-00000066",null,"Баттерфляй GOLD","Lily,  -1,00, 8,60",0]
[null,"00-00000066",null,"Баттерфляй GOLD","Lily,  -1,50, 8,60",0]
[null,"00-00000066",null,"Баттерфляй GOLD","Lily,  -2,00, 8,60",0]
[null,"00-00000066",null,"Баттерфляй GOLD","Lily,  -2,50, 8,60",0]
[null,"00-00000066",null,"Баттерфляй GOLD","Lily,  -3,00, 8,60",0]
[null,"00-00000066",null,"Баттерфляй GOLD","Lily,  -3,50, 8,60",0]
[null,"00-00000066",null,"Баттерфляй GOLD","Lily,  -4,00, 8,60",0]
[null,"00-00000066",null,"Баттерфляй GOLD","Lily,  -4,50, 8,60",0]
["8809218050324","00-00000066",null,"Баттерфляй GOLD","Lily,  -5,00, 8,60",0]
["8809218050331","00-00000066",null,"Баттерфляй GOLD","Lily,  -5,50, 8,60",0]
["8809218050348","00-00000066",null,"Баттерфляй GOLD","Lily,  -6,00, 8,60",0]
["8809218070773","00-00000065",null,"Баттерфляй One Month","Black,  -6,00, 8,60",{"$f":"Заказ!AY71","v":0}]
["08809218070766","00-00000065",null,"Баттерфляй One Month","Black,  -5,50, 8,60",{"$f":"Заказ!AY70","v":0}]
["8809218070759","00-00000065",null,"Баттерфляй One Month","Black,  -5,00, 8,60",{"$f":"Заказ!AY69","v":0}]
["8809218070742","00-00000065",null,"Баттерфляй One Month","Black,  -4,50, 8,60",{"$f":"Заказ!AY68","v":0}]
[null,"00-00000065",null,"Баттерфляй One Month","Black,  -4,00, 8,60",{"$f":"Заказ!AY67","v":0}]
["8809218070728","00-00000065",null,"Баттерфляй One Month","Black,  -3,50, 8,60",{"$f":"Заказ!AY66","v":0}]
[null,"00-00000065",null,"Баттерфляй One Month","Black,  -3,00, 8,60",{"$f":"Заказ!AY65","v":0}]
["8809218070704","00-00000065",null,"Баттерфляй One Month","Black,  -2,50, 8,60",{"$f":"Заказ!AY64","v":0}]
["8809218070698","00-00000065",null,"Баттерфляй One Month","Black,  -2,00, 8,60",{"$f":"Заказ!AY63","v":0}]
["8809218070681","00-00000065",null,"Баттерфляй One Month","Black,  -1,50, 8,60",{"$f":"Заказ!AY62","v":0}]
["88092180970674","00-00000065",null,"Баттерфляй One Month","Black,  -1,00, 8,60",{"$f":"Заказ!AY61","v":0}]
[null,"00-00000065",null,"Баттерфляй One Month","Black,  0,00, 8,60",{"$f":"Заказ!AY60","v":0}]
["08809218070384","00-00000065",null,"Баттерфляй One Month","Hazel,  -6,00, 8,60",{"$f":"Заказ!AW71","v":0}]
["08809218070377","00-00000065",null,"Баттерфляй One Month","Hazel,  -5,50, 8,60",{"$f":"Заказ!AW70","v":0}]
["08809218070360","00-00000065",null,"Баттерфляй One Month","Hazel,  -5,00, 8,60",{"$f":"Заказ!AW69","v":0}]
["8809218070353","00-00000065",null,"Баттерфляй One Month","Hazel,  -4,50, 8,60",{"$f":"Заказ!AW68","v":0}]
["8809218070346","00-00000065",null,"Баттерфляй One Month","Hazel,  -4,00, 8,60",{"$f":"Заказ!AW67","v":0}]
["8809218070339","00-00000065",null,"Баттерфляй One Month","Hazel,  -3,50, 8,60",{"$f":"Заказ!AW66","v":0}]
["8809218070322","00-00000065",null,"Баттерфляй One Month","Hazel,  -3,00, 8,60",{"$f":"Заказ!AW65","v":0}]
["8809218070315","00-00000065",null,"Баттерфляй One Month","Hazel,  -2,50, 8,60",{"$f":"Заказ!AW64","v":0}]
["8809218070308","00-00000065",null,"Баттерфляй One Month","Hazel,  -2,00, 8,60",{"$f":"Заказ!AW63","v":0}]
["08809218070292","00-00000065",null,"Баттерфляй One Month","Hazel,  -1,50, 8,60",{"$f":"Заказ!AW62","v":0}]
["08809218070285","00-00000065",null,"Баттерфляй One Month","Hazel,  -1,00, 8,60",{"$f":"Заказ!AW61","v":0}]
["8809218070261","00-00000065",null,"Баттерфляй One Month","Hazel, 0,00, 8,60",{"$f":"Заказ!AW60","v":0}]
["8809218070254","00-00000065",null,"Баттерфляй One Month","Green,  -6,00, 8,60",{"$f":"Заказ!AU71","v":0}]
["8809218070247","00-00000065",null,"Баттерфляй One Month","Green,  -5,50, 8,60",{"$f":"Заказ!AU70","v":0}]
["8809218070230","00-00000065",null,"Баттерфляй One Month","Green,  -5,00, 8,60",{"$f":"Заказ!AU69","v":0}]
["8809218070223","00-00000065",null,"Баттерфляй One Month","Green,  -4,50, 8,60",{"$f":"Заказ!AU68","v":0}]
["8809218070216","00-00000065",null,"Баттерфляй One Month","Green,  -4,00, 8,60",{"$f":"Заказ!AU67","v":0}]
["8809218070209","00-00000065",null,"Баттерфляй One Month","Green,  -3,50, 8,60",{"$f":"Заказ!AU66","v":0}]
["8809218070193","00-00000065",null,"Баттерфляй One Month","Green,  -3,00, 8,60",{"$f":"Заказ!AU65","v":0}]
["8809218070186","00-00000065",null,"Баттерфляй One Month","Green,  -2,50, 8,60",{"$f":"Заказ!AU64","v":0}]
["8809218070179","00-00000065",null,"Баттерфляй One Month","Green,  -2,00, 8,60",{"$f":"Заказ!AU63","v":0}]
["8809218070162","00-00000065",null,"Баттерфляй One Month","Green,  -1,50, 8,60",{"$f":"Заказ!AU62","v":0}]
["8809218070155","00-00000065",null,"Баттерфляй One Month","Green,  -1,00, 8,60",{"$f":"Заказ!AU61","v":0}]
["8809218070131","00-00000065",null,"Баттерфляй One Month","Green, 0,00, 8,60",{"$f":"Заказ!AU60","v":0}]
["08809218070124","00-00000065",null,"Баттерфляй One Month","Gray,  -6,00, 8,60",{"$f":"Заказ!AS71","v":0}]
["08809218070117","00-00000065",null,"Баттерфляй One Month","Gray,  -5,50, 8,60",{"$f":"Заказ!AS70","v":0}]
["8809218070100","00-00000065",null,"Баттерфляй One Month","Gray,  -5,00, 8,60",{"$f":"Заказ!AS69","v":0}]
["8809218070094","00-00000065",null,"Баттерфляй One Month","Gray,  -4,50, 8,60",{"$f":"Заказ!AS68","v":0}]
["8809218070087","00-00000065",null,"Баттерфляй One Month","Gray,  -4,00, 8,60",{"$f":"Заказ!AS67","v":0}]
["8809218070070","00-00000065",null,"Баттерфляй One Month","Gray,  -3,50, 8,60",{"$f":"Заказ!AS66","v":0}]
["8809218070063","00-00000065",null,"Баттерфляй One Month","Gray,  -3,00, 8,60",{"$f":"Заказ!AS65","v":0}]
["8809218070056","00-00000065",null,"Баттерфляй One Month","Gray,  -2,50, 8,60",{"$f":"Заказ!AS64","v":0}]
["8809218070049","00-00000065",null,"Баттерфляй One Month","Gray,  -2,00, 8,60",{"$f":"Заказ!AS63","v":0}]
["8809218070032","00-00000065",null,"Баттерфляй One Month","Gray,  -1,50, 8,60",{"$f":"Заказ!AS62","v":0}]
["8809218070025","00-00000065",null,"Баттерфляй One Month","Gray,  -1,00, 8,60",{"$f":"Заказ!AS61","v":0}]
["8809218070001","00-00000065",null,"Баттерфляй One Month","Gray, 0,00, 8,60",{"$f":"Заказ!AS60","v":0}]
[null,"00-00000065",null,"Баттерфляй One Month","Sky Blue,  -6,00, 8,60",{"$f":"Заказ!AQ71","v":0}]
["8809218070636","00-00000065",null,"Баттерфляй One Month","Sky Blue,  -5,50, 8,60",{"$f":"Заказ!AQ70","v":0}]
["8809218070629","00-00000065",null,"Баттерфляй One Month","Sky Blue,  -5,00, 8,60",{"$f":"Заказ!AQ69","v":0}]
["8809218070612","00-00000065",null,"Баттерфляй One Month","Sky Blue,  -4,50, 8,60",{"$f":"Заказ!AQ68","v":0}]
["8809218070605","00-00000065",null,"Баттерфляй One Month","Sky Blue,  -4,00, 8,60",{"$f":"Заказ!AQ67","v":0}]
["88092180970599","00-00000065",null,"Баттерфляй One Month","Sky Blue,  -3,50, 8,60",{"$f":"Заказ!AQ66","v":0}]
["8809218070582","00-00000065",null,"Баттерфляй One Month","Sky Blue,  -3,00, 8,60",{"$f":"Заказ!AQ65","v":0}]
["8809218070575","00-00000065",null,"Баттерфляй One Month","Sky Blue,  -2,50, 8,60",{"$f":"Заказ!AQ64","v":0}]
["8809218070568","00-00000065",null,"Баттерфляй One Month","Sky Blue,  -2,00, 8,60",{"$f":"Заказ!AQ63","v":0}]
["8809218070551","00-00000065",null,"Баттерфляй One Month","Sky Blue,  -1,50, 8,60",{"$f":"Заказ!AQ62","v":0}]
["8809218070544","00-00000065",null,"Баттерфляй One Month","Sky Blue,  -1,00, 8,60",{"$f":"Заказ!AQ61","v":0}]
["8809218070520","00-00000065",null,"Баттерфляй One Month","Sky Blue, 0,00, 8,60",{"$f":"Заказ!AQ60","v":0}]
["08809218070513","00-00000065",null,"Баттерфляй One Month","Aqua,  -6,00, 8,60",{"$f":"Заказ!AO71","v":0}]
["08809218070506","00-00000065",null,"Баттерфляй One Month","Aqua,  -5,50, 8,60",{"$f":"Заказ!AO70","v":0}]
["8809218070490","00-00000065",null,"Баттерфляй One Month","Aqua,  -5,00, 8,60",{"$f":"Заказ!AO69","v":0}]
["8809218070483","00-00000065",null,"Баттерфляй One Month","Aqua,  -4,50, 8,60",{"$f":"Заказ!AO68","v":0}]
["8809218070476","00-00000065",null,"Баттерфляй One Month","Aqua,  -4,00, 8,60",{"$f":"Заказ!AO67","v":0}]
["8809218070469","00-00000065",null,"Баттерфляй One Month","Aqua,  -3,50, 8,60",{"$f":"Заказ!AO66","v":0}]
["8809218070452","00-00000065",null,"Баттерфляй One Month","Aqua,  -3,00, 8,60",{"$f":"Заказ!AO65","v":0}]
["8809218070445","00-00000065",null,"Баттерфляй One Month","Aqua,  -2,50, 8,60",{"$f":"Заказ!AO64","v":0}]
["8809218070438","00-00000065",null,"Баттерфляй One Month","Aqua,  -2,00, 8,60",{"$f":"Заказ!AO63","v":0}]
["8809218070421","00-00000065",null,"Баттерфляй One Month","Aqua,  -1,50, 8,60",{"$f":"Заказ!AO62","v":0}]
["8809218070414","00-00000065",null,"Баттерфляй One Month","Aqua,  -1,00, 8,60",{"$f":"Заказ!AO61","v":0}]
["8809218070391","00-00000065",null,"Баттерфляй One Month","Aqua, 0,00, 8,60",{"$f":"Заказ!AO60","v":0}]
["8809218020013","00-00000085",null,"Баттерфляй WHITE 3Т","Aqua, 0,00, 8,60",0]
["8809218020037","00-00000085",null,"Баттерфляй WHITE 3Т","Aqua,  -1,00, 8,60",0]
["8809218020044","00-00000085",null,"Баттерфляй WHITE 3Т","Aqua,  -1,50, 8,60",0]
["8809218020051","00-00000085",null,"Баттерфляй WHITE 3Т","Aqua,  -2,00, 8,60",0]
["8809218020068","00-00000085",null,"Баттерфляй WHITE 3Т","Aqua,  -2,50, 8,60",0]
["8809218020075","00-00000085",null,"Баттерфляй WHITE 3Т","Aqua,  -3,00, 8,60",0]
["8809218020082","00-00000085",null,"Баттерфляй WHITE 3Т","Aqua,  -3,50, 8,60",0]
["8809218020099","00-00000085",null,"Баттерфляй WHITE 3Т","Aqua,  -4,00, 8,60",0]
["8809218020105","00-00000085",null,"Баттерфляй WHITE 3Т","Aqua,  -4,50, 8,60",0]
["8809218020112","00-00000085",null,"Баттерфляй WHITE 3Т","Aqua,  -5,00, 8,60",0]
["8809218020129","00-00000085",null,"Баттерфляй WHITE 3Т","Aqua,  -5,50, 8,60",0]
["8809218020136","00-00000085",null,"Баттерфляй WHITE 3Т","Aqua,  -6,00, 8,60",0]
["8809218020853","00-00000085",null,"Баттерфляй WHITE 3Т","Gray, 0,00, 8,60",0]
["8809218020897","00-00000085",null,"Баттерфляй WHITE 3Т","Gray,  -1,00, 8,60",0]
["8809218020904","00-00000085",null,"Баттерфляй WHITE 3Т","Gray,  -1,50, 8,60",0]
["8809218020911","00-00000085",null,"Баттерфляй WHITE 3Т","Gray,  -2,00, 8,60",0]
["8809218020918","00-00000085",null,"Баттерфляй WHITE 3Т","Gray,  -2,50, 8,60",0]
["8809218020925","00-00000085",null,"Баттерфляй WHITE 3Т","Gray,  -3,00, 8,60",0]
["8809218020932","00-00000085",null,"Баттерфляй WHITE 3Т","Gray,  -3,50, 8,60",0]
["8809218020939","00-00000085",null,"Баттерфляй WHITE 3Т","Gray,  -4,00, 8,60",0]
["8809218020946","00-00000085",null,"Баттерфляй WHITE 3Т","Gray,  -4,50, 8,60",0]
["8809218020953","00-00000085",null,"Баттерфляй WHITE 3Т","Gray,  -5,00, 8,60",0]
["8809218020960","00-00000085",null,"Баттерфляй WHITE 3Т","Gray,  -5,50, 8,60",0]
["8809218020967","00-00000085",null,"Баттерфляй WHITE 3Т","Gray,  -6,00, 8,60",0]
["8809218020648","00-00000085",null,"Баттерфляй WHITE 3Т","Green, 0,00, 8,60",0]
["8809218020662","00-00000085",null,"Баттерфляй WHITE 3Т","Green,  -1,00, 8,60",0]
["8809218020679","00-00000085",null,"Баттерфляй WHITE 3Т","Green,  -1,50, 8,60",0]
["8809218020686","00-00000085",null,"Баттерфляй WHITE 3Т","Green,  -2,00, 8,60",0]
["8809218020693","00-00000085",null,"Баттерфляй WHITE 3Т","Green,  -2,50, 8,60",0]
["8809218020709","00-00000085",null,"Баттерфляй WHITE 3Т","Green,  -3,00, 8,60",0]
["8809218020716","00-00000085",null,"Баттерфляй WHITE 3Т","Green,  -3,50, 8,60",0]
["8809218020723","00-00000085",null,"Баттерфляй WHITE 3Т","Green,  -4,00, 8,60",0]
["8809218020730","00-00000085",null,"Баттерфляй WHITE 3Т","Green,  -4,50, 8,60",0]
["8809218020747","00-00000085",null,"Баттерфляй WHITE 3Т","Green,  -5,00, 8,60",0]
["8809218020754","00-00000085",null,"Баттерфляй WHITE 3Т","Green,  -5,50, 8,60",0]
["8809218020761","00-00000085",null,"Баттерфляй WHITE 3Т","Green,  -6,00, 8,60",0]
["8809218021030","00-00000085",null,"Баттерфляй WHITE 3Т","Hazel, 0,00, 8,60",0]
["8809218021044","00-00000085",null,"Баттерфляй WHITE 3Т","Hazel,  -1,00, 8,60",0]
["8809218021051","00-00000085",null,"Баттерфляй WHITE 3Т","Hazel,  -1,50, 8,60",0]
["8809218021058","00-00000085",null,"Баттерфляй WHITE 3Т","Hazel,  -2,00, 8,60",0]
["8809218021065","00-00000085",null,"Баттерфляй WHITE 3Т","Hazel,  -2,50, 8,60",0]
["8809218021072","00-00000085",null,"Баттерфляй WHITE 3Т","Hazel,  -3,00, 8,60",0]
["8809218021079","00-00000085",null,"Баттерфляй WHITE 3Т","Hazel,  -3,50, 8,60",0]
["8809218021086","00-00000085",null,"Баттерфляй WHITE 3Т","Hazel,  -4,00, 8,60",0]
[null,"00-00000085",null,"Баттерфляй WHITE 3Т","Hazel,  -4,50, 8,60",0]
[null,"00-00000085",null,"Баттерфляй WHITE 3Т","Hazel,  -5,00, 8,60",0]
[null,"00-00000085",null,"Баттерфляй WHITE 3Т","Hazel,  -5,50, 8,60",0]
[null,"00-00000085",null,"Баттерфляй WHITE 3Т","Hazel,  -6,00, 8,60",0]
["8809218020228","00-00000085",null,"Баттерфляй WHITE 3Т","Sky Blue, 0,00, 8,60",0]
["08809218020235","00-00000085",null,"Баттерфляй WHITE 3Т","Sky Blue,  -0,50, 8,60",0]
["8809218020242","00-00000085",null,"Баттерфляй WHITE 3Т","Sky Blue,  -1,00, 8,60",0]
["8809218020259","00-00000085",null,"Баттерфляй WHITE 3Т","Sky Blue,  -1,50, 8,60",0]
["8809218020266","00-00000085",null,"Баттерфляй WHITE 3Т","Sky Blue,  -2,00, 8,60",0]
["8809218020273","00-00000085",null,"Баттерфляй WHITE 3Т","Sky Blue,  -2,50, 8,60",0]
["8809218020280","00-00000085",null,"Баттерфляй WHITE 3Т","Sky Blue,  -3,00, 8,60",0]
["8809218020297","00-00000085",null,"Баттерфляй WHITE 3Т","Sky Blue,  -3,50, 8,60",0]
["8809218020303","00-00000085",null,"Баттерфляй WHITE 3Т","Sky Blue,  -4,00, 8,60",0]
["8809218020310","00-00000085",null,"Баттерфляй WHITE 3Т","Sky Blue,  -4,50, 8,60",0]
["08809218020327","00-00000085",null,"Баттерфляй WHITE 3Т","Sky Blue,  -5,00, 8,60",0]
["8809218020334","00-00000085",null,"Баттерфляй WHITE 3Т","Sky Blue,  -5,50, 8,60",0]
["8809218020341","00-00000085",null,"Баттерфляй WHITE 3Т","Sky Blue,  -6,00, 8,60",0]
["8809218020433","00-00000085",null,"Баттерфляй WHITE 3Т","Turquoise/Tosca, 0,00, 8,60",0]
["8809218020457","00-00000085",null,"Баттерфляй WHITE 3Т","Turquoise/Tosca,  -1,00, 8,60",0]
["8809218020464","00-00000085",null,"Баттерфляй WHITE 3Т","Turquoise/Tosca,  -1,50, 8,60",0]
["8809218020471","00-00000085",null,"Баттерфляй WHITE 3Т","Turquoise/Tosca,  -2,00, 8,60",0]
["8809218020488","00-00000085",null,"Баттерфляй WHITE 3Т","Turquoise/Tosca,  -2,50, 8,60",0]
["8809218020495","00-00000085",null,"Баттерфляй WHITE 3Т","Turquoise/Tosca,  -3,00, 8,60",0]
["8809218020501","00-00000085",null,"Баттерфляй WHITE 3Т","Turquoise/Tosca,  -3,50, 8,60",0]
["8809218020518","00-00000085",null,"Баттерфляй WHITE 3Т","Turquoise/Tosca,  -4,00, 8,60",0]
["8809218020525","00-00000085",null,"Баттерфляй WHITE 3Т","Turquoise/Tosca,  -4,50, 8,60",0]
["8809218020532","00-00000085",null,"Баттерфляй WHITE 3Т","Turquoise/Tosca,  -5,00, 8,60",0]
["8809218020549","00-00000085",null,"Баттерфляй WHITE 3Т","Turquoise/Tosca,  -5,50, 8,60",0]
["8809218020556","00-00000085",null,"Баттерфляй WHITE 3Т","Turquoise/Tosca,  -6,00, 8,60",0]
["8809218031385","00-00000064",null,"Баттерфляй Однодневные","Hazel,  -6,00, 8,60",{"$f":"Заказ!AL71","v":0}]
["8809218031378","00-00000064",null,"Баттерфляй Однодневные","Hazel,  -5,50, 8,60",{"$f":"Заказ!AL70","v":0}]
["8809218031361","00-00000064",null,"Баттерфляй Однодневные","Hazel,  -5,00, 8,60",{"$f":"Заказ!AL69","v":0}]
["8809218031354","00-00000064",null,"Баттерфляй Однодневные","Hazel,  -4,50, 8,60",{"$f":"Заказ!AL68","v":0}]
["8809218031347","00-00000064",null,"Баттерфляй Однодневные","Hazel,  -4,00, 8,60",{"$f":"Заказ!AL67","v":0}]
["8809218031330","00-00000064",null,"Баттерфляй Однодневные","Hazel,  -3,50, 8,60",{"$f":"Заказ!AL66","v":0}]
["8809218031323","00-00000064",null,"Баттерфляй Однодневные","Hazel,  -3,00, 8,60",{"$f":"Заказ!AL65","v":0}]
["8809218031316","00-00000064",null,"Баттерфляй Однодневные","Hazel,  -2,50, 8,60",{"$f":"Заказ!AL64","v":0}]
["8809218031309","00-00000064",null,"Баттерфляй Однодневные","Hazel,  -2,00, 8,60",{"$f":"Заказ!AL63","v":0}]
["8809218031293","00-00000064",null,"Баттерфляй Однодневные","Hazel,  -1,50, 8,60",{"$f":"Заказ!AL62","v":0}]
["8809218031286","00-00000064",null,"Баттерфляй Однодневные","Hazel,  -1,00, 8,60",{"$f":"Заказ!AL61","v":0}]
["8809218031262","00-00000064",null,"Баттерфляй Однодневные","Hazel, 0,00, 8,60",{"$f":"Заказ!AL60","v":0}]
["8809218031255","00-00000064",null,"Баттерфляй Однодневные","Green,  -6,00, 8,60",{"$f":"Заказ!AJ71","v":0}]
["8809218031248","00-00000064",null,"Баттерфляй Однодневные","Green,  -5,50, 8,60",{"$f":"Заказ!AJ70","v":0}]
["8809218031231","00-00000064",null,"Баттерфляй Однодневные","Green,  -5,00, 8,60",{"$f":"Заказ!AJ69","v":0}]
["8809218031224","00-00000064",null,"Баттерфляй Однодневные","Green,  -4,50, 8,60",{"$f":"Заказ!AJ68","v":0}]
["8809218031217","00-00000064",null,"Баттерфляй Однодневные","Green,  -4,00, 8,60",{"$f":"Заказ!AJ67","v":0}]
["8809218031200","00-00000064",null,"Баттерфляй Однодневные","Green,  -3,50, 8,60",{"$f":"Заказ!AJ66","v":0}]
["8809218031194","00-00000064",null,"Баттерфляй Однодневные","Green,  -3,00, 8,60",{"$f":"Заказ!AJ65","v":0}]
["8809218031187","00-00000064",null,"Баттерфляй Однодневные","Green,  -2,50, 8,60",{"$f":"Заказ!AJ64","v":0}]
["8809218031170","00-00000064",null,"Баттерфляй Однодневные","Green,  -2,00, 8,60",{"$f":"Заказ!AJ63","v":0}]
["8809218031163","00-00000064",null,"Баттерфляй Однодневные","Green,  -1,50, 8,60",{"$f":"Заказ!AJ62","v":0}]
["8809218031156","00-00000064",null,"Баттерфляй Однодневные","Green,  -1,00, 8,60",{"$f":"Заказ!AJ61","v":0}]
["8809218031132","00-00000064",null,"Баттерфляй Однодневные","Green, 0,00, 8,60",{"$f":"Заказ!AJ60","v":0}]
["8809218031125","00-00000064",null,"Баттерфляй Однодневные","Gray,  -6,00, 8,60",{"$f":"Заказ!AH71","v":0}]
["8809218031118","00-00000064",null,"Баттерфляй Однодневные","Gray,  -5,50, 8,60",{"$f":"Заказ!AH70","v":0}]
["8809218031101","00-00000064",null,"Баттерфляй Однодневные","Gray,  -5,00, 8,60",{"$f":"Заказ!AH69","v":0}]
["8809218031095","00-00000064",null,"Баттерфляй Однодневные","Gray,  -4,50, 8,60",{"$f":"Заказ!AH68","v":0}]
["8809218031088","00-00000064",null,"Баттерфляй Однодневные","Gray,  -4,00, 8,60",{"$f":"Заказ!AH67","v":0}]
["8809218031071","00-00000064",null,"Баттерфляй Однодневные","Gray,  -3,50, 8,60",{"$f":"Заказ!AH66","v":0}]
["8809218031064","00-00000064",null,"Баттерфляй Однодневные","Gray,  -3,00, 8,60",{"$f":"Заказ!AH65","v":0}]
["8809218031057","00-00000064",null,"Баттерфляй Однодневные","Gray,  -2,50, 8,60",{"$f":"Заказ!AH64","v":0}]
["8809218031040","00-00000064",null,"Баттерфляй Однодневные","Gray,  -2,00, 8,60",{"$f":"Заказ!AH63","v":0}]
["8809218031033","00-00000064",null,"Баттерфляй Однодневные","Gray,  -1,50, 8,60",{"$f":"Заказ!AH62","v":0}]
["8809218031026","00-00000064",null,"Баттерфляй Однодневные","Gray,  -1,00, 8,60",{"$f":"Заказ!AH61","v":0}]
["8809218031002","00-00000064",null,"Баттерфляй Однодневные","Gray, 0,00, 8,60",{"$f":"Заказ!AH60","v":0}]
["8809218031644","00-00000064",null,"Баттерфляй Однодневные","Sky Blue,  -6,00, 8,60",{"$f":"Заказ!AF71","v":0}]
["8809218031637","00-00000064",null,"Баттерфляй Однодневные","Sky Blue,  -5,50, 8,60",{"$f":"Заказ!AF70","v":0}]
["8809218031620","00-00000064",null,"Баттерфляй Однодневные","Sky Blue,  -5,00, 8,60",{"$f":"Заказ!AF69","v":0}]
["8809218031613","00-00000064",null,"Баттерфляй Однодневные","Sky Blue,  -4,50, 8,60",{"$f":"Заказ!AF68","v":0}]
["8809218031606","00-00000064",null,"Баттерфляй Однодневные","Sky Blue,  -4,00, 8,60",{"$f":"Заказ!AF67","v":0}]
["8809218031590","00-00000064",null,"Баттерфляй Однодневные","Sky Blue,  -3,50, 8,60",{"$f":"Заказ!AF66","v":0}]
["8809218031583","00-00000064",null,"Баттерфляй Однодневные","Sky Blue,  -3,00, 8,60",{"$f":"Заказ!AF65","v":0}]
["8809218031576","00-00000064",null,"Баттерфляй Однодневные","Sky Blue,  -2,50, 8,60",{"$f":"Заказ!AF64","v":0}]
["8809218031569","00-00000064",null,"Баттерфляй Однодневные","Sky Blue,  -2,00, 8,60",{"$f":"Заказ!AF63","v":0}]
["8809218031552","00-00000064",null,"Баттерфляй Однодневные","Sky Blue,  -1,50, 8,60",{"$f":"Заказ!AF62","v":0}]
["8809218031545","00-00000064",null,"Баттерфляй Однодневные","Sky Blue,  -1,00, 8,60",{"$f":"Заказ!AF61","v":0}]
["8809218031521","00-00000064",null,"Баттерфляй Однодневные","Sky Blue, 0,00, 8,60",{"$f":"Заказ!AF60","v":0}]
["8809218031514","00-00000064",null,"Баттерфляй Однодневные","Aqua,  -6,00, 8,60",{"$f":"Заказ!AD71","v":0}]
["8809218031507","00-00000064",null,"Баттерфляй Однодневные","Aqua,  -5,50, 8,60",{"$f":"Заказ!AD70","v":0}]
["8809218031491","00-00000064",null,"Баттерфляй Однодневные","Aqua,  -5,00, 8,60",{"$f":"Заказ!AD69","v":0}]
["8809218031484","00-00000064",null,"Баттерфляй Однодневные","Aqua,  -4,50, 8,60",{"$f":"Заказ!AD68","v":0}]
["8809218031477","00-00000064",null,"Баттерфляй Однодневные","Aqua,  -4,00, 8,60",{"$f":"Заказ!AD67","v":0}]
["8809218031460","00-00000064",null,"Баттерфляй Однодневные","Aqua,  -3,50, 8,60",{"$f":"Заказ!AD66","v":0}]
["8809218031453","00-00000064",null,"Баттерфляй Однодневные","Aqua,  -3,00, 8,60",{"$f":"Заказ!AD65","v":0}]
["8809218031446","00-00000064",null,"Баттерфляй Однодневные","Aqua,  -2,50, 8,60",{"$f":"Заказ!AD64","v":0}]
["8809218031439","00-00000064",null,"Баттерфляй Однодневные","Aqua,  -2,00, 8,60",{"$f":"Заказ!AD63","v":0}]
["8809218031422","00-00000064",null,"Баттерфляй Однодневные","Aqua,  -1,50, 8,60",{"$f":"Заказ!AD62","v":0}]
["8809218031415","00-00000064",null,"Баттерфляй Однодневные","Aqua,  -1,00, 8,60",{"$f":"Заказ!AD61","v":0}]
["8809218031392","00-00000064",null,"Баттерфляй Однодневные","Aqua, 0,00, 8,60",{"$f":"Заказ!AD60","v":0}]
["8807200068401","00-00000069",null,"Колор","Black,  -8,50, 8,60",{"$f":"Заказ!Z28","v":0}]
["8807200493319","00-00000069",null,"Колор","Black,  -8,00, 8,60",{"$f":"Заказ!Z27","v":0}]
["8807200493302","00-00000069",null,"Колор","Black,  -7,50, 8,60",{"$f":"Заказ!Z26","v":0}]
["8807200493296","00-00000069",null,"Колор","Black,  -7,00, 8,60",{"$f":"Заказ!Z25","v":0}]
["8807200068364","00-00000069",null,"Колор","Black,  -6,50, 8,60",{"$f":"Заказ!Z24","v":0}]
["8807200493272","00-00000069",null,"Колор","Black,  -6,00, 8,60",{"$f":"Заказ!Z23","v":0}]
["8807200493258","00-00000069",null,"Колор","Black,  -5,50, 8,60",{"$f":"Заказ!Z22","v":0}]
["8807200493234","00-00000069",null,"Колор","Black,  -5,00, 8,60",{"$f":"Заказ!Z21","v":0}]
["8807200493210","00-00000069",null,"Колор","Black,  -4,50, 8,60",{"$f":"Заказ!Z20","v":0}]
["8807200493197","00-00000069",null,"Колор","Black,  -4,00, 8,60",{"$f":"Заказ!Z19","v":0}]
["8807200493173","00-00000069",null,"Колор","Black,  -3,50, 8,60",{"$f":"Заказ!Z18","v":0}]
["8807200493159","00-00000069",null,"Колор","Black,  -3,00, 8,60",{"$f":"Заказ!Z17","v":0}]
["8807200493135","00-00000069",null,"Колор","Black,  -2,50, 8,60",{"$f":"Заказ!Z16","v":0}]
["8807200493111","00-00000069",null,"Колор","Black,  -2,00, 8,60",{"$f":"Заказ!Z15","v":0}]
["8807200493098","00-00000069",null,"Колор","Black,  -1,50, 8,60",{"$f":"Заказ!Z14","v":0}]
["8807200493074","00-00000069",null,"Колор","Black,  -1,00, 8,60",{"$f":"Заказ!Z13","v":0}]
["8807200493050","00-00000069",null,"Колор","Black,  -0,50, 8,60",{"$f":"Заказ!Z12","v":0}]
["8807200493036","00-00000069",null,"Колор","Black, 0,00, 8,60",{"$f":"Заказ!Z11","v":0}]
["8807200079568","00-00000069",null,"Колор","Violet,  -8,50, 8,60",{"$f":"Заказ!X28","v":0}]
["8807200488049","00-00000069",null,"Колор","Violet,  -8,00, 8,60",{"$f":"Заказ!X27","v":0}]
["8807200079544","00-00000069",null,"Колор","Violet,  -7,50, 8,60",{"$f":"Заказ!X26","v":0}]
["8807200079537","00-00000069",null,"Колор","Violet,  -7,00, 8,60",{"$f":"Заказ!X25","v":0}]
["8807200488018","00-00000069",null,"Колор","Violet,  -6,50, 8,60",{"$f":"Заказ!X24","v":0}]
["8807200488001","00-00000069",null,"Колор","Violet,  -6,00, 8,60",{"$f":"Заказ!X23","v":0}]
["8807200487981","00-00000069",null,"Колор","Violet,  -5,50, 8,60",{"$f":"Заказ!X22","v":0}]
["8807200487967","00-00000069",null,"Колор","Violet,  -5,00, 8,60",{"$f":"Заказ!X21","v":0}]
["8807200487943","00-00000069",null,"Колор","Violet,  -4,50, 8,60",{"$f":"Заказ!X20","v":0}]
["8807200487929","00-00000069",null,"Колор","Violet,  -4,00, 8,60",{"$f":"Заказ!X19","v":0}]
["8807200487905","00-00000069",null,"Колор","Violet,  -3,50, 8,60",{"$f":"Заказ!X18","v":0}]
["8807200487882","00-00000069",null,"Колор","Violet,  -3,00, 8,60",{"$f":"Заказ!X17","v":0}]
["8807200487868","00-00000069",null,"Колор","Violet,  -2,50, 8,60",{"$f":"Заказ!X16","v":0}]
["8807200487844","00-00000069",null,"Колор","Violet,  -2,00, 8,60",{"$f":"Заказ!X15","v":0}]
["8807200487820","00-00000069",null,"Колор","Violet,  -1,50, 8,60",{"$f":"Заказ!X14","v":0}]
["8807200487806","00-00000069",null,"Колор","Violet,  -1,00, 8,60",{"$f":"Заказ!X13","v":0}]
["8807200487783","00-00000069",null,"Колор","Violet,  -0,50, 8,60",{"$f":"Заказ!X12","v":0}]
["8807200487769","00-00000069",null,"Колор","Violet, 0,00, 8,60",{"$f":"Заказ!X11","v":0}]
["8807200488360","00-00000069",null,"Колор","Sky Blue,  -8,50, 8,60",{"$f":"Заказ!V28","v":0}]
["8807200488353","00-00000069",null,"Колор","Sky Blue,  -8,00, 8,60",{"$f":"Заказ!V27","v":0}]
["8807200488346","00-00000069",null,"Колор","Sky Blue,  -7,50, 8,60",{"$f":"Заказ!V26","v":0}]
["8807200488339","00-00000069",null,"Колор","Sky Blue,  -7,00, 8,60",{"$f":"Заказ!V25","v":0}]
["8807200488322","00-00000069",null,"Колор","Sky Blue,  -6,50, 8,60",{"$f":"Заказ!V24","v":0}]
["8807200488315","00-00000069",null,"Колор","Sky Blue,  -6,00, 8,60",{"$f":"Заказ!V23","v":0}]
["8807200488292","00-00000069",null,"Колор","Sky Blue,  -5,50, 8,60",{"$f":"Заказ!V22","v":0}]
["8807200488278","00-00000069",null,"Колор","Sky Blue,  -5,00, 8,60",{"$f":"Заказ!V21","v":0}]
["8807200488254","00-00000069",null,"Колор","Sky Blue,  -4,50, 8,60",{"$f":"Заказ!V20","v":0}]
["8807200488230","00-00000069",null,"Колор","Sky Blue,  -4,00, 8,60",{"$f":"Заказ!V19","v":0}]
["8807200488216","00-00000069",null,"Колор","Sky Blue,  -3,50, 8,60",{"$f":"Заказ!V18","v":0}]
["8807200076918","00-00000069",null,"Колор","Sky Blue,  -3,00, 8,60",{"$f":"Заказ!V17","v":0}]
["8807200488179","00-00000069",null,"Колор","Sky Blue,  -2,50, 8,60",{"$f":"Заказ!V16","v":0}]
["8807200488155","00-00000069",null,"Колор","Sky Blue,  -2,00, 8,60",{"$f":"Заказ!V15","v":0}]
["8807200488131","00-00000069",null,"Колор","Sky Blue,  -1,50, 8,60",{"$f":"Заказ!V14","v":0}]
["8807200488117","00-00000069",null,"Колор","Sky Blue,  -1,00, 8,60",{"$f":"Заказ!V13","v":0}]
["8807200488094","00-00000069",null,"Колор","Sky Blue,  -0,50, 8,60",{"$f":"Заказ!V12","v":0}]
["8807200488070","00-00000069",null,"Колор","Sky Blue, 0,00, 8,60",{"$f":"Заказ!V11","v":0}]
["8807200493630","00-00000069",null,"Колор","Hazel,  -8,50, 8,60",{"$f":"Заказ!T28","v":0}]
["8807200493623","00-00000069",null,"Колор","Hazel,  -8,00, 8,60",{"$f":"Заказ!T27","v":0}]
["8807200493616","00-00000069",null,"Колор","Hazel,  -7,50, 8,60",{"$f":"Заказ!T26","v":0}]
["8807200493609","00-00000069",null,"Колор","Hazel,  -7,00, 8,60",{"$f":"Заказ!T25","v":0}]
["8807200493593","00-00000069",null,"Колор","Hazel,  -6,50, 8,60",{"$f":"Заказ!T24","v":0}]
["8807200493586","00-00000069",null,"Колор","Hazel,  -6,00, 8,60",{"$f":"Заказ!T23","v":0}]
["8807200493562","00-00000069",null,"Колор","Hazel,  -5,50, 8,60",{"$f":"Заказ!T22","v":0}]
["8807200493548","00-00000069",null,"Колор","Hazel,  -5,00, 8,60",{"$f":"Заказ!T21","v":0}]
["8807200493524","00-00000069",null,"Колор","Hazel,  -4,50, 8,60",{"$f":"Заказ!T20","v":0}]
["8807200493500","00-00000069",null,"Колор","Hazel,  -4,00, 8,60",{"$f":"Заказ!T19","v":0}]
["8807200493487","00-00000069",null,"Колор","Hazel,  -3,50, 8,60",{"$f":"Заказ!T18","v":0}]
["8807200493463","00-00000069",null,"Колор","Hazel,  -3,00, 8,60",{"$f":"Заказ!T17","v":0}]
["8807200493449","00-00000069",null,"Колор","Hazel,  -2,50, 8,60",{"$f":"Заказ!T16","v":0}]
["8807200493425","00-00000069",null,"Колор","Hazel,  -2,00, 8,60",{"$f":"Заказ!T15","v":0}]
["8807200493401","00-00000069",null,"Колор","Hazel,  -1,50, 8,60",{"$f":"Заказ!T14","v":0}]
["8807200493388","00-00000069",null,"Колор","Hazel,  -1,00, 8,60",{"$f":"Заказ!T13","v":0}]
["8807200493364","00-00000069",null,"Колор","Hazel,  -0,50, 8,60",{"$f":"Заказ!T12","v":0}]
["8807200493340","00-00000069",null,"Колор","Hazel, 0,00, 8,60",{"$f":"Заказ!T11","v":0}]
["8807200072439","00-00000069",null,"Колор","Brown,  -8,50, 8,60",{"$f":"Заказ!R28","v":0}]
["8807200072422","00-00000069",null,"Колор","Brown,  -8,00, 8,60",{"$f":"Заказ!R27","v":0}]
["8807200072415","00-00000069",null,"Колор","Brown,  -7,50, 8,60",{"$f":"Заказ!R26","v":0}]
["8807200072408","00-00000069",null,"Колор","Brown,  -7,00, 8,60",{"$f":"Заказ!R25","v":0}]
["8807200072392","00-00000069",null,"Колор","Brown,  -6,50, 8,60",{"$f":"Заказ!R24","v":0}]
["8807200486472","00-00000069",null,"Колор","Brown,  -6,00, 8,60",{"$f":"Заказ!R23","v":0}]
["8807200486458","00-00000069",null,"Колор","Brown,  -5,50, 8,60",{"$f":"Заказ!R22","v":0}]
["8807200486434","00-00000069",null,"Колор","Brown,  -5,00, 8,60",{"$f":"Заказ!R21","v":0}]
["8807200486410","00-00000069",null,"Колор","Brown,  -4,50, 8,60",{"$f":"Заказ!R20","v":0}]
["8807200486397","00-00000069",null,"Колор","Brown,  -4,00, 8,60",{"$f":"Заказ!R19","v":0}]
["8807200486373","00-00000069",null,"Колор","Brown,  -3,50, 8,60",{"$f":"Заказ!R18","v":0}]
["8807200486359","00-00000069",null,"Колор","Brown,  -3,00, 8,60",{"$f":"Заказ!R17","v":0}]
["8807200486335","00-00000069",null,"Колор","Brown,  -2,50, 8,60",{"$f":"Заказ!R16","v":0}]
["8807200486311","00-00000069",null,"Колор","Brown,  -2,00, 8,60",{"$f":"Заказ!R15","v":0}]
["8807200486298","00-00000069",null,"Колор","Brown,  -1,50, 8,60",{"$f":"Заказ!R14","v":0}]
["8807200486274","00-00000069",null,"Колор","Brown,  -1,00, 8,60",{"$f":"Заказ!R13","v":0}]
["8807200486250","00-00000069",null,"Колор","Brown,  -0,50, 8,60",{"$f":"Заказ!R12","v":0}]
["8807200486236","00-00000069",null,"Колор","Brown, 0,00, 8,60",{"$f":"Заказ!R11","v":0}]
["8807200488988","00-00000069",null,"Колор","Green,  -8,50, 8,60",{"$f":"Заказ!P28","v":0}]
["8807200488971","00-00000069",null,"Колор","Green,  -8,00, 8,60",{"$f":"Заказ!P27","v":0}]
["8807200488964","00-00000069",null,"Колор","Green,  -7,50, 8,60",{"$f":"Заказ!P26","v":0}]
["8807200488957","00-00000069",null,"Колор","Green,  -7,00, 8,60",{"$f":"Заказ!P25","v":0}]
["8807200488940","00-00000069",null,"Колор","Green,  -6,50, 8,60",{"$f":"Заказ!P24","v":0}]
["8807200488933","00-00000069",null,"Колор","Green,  -6,00, 8,60",{"$f":"Заказ!P23","v":0}]
["8807200488919","00-00000069",null,"Колор","Green,  -5,50, 8,60",{"$f":"Заказ!P22","v":0}]
["8807200488896","00-00000069",null,"Колор","Green,  -5,00, 8,60",{"$f":"Заказ!P21","v":0}]
["8807200488872","00-00000069",null,"Колор","Green,  -4,50, 8,60",{"$f":"Заказ!P20","v":0}]
["8807200488858","00-00000069",null,"Колор","Green,  -4,00, 8,60",{"$f":"Заказ!P19","v":0}]
["8807200488834","00-00000069",null,"Колор","Green,  -3,50, 8,60",{"$f":"Заказ!P18","v":0}]
["8807200488810","00-00000069",null,"Колор","Green,  -3,00, 8,60",{"$f":"Заказ!P17","v":0}]
["8807200488797","00-00000069",null,"Колор","Green,  -2,50, 8,60",{"$f":"Заказ!P16","v":0}]
["8807200488773","00-00000069",null,"Колор","Green,  -2,00, 8,60",{"$f":"Заказ!P15","v":0}]
["8807200488759","00-00000069",null,"Колор","Green,  -1,50, 8,60",{"$f":"Заказ!P14","v":0}]
["8807200488735","00-00000069",null,"Колор","Green,  -1,00, 8,60",{"$f":"Заказ!P13","v":0}]
["8807200488711","00-00000069",null,"Колор","Green,  -0,50, 8,60",{"$f":"Заказ!P12","v":0}]
["8807200488698","00-00000069",null,"Колор","Green, 0,00, 8,60",{"$f":"Заказ!P11","v":0}]
["8807200082353","00-00000069",null,"Колор","Gray,  -8,50, 8,60",{"$f":"Заказ!N28","v":0}]
["8807200489282","00-00000069",null,"Колор","Gray,  -8,00, 8,60",{"$f":"Заказ!N27","v":0}]
["8807200489275","00-00000069",null,"Колор","Gray,  -7,50, 8,60",{"$f":"Заказ!N26","v":0}]
["8807200489268","00-00000069",null,"Колор","Gray,  -7,00, 8,60",{"$f":"Заказ!N25","v":0}]
["8807200489251","00-00000069",null,"Колор","Gray,  -6,50, 8,60",{"$f":"Заказ!N24","v":0}]
["8807200489244","00-00000069",null,"Колор","Gray,  -6,00, 8,60",{"$f":"Заказ!N23","v":0}]
["8807200489220","00-00000069",null,"Колор","Gray,  -5,50, 8,60",{"$f":"Заказ!N22","v":0}]
["8807200489206","00-00000069",null,"Колор","Gray,  -5,00, 8,60",{"$f":"Заказ!N21","v":0}]
["8807200489183","00-00000069",null,"Колор","Gray,  -4,50, 8,60",{"$f":"Заказ!N20","v":0}]
["8807200489169","00-00000069",null,"Колор","Gray,  -4,00, 8,60",{"$f":"Заказ!N19","v":0}]
["8807200489145","00-00000069",null,"Колор","Gray,  -3,50, 8,60",{"$f":"Заказ!N18","v":0}]
["8807200489121","00-00000069",null,"Колор","Gray,  -3,00, 8,60",{"$f":"Заказ!N17","v":0}]
["8807200489107","00-00000069",null,"Колор","Gray,  -2,50, 8,60",{"$f":"Заказ!N16","v":0}]
["8807200489084","00-00000069",null,"Колор","Gray,  -2,00, 8,60",{"$f":"Заказ!N15","v":0}]
["8807200489060","00-00000069",null,"Колор","Gray,  -1,50, 8,60",{"$f":"Заказ!N14","v":0}]
["8807200489046","00-00000069",null,"Колор","Gray,  -1,00, 8,60",{"$f":"Заказ!N13","v":0}]
["8807200489022","00-00000069",null,"Колор","Gray,  -0,50, 8,60",{"$f":"Заказ!N12","v":0}]
["8807200489008","00-00000069",null,"Колор","Gray, 0,00, 8,60",{"$f":"Заказ!N11","v":0}]
["8807200488674","00-00000069",null,"Колор","Aqua,  -8,50, 8,60",{"$f":"Заказ!L28","v":0}]
["8807200488667","00-00000069",null,"Колор","Aqua,  -8,00, 8,60",{"$f":"Заказ!L27","v":0}]
["8807200488650","00-00000069",null,"Колор","Aqua,  -7,50, 8,60",{"$f":"Заказ!L26","v":0}]
["8807200488643","00-00000069",null,"Колор","Aqua,  -7,00, 8,60",{"$f":"Заказ!L25","v":0}]
["8807200488636","00-00000069",null,"Колор","Aqua,  -6,50, 8,60",{"$f":"Заказ!L24","v":0}]
["8807200488629","00-00000069",null,"Колор","Aqua,  -6,00, 8,60",{"$f":"Заказ!L23","v":0}]
["8807200488605","00-00000069",null,"Колор","Aqua,  -5,50, 8,60",{"$f":"Заказ!L22","v":0}]
["8807200488582","00-00000069",null,"Колор","Aqua,  -5,00, 8,60",{"$f":"Заказ!L21","v":0}]
["8807200488568","00-00000069",null,"Колор","Aqua,  -4,50, 8,60",{"$f":"Заказ!L20","v":0}]
["8807200077885","00-00000069",null,"Колор","Aqua,  -4,00, 8,60",{"$f":"Заказ!L19","v":0}]
["8807200488520","00-00000069",null,"Колор","Aqua,  -3,50, 8,60",{"$f":"Заказ!L18","v":0}]
["8807200488506","00-00000069",null,"Колор","Aqua,  -3,00, 8,60",{"$f":"Заказ!L17","v":0}]
["8807200488483","00-00000069",null,"Колор","Aqua,  -2,50, 8,60",{"$f":"Заказ!L16","v":0}]
["8807200488469","00-00000069",null,"Колор","Aqua,  -2,00, 8,60",{"$f":"Заказ!L15","v":0}]
["8807200488445","00-00000069",null,"Колор","Aqua,  -1,50, 8,60",{"$f":"Заказ!L14","v":0}]
["8807200488421","00-00000069",null,"Колор","Aqua,  -1,00, 8,60",{"$f":"Заказ!L13","v":0}]
["8807200488407","00-00000069",null,"Колор","Aqua,  -0,50, 8,60",{"$f":"Заказ!L12","v":0}]
["8807200488384","00-00000069",null,"Колор","Aqua, 0,00, 8,60",{"$f":"Заказ!L11","v":0}]
["8807200078943","00-00000069",null,"Колор","Turquoise/Tosca,  -8,50, 8,60",{"$f":"Заказ!J28","v":0}]
["8807200078936","00-00000069",null,"Колор","Turquoise/Tosca,  -8,00, 8,60",{"$f":"Заказ!J27","v":0}]
["8807200078929","00-00000069",null,"Колор","Turquoise/Tosca,  -7,50, 8,60",{"$f":"Заказ!J26","v":0}]
["8807200493913","00-00000069",null,"Колор","Turquoise/Tosca,  -7,00, 8,60",{"$f":"Заказ!J25","v":0}]
["8807200078905","00-00000069",null,"Колор","Turquoise/Tosca,  -6,50, 8,60",{"$f":"Заказ!J24","v":0}]
["8807200078899","00-00000069",null,"Колор","Turquoise/Tosca,  -6,00, 8,60",{"$f":"Заказ!J23","v":0}]
["8807200078875","00-00000069",null,"Колор","Turquoise/Tosca,  -5,50, 8,60",{"$f":"Заказ!J22","v":0}]
["8807200493852","00-00000069",null,"Колор","Turquoise/Tosca,  -5,00, 8,60",{"$f":"Заказ!J21","v":0}]
["8807200078837","00-00000069",null,"Колор","Turquoise/Tosca,  -4,50, 8,60",{"$f":"Заказ!J20","v":0}]
["8807200078813","00-00000069",null,"Колор","Turquoise/Tosca,  -4,00, 8,60",{"$f":"Заказ!J19","v":0}]
["8807200078790","00-00000069",null,"Колор","Turquoise/Tosca,  -3,50, 8,60",{"$f":"Заказ!J18","v":0}]
["8807200493777","00-00000069",null,"Колор","Turquoise/Tosca,  -3,00, 8,60",{"$f":"Заказ!J17","v":0}]
["8807200078752","00-00000069",null,"Колор","Turquoise/Tosca,  -2,50, 8,60",{"$f":"Заказ!J16","v":0}]
["8807200497157","00-00000069",null,"Колор","Turquoise/Tosca,  -2,00, 8,60",{"$f":"Заказ!J15","v":0}]
["8807200497133","00-00000069",null,"Колор","Turquoise/Tosca,  -1,50, 8,60",{"$f":"Заказ!J14","v":0}]
["8807200078691","00-00000069",null,"Колор","Turquoise/Tosca,  -1,00, 8,60",{"$f":"Заказ!J13","v":0}]
["8807200493678","00-00000069",null,"Колор","Turquoise/Tosca,  -0,50, 8,60",{"$f":"Заказ!J12","v":0}]
["8807200497072","00-00000069",null,"Колор","Turquoise/Tosca, 0,00, 8,60",{"$f":"Заказ!J11","v":0}]
["5052131965685","00-00000002",null,"OneDay (30бл)","-0,50, 8,6",{"$f":"Заказ!E10","v":0}]
["5052131965692","00-00000002",null,"OneDay (30бл)","-0,75, 8,6",{"$f":"Заказ!E11","v":0}]
["5052131965708","00-00000002",null,"OneDay (30бл)","-1,00, 8,6",{"$f":"Заказ!E12","v":0}]
["5052131965715","00-00000002",null,"OneDay (30бл)","-1,25, 8,6",{"$f":"Заказ!E13","v":0}]
["5052131965722","00-00000002",null,"OneDay (30бл)","-1,50, 8,6",{"$f":"Заказ!E14","v":0}]
["5052131965739","00-00000002",null,"OneDay (30бл)","-1,75, 8,6",{"$f":"Заказ!E15","v":0}]
["5052131965746","00-00000002",null,"OneDay (30бл)","-2,00, 8,6",{"$f":"Заказ!E16","v":0}]
["5052131965753","00-00000002",null,"OneDay (30бл)","-2,25, 8,6",{"$f":"Заказ!E17","v":0}]
["5052131965760","00-00000002",null,"OneDay (30бл)","-2,50, 8,6",{"$f":"Заказ!E18","v":0}]
["5052131965777","00-00000002",null,"OneDay (30бл)","-2,75, 8,6",{"$f":"Заказ!E19","v":0}]
["5052131965784","00-00000002",null,"OneDay (30бл)","-3,00, 8,6",{"$f":"Заказ!E20","v":0}]
["5052131965791","00-00000002",null,"OneDay (30бл)","-3,25, 8,6",{"$f":"Заказ!E21","v":0}]
["5052131965807","00-00000002",null,"OneDay (30бл)","-3,50, 8,6",{"$f":"Заказ!E22","v":0}]
["5052131965814","00-00000002",null,"OneDay (30бл)","-3,75, 8,6",{"$f":"Заказ!E23","v":0}]
["5052131965821","00-00000002",null,"OneDay (30бл)","-4,00, 8,6",{"$f":"Заказ!E24","v":0}]
["5052131965838","00-00000002",null,"OneDay (30бл)","-4,25, 8,6",{"$f":"Заказ!E25","v":0}]
["5052131965845","00-00000002",null,"OneDay (30бл)","-4,50, 8,6",{"$f":"Заказ!E26","v":0}]
["5052131965852","00-00000002",null,"OneDay (30бл)","-4,75, 8,6",{"$f":"Заказ!E27","v":0}]
["5052131965869","00-00000002",null,"OneDay (30бл)","-5,00, 8,6",{"$f":"Заказ!E28","v":0}]
["5052131965876","00-00000002",null,"OneDay (30бл)","-5,25, 8,6",{"$f":"Заказ!E29","v":0}]
["5052131965883","00-00000002",null,"OneDay (30бл)","-5,50, 8,6",{"$f":"Заказ!E30","v":0}]
["5052131965890","00-00000002",null,"OneDay (30бл)","-5,75, 8,6",{"$f":"Заказ!E31","v":0}]
["5052131965906","00-00000002",null,"OneDay (30бл)","-6,00, 8,6",{"$f":"Заказ!E32","v":0}]
["5052131965913","00-00000002",null,"OneDay (30бл)","-6,50, 8,6",{"$f":"Заказ!E33","v":0}]
["5052131965920","00-00000002",null,"OneDay (30бл)","-7,00, 8,6",{"$f":"Заказ!E34","v":0}]
["5052131965937","00-00000002",null,"OneDay (30бл)","-7,50, 8,6",{"$f":"Заказ!E35","v":0}]
["5052131965944","00-00000002",null,"OneDay (30бл)","-8,00, 8,6",{"$f":"Заказ!E36","v":0}]
["5052131965951","00-00000002",null,"OneDay (30бл)","-8,50, 8,6",{"$f":"Заказ!E37","v":0}]
["5052131965968","00-00000002",null,"OneDay (30бл)","-9,00, 8,6",{"$f":"Заказ!E38","v":0}]
["5052131965975","00-00000002",null,"OneDay (30бл)","-9,50, 8,6",{"$f":"Заказ!E39","v":0}]
["5052131965982","00-00000002",null,"OneDay (30бл)","-10,00, 8,6",{"$f":"Заказ!E40","v":0}]
["5052131965999","00-00000002",null,"OneDay (30бл)","+0,50, 8,6",{"$f":"Заказ!E41","v":0}]
["5052131966002","00-00000002",null,"OneDay (30бл)","+0,75, 8,6",{"$f":"Заказ!E42","v":0}]
["5052131966019","00-00000002",null,"OneDay (30бл)","+1,00, 8,6",{"$f":"Заказ!E43","v":0}]
["5052131966026","00-00000002",null,"OneDay (30бл)","+1,25, 8,6",{"$f":"Заказ!E44","v":0}]
["5052131966033","00-00000002",null,"OneDay (30бл)","+1,50, 8,6",{"$f":"Заказ!E45","v":0}]
["5052131966040","00-00000002",null,"OneDay (30бл)","+1,75, 8,6",{"$f":"Заказ!E46","v":0}]
["5052131966057","00-00000002",null,"OneDay (30бл)","+2,00, 8,6",{"$f":"Заказ!E47","v":0}]
["5052131966064","00-00000002",null,"OneDay (30бл)","+2,25, 8,6",{"$f":"Заказ!E48","v":0}]
["5052131966071","00-00000002",null,"OneDay (30бл)","+2,50, 8,6",{"$f":"Заказ!E49","v":0}]
["5052131966088","00-00000002",null,"OneDay (30бл)","+2,75, 8,6",{"$f":"Заказ!E50","v":0}]
["5052131966095","00-00000002",null,"OneDay (30бл)","+3,00, 8,6",{"$f":"Заказ!E51","v":0}]
["5052131966101","00-00000002",null,"OneDay (30бл)","+3,25, 8,6",{"$f":"Заказ!E52","v":0}]
["5052131966118","00-00000002",null,"OneDay (30бл)","+3,50, 8,6",{"$f":"Заказ!E53","v":0}]
["5052131966125","00-00000002",null,"OneDay (30бл)","+3,75, 8,6",{"$f":"Заказ!E54","v":0}]
["5052131966132","00-00000002",null,"OneDay (30бл)","+4,00, 8,6",{"$f":"Заказ!E55","v":0}]
["5052131966149","00-00000002",null,"OneDay (30бл)","+4,25, 8,6",{"$f":"Заказ!E56","v":0}]
["5052131966156","00-00000002",null,"OneDay (30бл)","+4,50, 8,6",{"$f":"Заказ!E57","v":0}]
["5052131966163","00-00000002",null,"OneDay (30бл)","+4,75, 8,6",{"$f":"Заказ!E58","v":0}]
["5052131966170","00-00000002",null,"OneDay (30бл)","+5,00, 8,6",{"$f":"Заказ!E59","v":0}]
["5052131966187","00-00000002",null,"OneDay (30бл)","+5,25, 8,6",{"$f":"Заказ!E60","v":0}]
["5052131966194","00-00000002",null,"OneDay (30бл)","+5,50, 8,6",{"$f":"Заказ!E61","v":0}]
["5052131966200","00-00000002",null,"OneDay (30бл)","+5,75, 8,6",{"$f":"Заказ!E62","v":0}]
["5052131966217","00-00000002",null,"OneDay (30бл)","+6,00, 8,6",{"$f":"Заказ!E63","v":0}]
["5052131966224","00-00000002",null,"OneDay (30бл)","+6,50, 8,6",{"$f":"Заказ!E64","v":0}]
["5052131966231","00-00000002",null,"OneDay (30бл)","+7,00, 8,6",{"$f":"Заказ!E65","v":0}]
["5052131966248","00-00000002",null,"OneDay (30бл)","+7,50, 8,6",{"$f":"Заказ!E66","v":0}]
["5052131966255","00-00000002",null,"OneDay (30бл)","+8,00, 8,6",{"$f":"Заказ!E67","v":0}]
["889071878721","00-00000004",null,"Profi (6бл)","-0,50, 8,6",{"$f":"Заказ!G10","v":0}]
["889071878714","00-00000004",null,"Profi (6бл)","-0,75, 8,6",{"$f":"Заказ!G11","v":0}]
["889071878707","00-00000004",null,"Profi (6бл)","-1,00, 8,6",{"$f":"Заказ!G12","v":0}]
["229071818691","00-00000004",null,"Profi (6бл)","-1,25, 8,6",{"$f":"Заказ!G13","v":0}]
["889071878684","00-00000004",null,"Profi (6бл)","-1,50, 8,6",{"$f":"Заказ!G14","v":0}]
["889071878677","00-00000004",null,"Profi (6бл)","-1,75, 8,6",{"$f":"Заказ!G15","v":0}]
["889071878660","00-00000004",null,"Profi (6бл)","-2,00, 8,6",{"$f":"Заказ!G16","v":0}]
["889071878653","00-00000004",null,"Profi (6бл)","-2,25, 8,6",{"$f":"Заказ!G17","v":0}]
["889071878646","00-00000004",null,"Profi (6бл)","-2,50, 8,6",{"$f":"Заказ!G18","v":0}]
["889071878639","00-00000004",null,"Profi (6бл)","-2,75, 8,6",{"$f":"Заказ!G19","v":0}]
["889071878622","00-00000004",null,"Profi (6бл)","-3,00, 8,6",{"$f":"Заказ!G20","v":0}]
["889071878615","00-00000004",null,"Profi (6бл)","-3,25, 8,6",{"$f":"Заказ!G21","v":0}]
["889071878608","00-00000004",null,"Profi (6бл)","-3,50, 8,6",{"$f":"Заказ!G22","v":0}]
["889071878592","00-00000004",null,"Profi (6бл)","-3,75, 8,6",{"$f":"Заказ!G23","v":0}]
["889071878585","00-00000004",null,"Profi (6бл)","-4,00, 8,6",{"$f":"Заказ!G24","v":0}]
["889071878578","00-00000004",null,"Profi (6бл)","-4,25, 8,6",{"$f":"Заказ!G25","v":0}]
["889071878561","00-00000004",null,"Profi (6бл)","-4,50, 8,6",{"$f":"Заказ!G26","v":0}]
["889071878554","00-00000004",null,"Profi (6бл)","-4,75, 8,6",{"$f":"Заказ!G27","v":0}]
["889071878547","00-00000004",null,"Profi (6бл)","-5,00, 8,6",{"$f":"Заказ!G28","v":0}]
["889071878530","00-00000004",null,"Profi (6бл)","-5,25, 8,6",{"$f":"Заказ!G29","v":0}]
["889071878523","00-00000004",null,"Profi (6бл)","-5,50, 8,6",{"$f":"Заказ!G30","v":0}]
["889071878516","00-00000004",null,"Profi (6бл)","-5,75, 8,6",{"$f":"Заказ!G31","v":0}]
["889071878509","00-00000004",null,"Profi (6бл)","-6,00, 8,6",{"$f":"Заказ!G32","v":0}]
["889071878486","00-00000004",null,"Profi (6бл)","-6,50, 8,6",{"$f":"Заказ!G33","v":0}]
["889071878462","00-00000004",null,"Profi (6бл)","-7,00, 8,6",{"$f":"Заказ!G34","v":0}]
["889071878448","00-00000004",null,"Profi (6бл)","-7,50, 8,6",{"$f":"Заказ!G35","v":0}]
["889071878424","00-00000004",null,"Profi (6бл)","-8,00, 8,6",{"$f":"Заказ!G36","v":0}]
["889071878417","00-00000004",null,"Profi (6бл)","-8,50, 8,6",{"$f":"Заказ!G37","v":0}]
["889071878400","00-00000004",null,"Profi (6бл)","-9,00, 8,6",{"$f":"Заказ!G38","v":0}]
["889071878394","00-00000004",null,"Profi (6бл)","-9,50, 8,6",{"$f":"Заказ!G39","v":0}]
["889071878387","00-00000004",null,"Profi (6бл)","-10,00, 8,6",{"$f":"Заказ!G40","v":0}]
["889071878110","00-00000004",null,"Profi (6бл)","+0,50, 8,6",{"$f":"Заказ!G41","v":0}]
["889071878127","00-00000004",null,"Profi (6бл)","+0,75, 8,6",{"$f":"Заказ!G42","v":0}]
["5052131131981","00-00000004",null,"Profi (6бл)","+1,00, 8,6",{"$f":"Заказ!G43","v":0}]
["889071878141","00-00000004",null,"Profi (6бл)","+1,25, 8,6",{"$f":"Заказ!G44","v":0}]
["5052131132001","00-00000004",null,"Profi (6бл)","+1,50, 8,6",{"$f":"Заказ!G45","v":0}]
["889071878165","00-00000004",null,"Profi (6бл)","+1,75, 8,6",{"$f":"Заказ!G46","v":0}]
["5052131132025","00-00000004",null,"Profi (6бл)","+2,00, 8,6",{"$f":"Заказ!G47","v":0}]
["889071878189","00-00000004",null,"Profi (6бл)","+2,25, 8,6",{"$f":"Заказ!G48","v":0}]
["889071878196","00-00000004",null,"Profi (6бл)","+2,50, 8,6",{"$f":"Заказ!G49","v":0}]
["889071878202","00-00000004",null,"Profi (6бл)","+2,75, 8,6",{"$f":"Заказ!G50","v":0}]
["889071878219","00-00000004",null,"Profi (6бл)","+3,00, 8,6",{"$f":"Заказ!G51","v":0}]
["889071878226","00-00000004",null,"Profi (6бл)","+3,25, 8,6",{"$f":"Заказ!G52","v":0}]
["889071878233","00-00000004",null,"Profi (6бл)","+3,50, 8,6",{"$f":"Заказ!G53","v":0}]
["889071878240","00-00000004",null,"Profi (6бл)","+3,75, 8,6",{"$f":"Заказ!G54","v":0}]
["889071878257","00-00000004",null,"Profi (6бл)","+4,00, 8,6",{"$f":"Заказ!G55","v":0}]
["889071878264","00-00000004",null,"Profi (6бл)","+4,25, 8,6",{"$f":"Заказ!G56","v":0}]
["889071878271","00-00000004",null,"Profi (6бл)","+4,50, 8,6",{"$f":"Заказ!G57","v":0}]
["889071878288","00-00000004",null,"Profi (6бл)","+4,75, 8,8",{"$f":"Заказ!G58","v":0}]
["889071878295","00-00000004",null,"Profi (6бл)","+5,00, 8,6",{"$f":"Заказ!G59","v":0}]
["889071878301","00-00000004",null,"Profi (6бл)","+5,25, 8,6",{"$f":"Заказ!G60","v":0}]
["889071878318","00-00000004",null,"Profi (6бл)","+5,50, 8,6",{"$f":"Заказ!G61","v":0}]
["889071878325","00-00000004",null,"Profi (6бл)","+5,75, 8,6",{"$f":"Заказ!G62","v":0}]
["889071878332","00-00000004",null,"Profi (6бл)","+6,00, 8,6",{"$f":"Заказ!G63","v":0}]
["889071878349","00-00000004",null,"Profi (6бл)","+6,50, 8,6",{"$f":"Заказ!G64","v":0}]
["889071878356","00-00000004",null,"Profi (6бл)","+7,00, 8,6",{"$f":"Заказ!G65","v":0}]
["889071878363","00-00000004",null,"Profi (6бл)","+7,50, 8,6",{"$f":"Заказ!G66","v":0}]
["889071878370","00-00000004",null,"Profi (6бл)","+8,00, 8,6",{"$f":"Заказ!G67","v":0}]
["ИТОГО:",null,null,null,null,{"$f":"SUM(F3:F859)","v":0}]

{"sheet":"Раств.+ Маски","index":2,"n_rows":11,"n_cols":10,"rows_kept":11,"cut":false,"hidden":false,"merged":[[0,0,0,9]]}
["Растворы для МКЛ и Маски"]
["Штрихкод","Код","Артикул","Номенклатура","Характеристика","Количество","Цена","% руч.","Сумма руч.","Сумма"]
[null,"00-00000075","К 010","Раствор Офтальмикс БИО 10 мл",null,{"$f":"Заказ!R55","v":0}]
[null,"00-00000081","SYN-60","Раствор для МКЛ \"ОФТАЛЬМИКС Premium Plus\" 60 мл",null,{"$f":"Заказ!R59","v":0}]
[null,"00-00000083","SYN-380","Раствор для МКЛ \"ОФТАЛЬМИКС Premium Plus\" 380 мл",null,{"$f":"Заказ!R61","v":0}]
[null,"00-00000082","SYN-250","Раствор для МКЛ \"ОФТАЛЬМИКС Premium Plus\" 250 мл",null,{"$f":"Заказ!R60","v":0}]
[null,"00-00000124","K80+К","Раствор Офтальмикс БИО 80 мл с контейнером",null,{"$f":"Заказ!R51","v":0}]
[null,"00-00000079","K385+К","Раствор Офтальмикс БИО 385 мл с контейнером",null,{"$f":"Заказ!R54","v":0}]
[null,"00-00000078","K270+К","Раствор Офтальмикс БИО 270 мл с контейнером",null,{"$f":"Заказ!R53","v":0}]
[null,"00-00000076","K160+К","Раствор Офтальмикс БИО 160 мл с контейнером",null,{"$f":"Заказ!R52","v":0}]
[null,"00-00000101",42916,"Маска паровая EYE-SPA®",null,{"$f":"Заказ!P69","v":0}]

{"sheet":"Диагностика","index":3,"n_rows":119,"n_cols":10,"rows_kept":119,"cut":false,"hidden":false,"merged":[[0,0,0,9]]}
["Диагностические линзы"]
["Штрихкод","Код","Артикул","Номенклатура","Характеристика","Количество","Цена","% руч.","Сумма руч.","Сумма"]
["5051805685041","00-00000086",null,"OneDay (5бл)","-0,50, 8,6",{"$f":"Заказ!E10","v":0}]
["5051805685058","00-00000086",null,"OneDay (5бл)","-0,75, 8,6",{"$f":"Заказ!E11","v":0}]
["5051805685065","00-00000086",null,"OneDay (5бл)","-1,00, 8,6",{"$f":"Заказ!E12","v":0}]
["5051805685072","00-00000086",null,"OneDay (5бл)","-1,25, 8,6",{"$f":"Заказ!E13","v":0}]
["5051805685089","00-00000086",null,"OneDay (5бл)","-1,50, 8,6",{"$f":"Заказ!E14","v":0}]
["5051805685096","00-00000086",null,"OneDay (5бл)","-1,75, 8,6",{"$f":"Заказ!E15","v":0}]
["5051805685102","00-00000086",null,"OneDay (5бл)","-2,00, 8,6",{"$f":"Заказ!E16","v":0}]
["5051805685119","00-00000086",null,"OneDay (5бл)","-2,25, 8,6",{"$f":"Заказ!E17","v":0}]
["5051805685126","00-00000086",null,"OneDay (5бл)","-2,50, 8,6",{"$f":"Заказ!E18","v":0}]
["5051805685133","00-00000086",null,"OneDay (5бл)","-2,75, 8,6",{"$f":"Заказ!E19","v":0}]
["5051805685584","00-00000086",null,"OneDay (5бл)","-3,00, 8,6",{"$f":"Заказ!E20","v":0}]
["5051805685140","00-00000086",null,"OneDay (5бл)","-3,25, 8,6",{"$f":"Заказ!E21","v":0}]
["5051805685157","00-00000086",null,"OneDay (5бл)","-3,50, 8,6",{"$f":"Заказ!E22","v":0}]
["5051805685164","00-00000086",null,"OneDay (5бл)","-3,75, 8,6",{"$f":"Заказ!E23","v":0}]
["5051805685171","00-00000086",null,"OneDay (5бл)","-4,00, 8,6",{"$f":"Заказ!E24","v":0}]
["5051805685188","00-00000086",null,"OneDay (5бл)","-4,25, 8,6",{"$f":"Заказ!E25","v":0}]
["5051805685195","00-00000086",null,"OneDay (5бл)","-4,50, 8,6",{"$f":"Заказ!E26","v":0}]
["5051805685201","00-00000086",null,"OneDay (5бл)","-4,75, 8,6",{"$f":"Заказ!E27","v":0}]
["5051805685218","00-00000086",null,"OneDay (5бл)","-5,00, 8,6",{"$f":"Заказ!E28","v":0}]
["5051805685225","00-00000086",null,"OneDay (5бл)","-5,25, 8,6",{"$f":"Заказ!E29","v":0}]
["5051805685232","00-00000086",null,"OneDay (5бл)","-5,50, 8,6",{"$f":"Заказ!E30","v":0}]
["5051805685249","00-00000086",null,"OneDay (5бл)","-5,75, 8,6",{"$f":"Заказ!E31","v":0}]
["5051805685256","00-00000086",null,"OneDay (5бл)","-6,00, 8,6",{"$f":"Заказ!E32","v":0}]
["5051805685263","00-00000086",null,"OneDay (5бл)","-6,50, 8,6",{"$f":"Заказ!E33","v":0}]
["5051805685270","00-00000086",null,"OneDay (5бл)","-7,00, 8,6",{"$f":"Заказ!E34","v":0}]
["5051805685287","00-00000086",null,"OneDay (5бл)","-7,50, 8,6",{"$f":"Заказ!E35","v":0}]
["5051805685294","00-00000086",null,"OneDay (5бл)","-8,00, 8,6",{"$f":"Заказ!E36","v":0}]
["5051805685300","00-00000086",null,"OneDay (5бл)","-8,50, 8,6",{"$f":"Заказ!E37","v":0}]
["5051805685317","00-00000086",null,"OneDay (5бл)","-9,00, 8,6",{"$f":"Заказ!E38","v":0}]
["5051805685324","00-00000086",null,"OneDay (5бл)","-9,50, 8,6",{"$f":"Заказ!E39","v":0}]
["5051805685331","00-00000086",null,"OneDay (5бл)","-10,00, 8,6",{"$f":"Заказ!E40","v":0}]
["5051805685348","00-00000086",null,"OneDay (5бл)","+0,50, 8,6",{"$f":"Заказ!E41","v":0}]
["5051805685355","00-00000086",null,"OneDay (5бл)","+0,75, 8,6",{"$f":"Заказ!E42","v":0}]
["5051805685362","00-00000086",null,"OneDay (5бл)","+1,00, 8,6",{"$f":"Заказ!E43","v":0}]
["5051805685379","00-00000086",null,"OneDay (5бл)","+1,25, 8,6",{"$f":"Заказ!E44","v":0}]
["5051805685386","00-00000086",null,"OneDay (5бл)","+1,50, 8,6",{"$f":"Заказ!E45","v":0}]
["5051805685393","00-00000086",null,"OneDay (5бл)","+1,75, 8,6",{"$f":"Заказ!E46","v":0}]
["5051805685409","00-00000086",null,"OneDay (5бл)","+2,00, 8,6",{"$f":"Заказ!E47","v":0}]
["5051805685416","00-00000086",null,"OneDay (5бл)","+2,25, 8,6",{"$f":"Заказ!E48","v":0}]
["5051805685423","00-00000086",null,"OneDay (5бл)","+2,50, 8,6",{"$f":"Заказ!E49","v":0}]
["5051805685430","00-00000086",null,"OneDay (5бл)","+2,75, 8,6",{"$f":"Заказ!E50","v":0}]
["5051805685591","00-00000086",null,"OneDay (5бл)","+3,00, 8,6",{"$f":"Заказ!E51","v":0}]
["5051805685447","00-00000086",null,"OneDay (5бл)","+3,25, 8,6",{"$f":"Заказ!E52","v":0}]
["5051805685454","00-00000086",null,"OneDay (5бл)","+3,50, 8,6",{"$f":"Заказ!E53","v":0}]
["5051805685461","00-00000086",null,"OneDay (5бл)","+3,75, 8,6",{"$f":"Заказ!E54","v":0}]
["5051805685478","00-00000086",null,"OneDay (5бл)","+4,00, 8,6",{"$f":"Заказ!E55","v":0}]
["5051805685485","00-00000086",null,"OneDay (5бл)","+4,25, 8,6",{"$f":"Заказ!E56","v":0}]
["5051805685492","00-00000086",null,"OneDay (5бл)","+4,50, 8,6",{"$f":"Заказ!E57","v":0}]
["5051805685508","00-00000086",null,"OneDay (5бл)","+4,75, 8,6",{"$f":"Заказ!E58","v":0}]
["5051805685515","00-00000086",null,"OneDay (5бл)","+5,00, 8,6",{"$f":"Заказ!E59","v":0}]
["5051805685522","00-00000086",null,"OneDay (5бл)","+5,25, 8,6",{"$f":"Заказ!E60","v":0}]
["5051805685539","00-00000086",null,"OneDay (5бл)","+5,50, 8,6",{"$f":"Заказ!E61","v":0}]
["5051805685546","00-00000086",null,"OneDay (5бл)","+5,75, 8,6",{"$f":"Заказ!E62","v":0}]
["5051805685553","00-00000086",null,"OneDay (5бл)","+6,00, 8,6",{"$f":"Заказ!E63","v":0}]
["5051805685560","00-00000086",null,"OneDay (5бл)","+6,50, 8,6",{"$f":"Заказ!E64","v":0}]
["5051805685577","00-00000086",null,"OneDay (5бл)","+7,00, 8,6",{"$f":"Заказ!E65","v":0}]
["5051805685607","00-00000086",null,"OneDay (5бл)","+7,50, 8,6",{"$f":"Заказ!E66","v":0}]
["5051805685614","00-00000086",null,"OneDay (5бл)","+8,00, 8,6",{"$f":"Заказ!E67","v":0}]
[null,"00-00000087",null,"Profi (1бл)","-0,50, 8,6",{"$f":"Заказ!G10","v":0}]
[null,"00-00000087",null,"Profi (1бл)","-0,75, 8,6",{"$f":"Заказ!G11","v":0}]
[null,"00-00000087",null,"Profi (1бл)","-1,00, 8,6",{"$f":"Заказ!G12","v":0}]
[null,"00-00000087",null,"Profi (1бл)","-1,25, 8,6",{"$f":"Заказ!G13","v":0}]
[null,"00-00000087",null,"Profi (1бл)","-1,50, 8,6",{"$f":"Заказ!G14","v":0}]
[null,"00-00000087",null,"Profi (1бл)","-1,75, 8,6",{"$f":"Заказ!G15","v":0}]
[null,"00-00000087",null,"Profi (1бл)","-2,00, 8,6",{"$f":"Заказ!G16","v":0}]
[null,"00-00000087",null,"Profi (1бл)","-2,25, 8,6",{"$f":"Заказ!G17","v":0}]
[null,"00-00000087",null,"Profi (1бл)","-2,50, 8,6",{"$f":"Заказ!G18","v":0}]
[null,"00-00000087",null,"Profi (1бл)","-2,75, 8,6",{"$f":"Заказ!G19","v":0}]
[null,"00-00000087",null,"Profi (1бл)","-3,00, 8,6",{"$f":"Заказ!G20","v":0}]
[null,"00-00000087",null,"Profi (1бл)","-3,25, 8,6",{"$f":"Заказ!G21","v":0}]
[null,"00-00000087",null,"Profi (1бл)","-3,50, 8,6",{"$f":"Заказ!G22","v":0}]
[null,"00-00000087",null,"Profi (1бл)","-3,75, 8,6",{"$f":"Заказ!G23","v":0}]
[null,"00-00000087",null,"Profi (1бл)","-4,00, 8,6",{"$f":"Заказ!G24","v":0}]
[null,"00-00000087",null,"Profi (1бл)","-4,25, 8,6",{"$f":"Заказ!G25","v":0}]
[null,"00-00000087",null,"Profi (1бл)","-4,50, 8,6",{"$f":"Заказ!G26","v":0}]
[null,"00-00000087",null,"Profi (1бл)","-4,75, 8,6",{"$f":"Заказ!G27","v":0}]
[null,"00-00000087",null,"Profi (1бл)","-5,00, 8,6",{"$f":"Заказ!G28","v":0}]
[null,"00-00000087",null,"Profi (1бл)","-5,25, 8,6",{"$f":"Заказ!G29","v":0}]
[null,"00-00000087",null,"Profi (1бл)","-5,50, 8,6",{"$f":"Заказ!G30","v":0}]
[null,"00-00000087",null,"Profi (1бл)","-5,75, 8,6",{"$f":"Заказ!G31","v":0}]
[null,"00-00000087",null,"Profi (1бл)","-6,00, 8,6",{"$f":"Заказ!G32","v":0}]
[null,"00-00000087",null,"Profi (1бл)","-6,50, 8,6",{"$f":"Заказ!G33","v":0}]
[null,"00-00000087",null,"Profi (1бл)","-7,00, 8,6",{"$f":"Заказ!G34","v":0}]
[null,"00-00000087",null,"Profi (1бл)","-7,50, 8,6",{"$f":"Заказ!G35","v":0}]
[null,"00-00000087",null,"Profi (1бл)","-8,00, 8,6",{"$f":"Заказ!G36","v":0}]
[null,"00-00000087",null,"Profi (1бл)","-8,50, 8,6",{"$f":"Заказ!G37","v":0}]
[null,"00-00000087",null,"Profi (1бл)","-9,00, 8,6",{"$f":"Заказ!G38","v":0}]
[null,"00-00000087",null,"Profi (1бл)","-9,50, 8,6",{"$f":"Заказ!G39","v":0}]
[null,"00-00000087",null,"Profi (1бл)","-10,00, 8,6",{"$f":"Заказ!G40","v":0}]
[null,"00-00000087",null,"Profi (1бл)","+0,50, 8,6",{"$f":"Заказ!G41","v":0}]
[null,"00-00000087",null,"Profi (1бл)","+0,75, 8,6",{"$f":"Заказ!G42","v":0}]
[null,"00-00000087",null,"Profi (1бл)","+1,00, 8,6",{"$f":"Заказ!G43","v":0}]
[null,"00-00000087",null,"Profi (1бл)","+1,25, 8,6",{"$f":"Заказ!G44","v":0}]
[null,"00-00000087",null,"Profi (1бл)","+1,50, 8,6",{"$f":"Заказ!G45","v":0}]
[null,"00-00000087",null,"Profi (1бл)","+1,75, 8,6",{"$f":"Заказ!G46","v":0}]
[null,"00-00000087",null,"Profi (1бл)","+2,00, 8,6",{"$f":"Заказ!G47","v":0}]
[null,"00-00000087",null,"Profi (1бл)","+2,25, 8,6",{"$f":"Заказ!G48","v":0}]
[null,"00-00000087",null,"Profi (1бл)","+2,50, 8,6",{"$f":"Заказ!G49","v":0}]
[null,"00-00000087",null,"Profi (1бл)","+2,75, 8,6",{"$f":"Заказ!G50","v":0}]
[null,"00-00000087",null,"Profi (1бл)","+3,00, 8,6",{"$f":"Заказ!G51","v":0}]
[null,"00-00000087",null,"Profi (1бл)","+3,25, 8,6",{"$f":"Заказ!G52","v":0}]
[null,"00-00000087",null,"Profi (1бл)","+3,50, 8,6",{"$f":"Заказ!G53","v":0}]
[null,"00-00000087",null,"Profi (1бл)","+3,75, 8,6",{"$f":"Заказ!G54","v":0}]
[null,"00-00000087",null,"Profi (1бл)","+4,00, 8,6",{"$f":"Заказ!G55","v":0}]
[null,"00-00000087",null,"Profi (1бл)","+4,25, 8,6",{"$f":"Заказ!G56","v":0}]
[null,"00-00000087",null,"Profi (1бл)","+4,50, 8,6",{"$f":"Заказ!G57","v":0}]
[null,"00-00000087",null,"Profi (1бл)","+4,75, 8,8",{"$f":"Заказ!G58","v":0}]
[null,"00-00000087",null,"Profi (1бл)","+5,00, 8,6",{"$f":"Заказ!G59","v":0}]
[null,"00-00000087",null,"Profi (1бл)","+5,25, 8,6",{"$f":"Заказ!G60","v":0}]
[null,"00-00000087",null,"Profi (1бл)","+5,50, 8,6",{"$f":"Заказ!G61","v":0}]
[null,"00-00000087",null,"Profi (1бл)","+5,75, 8,6",{"$f":"Заказ!G62","v":0}]
[null,"00-00000087",null,"Profi (1бл)","+6,00, 8,6",{"$f":"Заказ!G63","v":0}]
[null,"00-00000087",null,"Profi (1бл)","+6,50, 8,6",{"$f":"Заказ!G64","v":0}]
[null,"00-00000087",null,"Profi (1бл)","+7,00, 8,6",{"$f":"Заказ!G65","v":0}]
[null,"00-00000087",null,"Profi (1бл)","+7,50, 8,6",{"$f":"Заказ!G66","v":0}]
[null,"00-00000087",null,"Profi (1бл)","+8,00, 8,6",{"$f":"Заказ!G67","v":0}]
["ИТОГО:",null,null,null,null,{"$f":"SUM(F3:F118)","v":0}]